Workbook

Sheet Base_Calculadora
A1: Codigo | B1: Nro | C1: Concat | D1: FSR | E1: Mes | F1: Branch | G1: FSM | H1: Position | I1: Seniority | J1: FSR | K1: Ventas Mes Ant | L1: Ventas Acum | M1: Concat2
A2: =IFERROR(VLOOKUP(F2,Códigos!$A$1:$B$29,2,0),"") -> 458721 | B2: =IFERROR(IF(F2=F1,B1+1,1),0) -> 1 | C2: =E2&A2&B2 -> diciembre4587211 | D2: =J2 -> Liliana Dominguez Salcedo | E2: diciembre | F2: AC1 | G2: Loris Stipulante | H2: Field Sales Installer | I2: M4 | J2: Liliana Dominguez Salcedo | K2: 22 | L2: 38 | M2: =A2&E2 -> 458721diciembre
A3: =IFERROR(VLOOKUP(F3,Códigos!$A$1:$B$29,2,0),"") -> 458721 | B3: =IFERROR(IF(F3=F2,B2+1,1),0) -> 2 | C3: =E3&A3&B3 -> diciembre4587212 | D3: =J3 -> Juan Pablo Ruiz Ñiguez | E3: diciembre | F3: AC1 | G3: Valentina Mari Moriondo | H3: Field Sales Installer (NFS) | I3: M2 | J3: Juan Pablo Ruiz Ñiguez | K3: 6 | L3: 6 | M3: =A3&E3 -> 458721diciembre
A4: =IFERROR(VLOOKUP(F4,Códigos!$A$1:$B$29,2,0),"") -> 458721 | B4: =IFERROR(IF(F4=F3,B3+1,1),0) -> 3 | C4: =E4&A4&B4 -> diciembre4587213 | D4: =J4 -> Norberto Navarro Obrador | E4: diciembre | F4: AC1 | G4: Valentina Mari Moriondo | H4: Team Coach | I4: Experienced | J4: Norberto Navarro Obrador | K4: 13 | L4: 63 | M4: =A4&E4 -> 458721diciembre
A5: =IFERROR(VLOOKUP(F5,Códigos!$A$1:$B$29,2,0),"") -> 458721 | B5: =IFERROR(IF(F5=F4,B4+1,1),0) -> 4 | C5: =E5&A5&B5 -> diciembre4587214 | D5: =J5 -> Adam Kaab | E5: diciembre | F5: AC1 | G5: Loris Stipulante | H5: Field Sales Installer (NFS) | I5: M2 | J5: Adam Kaab | K5: 8 | L5: 8 | M5: =A5&E5 -> 458721diciembre
A6: =IFERROR(VLOOKUP(F6,Códigos!$A$1:$B$29,2,0),"") -> 458721 | B6: =IFERROR(IF(F6=F5,B5+1,1),0) -> 5 | C6: =E6&A6&B6 -> diciembre4587215 | D6: =J6 -> Sergi Domenech Planelles | E6: diciembre | F6: AC1 | G6: Loris Stipulante | H6: Field Sales Installer (NFS) | I6: M2 | J6: Sergi Domenech Planelles | K6: 12 | L6: 13 | M6: =A6&E6 -> 458721diciembre
A7: =IFERROR(VLOOKUP(F7,Códigos!$A$1:$B$29,2,0),"") -> 458721 | B7: =IFERROR(IF(F7=F6,B6+1,1),0) -> 6 | C7: =E7&A7&B7 -> diciembre4587216 | D7: =J7 -> Dante Ronzoni Perlini | E7: diciembre | F7: AC1 | G7: Juan Manuel Moreno Martinez | H7: Field Sales Installer | I7: Experienced | J7: Dante Ronzoni Perlini | K7: 11 | L7: 49 | M7: =A7&E7 -> 458721diciembre
A8: =IFERROR(VLOOKUP(F8,Códigos!$A$1:$B$29,2,0),"") -> 458721 | B8: =IFERROR(IF(F8=F7,B7+1,1),0) -> 7 | C8: =E8&A8&B8 -> diciembre4587217 | D8: =J8 -> Nicolas Bermudez Duran | E8: diciembre | F8: AC1 | G8: Loris Stipulante | H8: Field Sales Installer (NFS) | I8: M2 | J8: Nicolas Bermudez Duran | K8: 9 | L8: 9 | M8: =A8&E8 -> 458721diciembre
A9: =IFERROR(VLOOKUP(F9,Códigos!$A$1:$B$29,2,0),"") -> 458721 | B9: =IFERROR(IF(F9=F8,B8+1,1),0) -> 8 | C9: =E9&A9&B9 -> diciembre4587218 | D9: =J9 -> Francisco Javier Muñoz Ambit | E9: diciembre | F9: AC1 | G9: Loris Stipulante | H9: Team Coach | I9: Experienced | J9: Francisco Javier Muñoz Ambit | K9: 14 | L9: 69 | M9: =A9&E9 -> 458721diciembre
A10: =IFERROR(VLOOKUP(F10,Códigos!$A$1:$B$29,2,0),"") -> 458721 | B10: =IFERROR(IF(F10=F9,B9+1,1),0) -> 9 | C10: =E10&A10&B10 -> diciembre4587219 | D10: =J10 -> David Salinas Artiaga | E10: diciembre | F10: AC1 | G10: Juan Manuel Moreno Martinez | H10: Field Sales Installer (NFS) | I10: M3 | J10: David Salinas Artiaga | K10: 12 | L10: 17 | M10: =A10&E10 -> 458721diciembre
A11: =IFERROR(VLOOKUP(F11,Códigos!$A$1:$B$29,2,0),"") -> 458721 | B11: =IFERROR(IF(F11=F10,B10+1,1),0) -> 10 | C11: =E11&A11&B11 -> diciembre45872110 | D11: =J11 -> Daniel Monllor Picon | E11: diciembre | F11: AC1 | G11: Valentina Mari Moriondo | H11: Field Sales Installer (NFS) | I11: M2 | J11: Daniel Monllor Picon | K11: 7 | L11: 9 | M11: =A11&E11 -> 458721diciembre
A12: =IFERROR(VLOOKUP(F12,Códigos!$A$1:$B$29,2,0),"") -> 458721 | B12: =IFERROR(IF(F12=F11,B11+1,1),0) -> 11 | C12: =E12&A12&B12 -> diciembre45872111 | D12: =J12 -> Alejandro Garcia Sanchez | E12: diciembre | F12: AC1 | G12: Loris Stipulante | H12: Team Coach | I12: Senior | J12: Alejandro Garcia Sanchez | K12: 11 | L12: 138 | M12: =A12&E12 -> 458721diciembre
A13: =IFERROR(VLOOKUP(F13,Códigos!$A$1:$B$29,2,0),"") -> 458721 | B13: =IFERROR(IF(F13=F12,B12+1,1),0) -> 12 | C13: =E13&A13&B13 -> diciembre45872112 | D13: =J13 -> Jose Luis Rius Castillo | E13: diciembre | F13: AC1 | G13: Valentina Mari Moriondo | H13: Field Sales Installer | I13: Experienced | J13: Jose Luis Rius Castillo | K13: 15 | L13: 50 | M13: =A13&E13 -> 458721diciembre
... A289: =IFERROR(VLOOKUP(F289,Códigos!$A$1:$B$29,2,0),"") -> 427573 | B289: =IFERROR(IF(F289=F288,B288+1,1),0) -> 11 | C289: =E289&A289&B289 -> diciembre42757311 | D289: =J289 -> Daniela Alejandra Duarte | E289: diciembre | F289: VA1 | G289: Ramon Giron Merino | H289: Field Sales Installer (NFS) | I289: M2 | J289: Daniela Alejandra Duarte | K289: 6 | L289: 6 | M289: =A289&E289 -> 427573diciembre
A290: =IFERROR(VLOOKUP(F290,Códigos!$A$1:$B$29,2,0),"") | B290: =IFERROR(IF(F290=F289,B289+1,1),0) -> 1 | C290: =E290&A290&B290 -> 1 | D290: =J290 -> 0 | M290: =A290&E290
A291: =IFERROR(VLOOKUP(F291,Códigos!$A$1:$B$29,2,0),"") | B291: =IFERROR(IF(F291=F290,B290+1,1),0) -> 2 | C291: =E291&A291&B291 -> 2 | D291: =J291 -> 0 | M291: =A291&E291
A292: =IFERROR(VLOOKUP(F292,Códigos!$A$1:$B$29,2,0),"") | B292: =IFERROR(IF(F292=F291,B291+1,1),0) -> 3 | C292: =E292&A292&B292 -> 3 | D292: =J292 -> 0 | M292: =A292&E292
A293: =IFERROR(VLOOKUP(F293,Códigos!$A$1:$B$29,2,0),"") | B293: =IFERROR(IF(F293=F292,B292+1,1),0) -> 4 | C293: =E293&A293&B293 -> 4 | D293: =J293 -> 0 | M293: =A293&E293
A294: =IFERROR(VLOOKUP(F294,Códigos!$A$1:$B$29,2,0),"") | B294: =IFERROR(IF(F294=F293,B293+1,1),0) -> 5 | C294: =E294&A294&B294 -> 5 | D294: =J294 -> 0 | M294: =A294&E294
A295: =IFERROR(VLOOKUP(F295,Códigos!$A$1:$B$29,2,0),"") | B295: =IFERROR(IF(F295=F294,B294+1,1),0) -> 6 | C295: =E295&A295&B295 -> 6 | D295: =J295 -> 0 | M295: =A295&E295
A296: =IFERROR(VLOOKUP(F296,Códigos!$A$1:$B$29,2,0),"") | B296: =IFERROR(IF(F296=F295,B295+1,1),0) -> 7 | C296: =E296&A296&B296 -> 7 | D296: =J296 -> 0 | M296: =A296&E296
A297: =IFERROR(VLOOKUP(F297,Códigos!$A$1:$B$29,2,0),"") | B297: =IFERROR(IF(F297=F296,B296+1,1),0) -> 8 | C297: =E297&A297&B297 -> 8 | D297: =J297 -> 0 | M297: =A297&E297
A298: =IFERROR(VLOOKUP(F298,Códigos!$A$1:$B$29,2,0),"") | B298: =IFERROR(IF(F298=F297,B297+1,1),0) -> 9 | C298: =E298&A298&B298 -> 9 | D298: =J298 -> 0 | M298: =A298&E298
A299: =IFERROR(VLOOKUP(F299,Códigos!$A$1:$B$29,2,0),"") | B299: =IFERROR(IF(F299=F298,B298+1,1),0) -> 10 | C299: =E299&A299&B299 -> 10 | D299: =J299 -> 0 | M299: =A299&E299
A300: =IFERROR(VLOOKUP(F300,Códigos!$A$1:$B$29,2,0),"") | B300: =IFERROR(IF(F300=F299,B299+1,1),0) -> 11 | C300: =E300&A300&B300 -> 11 | D300: =J300 -> 0 | M300: =A300&E300
A301: =IFERROR(VLOOKUP(F301,Códigos!$A$1:$B$29,2,0),"") | B301: =IFERROR(IF(F301=F300,B300+1,1),0) -> 12 | C301: =E301&A301&B301 -> 12 | D301: =J301 -> 0 | M301: =A301&E301
... A321: =IFERROR(VLOOKUP(F321,Códigos!$A$1:$B$29,2,0),"") | B321: =IFERROR(IF(F321=F320,B320+1,1),0) -> 32 | C321: =E321&A321&B321 -> 32 | D321: =J321 -> 0 | M321: =A321&E321
M322: =A322&E322

Sheet ListaDespelgable
C1: LISTA DESPLEGABLE FSM | H1: Region | I1: Branch | J1: FSM | N1: Region | O1: Branch | P1: FSM | Q1: FSR
A2: =Inicio!$C$15&B2 -> 1 | B2: 1 | C2: =IFERROR(VLOOKUP($A2,$F:$J,5,0),"") | D2: =IFERROR(LEFT(C2, SEARCH(" ", C2) - 1),"") | F2: =VLOOKUP(I2,Códigos!A:B,2,0)&G2 -> 1243981 | G2: =+IF(I2=I1,G1+1,1) -> 1 | H2: Andalucía | I2: AL1 | J2: Cristina Maturano Milena | L2: =VLOOKUP(O2,Códigos!A:B,2,0)&P2&M2 -> 124398Cristina Maturano Milena1 | M2: =+IF(P2=P1,M1+1,1) -> 1 | N2: Andalucía | O2: AL1 | P2: Cristina Maturano Milena | Q2: Antonio Perez Viñolo
A3: =Inicio!$C$15&B3 -> 2 | B3: 2 | C3: =IFERROR(VLOOKUP($A3,$F:$J,5,0),"") | D3: =IFERROR(LEFT(C3, SEARCH(" ", C3) - 1),"") | F3: =VLOOKUP(I3,Códigos!A:B,2,0)&G3 -> 9187811 | G3: =+IF(I3=I2,G2+1,1) -> 1 | H3: Andalucía | I3: CA1 | J3: Alberto Cunquero Sevilla | L3: =VLOOKUP(O3,Códigos!A:B,2,0)&P3&M3 -> 124398Cristina Maturano Milena2 | M3: =+IF(P3=P2,M2+1,1) -> 2 | N3: Andalucía | O3: AL1 | P3: Cristina Maturano Milena | Q3: Darius Emanuel Luca
A4: =Inicio!$C$15&B4 -> 3 | B4: 3 | C4: =IFERROR(VLOOKUP($A4,$F:$J,5,0),"") | D4: =IFERROR(LEFT(C4, SEARCH(" ", C4) - 1),"") | F4: =VLOOKUP(I4,Códigos!A:B,2,0)&G4 -> 1324231 | G4: =+IF(I4=I3,G3+1,1) -> 1 | H4: Andalucía | I4: GR1 | J4: Francisca Maria Lara Santos | L4: =VLOOKUP(O4,Códigos!A:B,2,0)&P4&M4 -> 124398Cristina Maturano Milena3 | M4: =+IF(P4=P3,M3+1,1) -> 3 | N4: Andalucía | O4: AL1 | P4: Cristina Maturano Milena | Q4: Luis Fernando Cardona Gonzalez
A5: =Inicio!$C$15&B5 -> 4 | B5: 4 | C5: =IFERROR(VLOOKUP($A5,$F:$J,5,0),"") | D5: =IFERROR(LEFT(C5, SEARCH(" ", C5) - 1),"") | F5: =VLOOKUP(I5,Códigos!A:B,2,0)&G5 -> 1324232 | G5: =+IF(I5=I4,G4+1,1) -> 2 | H5: Andalucía | I5: GR1 | J5: Laura Toro Saavedra | L5: =VLOOKUP(O5,Códigos!A:B,2,0)&P5&M5 -> 124398Cristina Maturano Milena4 | M5: =+IF(P5=P4,M4+1,1) -> 4 | N5: Andalucía | O5: AL1 | P5: Cristina Maturano Milena | Q5: Nathanael Paz Tejero
A6: =Inicio!$C$15&B6 -> 5 | B6: 5 | C6: =IFERROR(VLOOKUP($A6,$F:$J,5,0),"") | D6: =IFERROR(LEFT(C6, SEARCH(" ", C6) - 1),"") | F6: =VLOOKUP(I6,Códigos!A:B,2,0)&G6 -> 6578451 | G6: =+IF(I6=I5,G5+1,1) -> 1 | H6: Andalucía | I6: MA1 | J6: Ana Belen Garrido España | L6: =VLOOKUP(O6,Códigos!A:B,2,0)&P6&M6 -> 124398Cristina Maturano Milena5 | M6: =+IF(P6=P5,M5+1,1) -> 5 | N6: Andalucía | O6: AL1 | P6: Cristina Maturano Milena | Q6: Pedro Manuel Fernandez Cortes
A7: =Inicio!$C$15&B7 -> 6 | B7: 6 | C7: =IFERROR(VLOOKUP($A7,$F:$J,5,0),"") | D7: =IFERROR(LEFT(C7, SEARCH(" ", C7) - 1),"") | F7: =VLOOKUP(I7,Códigos!A:B,2,0)&G7 -> 6578452 | G7: =+IF(I7=I6,G6+1,1) -> 2 | H7: Andalucía | I7: MA1 | J7: Blanca Berbel Navarro | L7: =VLOOKUP(O7,Códigos!A:B,2,0)&P7&M7 -> 124398Cristina Maturano Milena6 | M7: =+IF(P7=P6,M6+1,1) -> 6 | N7: Andalucía | O7: AL1 | P7: Cristina Maturano Milena | Q7: Victor Tortosa Capilla
A8: =Inicio!$C$15&B8 -> 7 | B8: 7 | C8: =IFERROR(VLOOKUP($A8,$F:$J,5,0),"") | D8: =IFERROR(LEFT(C8, SEARCH(" ", C8) - 1),"") | F8: =VLOOKUP(I8,Códigos!A:B,2,0)&G8 -> 7932111 | G8: =+IF(I8=I7,G7+1,1) -> 1 | H8: Andalucía | I8: MA2 | J8: Augusto Nuñez | L8: =VLOOKUP(O8,Códigos!A:B,2,0)&P8&M8 -> 918781Alberto Cunquero Sevilla1 | M8: =+IF(P8=P7,M7+1,1) -> 1 | N8: Andalucía | O8: CA1 | P8: Alberto Cunquero Sevilla | Q8: Alejandro Agreda Ramos
A9: =Inicio!$C$15&B9 -> 8 | B9: 8 | C9: =IFERROR(VLOOKUP($A9,$F:$J,5,0),"") | D9: =IFERROR(LEFT(C9, SEARCH(" ", C9) - 1),"") | F9: =VLOOKUP(I9,Códigos!A:B,2,0)&G9 -> 7932112 | G9: =+IF(I9=I8,G8+1,1) -> 2 | H9: Andalucía | I9: MA2 | J9: Laura Caballero Muñoz | L9: =VLOOKUP(O9,Códigos!A:B,2,0)&P9&M9 -> 918781Alberto Cunquero Sevilla2 | M9: =+IF(P9=P8,M8+1,1) -> 2 | N9: Andalucía | O9: CA1 | P9: Alberto Cunquero Sevilla | Q9: Jose Reverte Aguilera
A10: =Inicio!$C$15&B10 -> 9 | B10: 9 | C10: =IFERROR(VLOOKUP($A10,$F:$J,5,0),"") | D10: =IFERROR(LEFT(C10, SEARCH(" ", C10) - 1),"") | F10: =VLOOKUP(I10,Códigos!A:B,2,0)&G10 -> 7932113 | G10: =+IF(I10=I9,G9+1,1) -> 3 | H10: Andalucía | I10: MA2 | J10: Franco Leonel Gómez Gónzalez | L10: =VLOOKUP(O10,Códigos!A:B,2,0)&P10&M10 -> 918781Alberto Cunquero Sevilla3 | M10: =+IF(P10=P9,M9+1,1) -> 3 | N10: Andalucía | O10: CA1 | P10: Alberto Cunquero Sevilla | Q10: Manuel Vera Gomez
A11: =Inicio!$C$15&B11 -> 10 | B11: 10 | C11: =IFERROR(VLOOKUP($A11,$F:$J,5,0),"") | D11: =IFERROR(LEFT(C11, SEARCH(" ", C11) - 1),"") | F11: =VLOOKUP(I11,Códigos!A:B,2,0)&G11 -> 2345731 | G11: =+IF(I11=I10,G10+1,1) -> 1 | H11: Andalucía | I11: MA3 | J11: Emiliano Hnatiuk | L11: =VLOOKUP(O11,Códigos!A:B,2,0)&P11&M11 -> 918781Alberto Cunquero Sevilla4 | M11: =+IF(P11=P10,M10+1,1) -> 4 | N11: Andalucía | O11: CA1 | P11: Alberto Cunquero Sevilla | Q11: Raul Mata Vazquez
F12: =VLOOKUP(I12,Códigos!A:B,2,0)&G12 -> 2345732 | G12: =+IF(I12=I11,G11+1,1) -> 2 | H12: Andalucía | I12: MA3 | J12: Francisco Ruiz Garcia | L12: =VLOOKUP(O12,Códigos!A:B,2,0)&P12&M12 -> 918781Alberto Cunquero Sevilla5 | M12: =+IF(P12=P11,M11+1,1) -> 5 | N12: Andalucía | O12: CA1 | P12: Alberto Cunquero Sevilla | Q12: Ruben Lillo Mendez
F13: =VLOOKUP(I13,Códigos!A:B,2,0)&G13 -> 2389421 | G13: =+IF(I13=I12,G12+1,1) -> 1 | H13: Andalucía | I13: SE1 | J13: Raul Ordoñez Labado | L13: =VLOOKUP(O13,Códigos!A:B,2,0)&P13&M13 -> 132423Francisca Maria Lara Santos1 | M13: =+IF(P13=P12,M12+1,1) -> 1 | N13: Andalucía | O13: GR1 | P13: Francisca Maria Lara Santos | Q13: Agustin Ramirez Garcia
C14: LISTA DESPLEGABLE FSR | F14: =VLOOKUP(I14,Códigos!A:B,2,0)&G14 -> 2389422 | G14: =+IF(I14=I13,G13+1,1) -> 2 | H14: Andalucía | I14: SE1 | J14: Antonio de Castro Campillos | L14: =VLOOKUP(O14,Códigos!A:B,2,0)&P14&M14 -> 132423Francisca Maria Lara Santos2 | M14: =+IF(P14=P13,M13+1,1) -> 2 | N14: Andalucía | O14: GR1 | P14: Francisca Maria Lara Santos | Q14: Antonio Bello Gonzalez
C15: FSR NUEVO | F15: =VLOOKUP(I15,Códigos!A:B,2,0)&G15 -> 4369411 | G15: =+IF(I15=I14,G14+1,1) -> 1 | H15: Catanarias | I15: BN1 | J15: Javier Paramo Cifrian | L15: =VLOOKUP(O15,Códigos!A:B,2,0)&P15&M15 -> 132423Francisca Maria Lara Santos3 | M15: =+IF(P15=P14,M14+1,1) -> 3 | N15: Andalucía | O15: GR1 | P15: Francisca Maria Lara Santos | Q15: Francisco de Asis Delgado Checa
A16: =Inicio!$C$15&Inicio!$C$20&B16 -> 1 | B16: 1 | C16: =IFERROR(VLOOKUP($A16,$L:$Q,6,0),"") | F16: =VLOOKUP(I16,Códigos!A:B,2,0)&G16 -> 4369412 | G16: =+IF(I16=I15,G15+1,1) -> 2 | H16: Catanarias | I16: BN1 | J16: David Perez Galindo | L16: =VLOOKUP(O16,Códigos!A:B,2,0)&P16&M16 -> 132423Francisca Maria Lara Santos4 | M16: =+IF(P16=P15,M15+1,1) -> 4 | N16: Andalucía | O16: GR1 | P16: Francisca Maria Lara Santos | Q16: Hugo Genier Zamora Cantarero
A17: =Inicio!$C$15&Inicio!$C$20&B17 -> 2 | B17: 2 | C17: =IFERROR(VLOOKUP($A17,$L:$Q,6,0),"") | F17: =VLOOKUP(I17,Códigos!A:B,2,0)&G17 -> 4369413 | G17: =+IF(I17=I16,G16+1,1) -> 3 | H17: Catanarias | I17: BN1 | J17: Matias Emmanuel Elizagoyen | L17: =VLOOKUP(O17,Códigos!A:B,2,0)&P17&M17 -> 132423Francisca Maria Lara Santos5 | M17: =+IF(P17=P16,M16+1,1) -> 5 | N17: Andalucía | O17: GR1 | P17: Francisca Maria Lara Santos | Q17: Jose Claudio Porras Rodriguez
A18: =Inicio!$C$15&Inicio!$C$20&B18 -> 3 | B18: 3 | C18: =IFERROR(VLOOKUP($A18,$L:$Q,6,0),"") | F18: =VLOOKUP(I18,Códigos!A:B,2,0)&G18 -> 4369414 | G18: =+IF(I18=I17,G17+1,1) -> 4 | H18: Catanarias | I18: BN1 | J18: Francisco Ruiz Fernandez | L18: =VLOOKUP(O18,Códigos!A:B,2,0)&P18&M18 -> 132423Francisca Maria Lara Santos6 | M18: =+IF(P18=P17,M17+1,1) -> 6 | N18: Andalucía | O18: GR1 | P18: Francisca Maria Lara Santos | Q18: Jose Maria Roman Alconchel
A19: =Inicio!$C$15&Inicio!$C$20&B19 -> 4 | B19: 4 | C19: =IFERROR(VLOOKUP($A19,$L:$Q,6,0),"") | F19: =VLOOKUP(I19,Códigos!A:B,2,0)&G19 -> 4369421 | G19: =+IF(I19=I18,G18+1,1) -> 1 | H19: Catanarias | I19: BN2 | J19: Sandra Tejado Lopez | L19: =VLOOKUP(O19,Códigos!A:B,2,0)&P19&M19 -> 132423Francisca Maria Lara Santos7 | M19: =+IF(P19=P18,M18+1,1) -> 7 | N19: Andalucía | O19: GR1 | P19: Francisca Maria Lara Santos | Q19: Maria Elena Aceituno Simon
A20: =Inicio!$C$15&Inicio!$C$20&B20 -> 5 | B20: 5 | C20: =IFERROR(VLOOKUP($A20,$L:$Q,6,0),"") | F20: =VLOOKUP(I20,Códigos!A:B,2,0)&G20 -> 2073101 | G20: =+IF(I20=I19,G19+1,1) -> 1 | H20: Catanarias | I20: GC1 | J20: Sandro Gabriel Gonzalez Tavio | L20: =VLOOKUP(O20,Códigos!A:B,2,0)&P20&M20 -> 132423Francisca Maria Lara Santos8 | M20: =+IF(P20=P19,M19+1,1) -> 8 | N20: Andalucía | O20: GR1 | P20: Francisca Maria Lara Santos | Q20: Maria Elena Chica Santaella
A21: =Inicio!$C$15&Inicio!$C$20&B21 -> 6 | B21: 6 | C21: =IFERROR(VLOOKUP($A21,$L:$Q,6,0),"") | F21: =VLOOKUP(I21,Códigos!A:B,2,0)&G21 -> 2073102 | G21: =+IF(I21=I20,G20+1,1) -> 2 | H21: Catanarias | I21: GC1 | J21: Ryan Morgan | L21: =VLOOKUP(O21,Códigos!A:B,2,0)&P21&M21 -> 132423Francisca Maria Lara Santos9 | M21: =+IF(P21=P20,M20+1,1) -> 9 | N21: Andalucía | O21: GR1 | P21: Francisca Maria Lara Santos | Q21: Rosa Maria Torres Talavera
A22: =Inicio!$C$15&Inicio!$C$20&B22 -> 7 | B22: 7 | C22: =IFERROR(VLOOKUP($A22,$L:$Q,6,0),"") | F22: =VLOOKUP(I22,Códigos!A:B,2,0)&G22 -> 2073103 | G22: =+IF(I22=I21,G21+1,1) -> 3 | H22: Catanarias | I22: GC1 | J22: Alberto Jesus Bravo Martin | L22: =VLOOKUP(O22,Códigos!A:B,2,0)&P22&M22 -> 132423Francisca Maria Lara Santos10 | M22: =+IF(P22=P21,M21+1,1) -> 10 | N22: Andalucía | O22: GR1 | P22: Francisca Maria Lara Santos | Q22: Rufino Mateo Collado Fernandez
A23: =Inicio!$C$15&Inicio!$C$20&B23 -> 8 | B23: 8 | C23: =IFERROR(VLOOKUP($A23,$L:$Q,6,0),"") | F23: =VLOOKUP(I23,Códigos!A:B,2,0)&G23 -> 4346721 | G23: =+IF(I23=I22,G22+1,1) -> 1 | H23: Catanarias | I23: GI1 | J23: Paula Herrera Almeida | L23: =VLOOKUP(O23,Códigos!A:B,2,0)&P23&M23 -> 132423Laura Toro Saavedra1 | M23: =+IF(P23=P22,M22+1,1) -> 1 | N23: Andalucía | O23: GR1 | P23: Laura Toro Saavedra | Q23: Alejandro Manzano Moreno
A24: =Inicio!$C$15&Inicio!$C$20&B24 -> 9 | B24: 9 | C24: =IFERROR(VLOOKUP($A24,$L:$Q,6,0),"") | F24: =VLOOKUP(I24,Códigos!A:B,2,0)&G24 -> 6709321 | G24: =+IF(I24=I23,G23+1,1) -> 1 | H24: Catanarias | I24: TA1 | J24: Natalie Ivonne Ponce Velasquez | L24: =VLOOKUP(O24,Códigos!A:B,2,0)&P24&M24 -> 132423Laura Toro Saavedra2 | M24: =+IF(P24=P23,M23+1,1) -> 2 | N24: Andalucía | O24: GR1 | P24: Laura Toro Saavedra | Q24: Juan Francisco Herrera Castro
A25: =Inicio!$C$15&Inicio!$C$20&B25 -> 10 | B25: 10 | C25: =IFERROR(VLOOKUP($A25,$L:$Q,6,0),"") | F25: =VLOOKUP(I25,Códigos!A:B,2,0)&G25 -> 3092391 | G25: =+IF(I25=I24,G24+1,1) -> 1 | H25: Catanarias | I25: TE1 | J25: Maria Andreina Couto Gomes | L25: =VLOOKUP(O25,Códigos!A:B,2,0)&P25&M25 -> 132423Laura Toro Saavedra3 | M25: =+IF(P25=P24,M24+1,1) -> 3 | N25: Andalucía | O25: GR1 | P25: Laura Toro Saavedra | Q25: Maria Maturano Milena
A26: =Inicio!$C$15&Inicio!$C$20&B26 -> 11 | B26: 11 | C26: =IFERROR(VLOOKUP($A26,$L:$Q,6,0),"") | F26: =VLOOKUP(I26,Códigos!A:B,2,0)&G26 -> 3092392 | G26: =+IF(I26=I25,G25+1,1) -> 2 | H26: Catanarias | I26: TE1 | J26: Nicolas Ruyman Casañas Hernández | L26: =VLOOKUP(O26,Códigos!A:B,2,0)&P26&M26 -> 132423Laura Toro Saavedra4 | M26: =+IF(P26=P25,M25+1,1) -> 4 | N26: Andalucía | O26: GR1 | P26: Laura Toro Saavedra | Q26: Maria Rodriguez Martin
A27: =Inicio!$C$15&Inicio!$C$20&B27 -> 12 | B27: 12 | C27: =IFERROR(VLOOKUP($A27,$L:$Q,6,0),"") | F27: =VLOOKUP(I27,Códigos!A:B,2,0)&G27 -> 3092393 | G27: =+IF(I27=I26,G26+1,1) -> 3 | H27: Catanarias | I27: TE1 | J27: Augusto Javier Acosta Rodriguez | L27: =VLOOKUP(O27,Códigos!A:B,2,0)&P27&M27 -> 132423Laura Toro Saavedra5 | M27: =+IF(P27=P26,M26+1,1) -> 5 | N27: Andalucía | O27: GR1 | P27: Laura Toro Saavedra | Q27: Paula Rodriguez Patiño
... A50: =Inicio!$C$15&Inicio!$C$20&B50 -> 35 | B50: 35 | C50: =IFERROR(VLOOKUP($A50,$L:$Q,6,0),"") | F50: =VLOOKUP(I50,Códigos!A:B,2,0)&G50 -> 4275732 | G50: =+IF(I50=I49,G49+1,1) -> 2 | H50: Levante | I50: VA1 | J50: Ramon Giron Merino | L50: =VLOOKUP(O50,Códigos!A:B,2,0)&P50&M50 -> 793211Franco Leonel Gómez Gónzalez3 | M50: =+IF(P50=P49,M49+1,1) -> 3 | N50: Andalucía | O50: MA2 | P50: Franco Leonel Gómez Gónzalez | Q50: Luciano Wolkomirski
A51: =Inicio!$C$15&Inicio!$C$20&B51 -> 36 | B51: 36 | C51: =IFERROR(VLOOKUP($A51,$L:$Q,6,0),"") | F51: =VLOOKUP(I51,Códigos!A:B,2,0)&G51 -> #N/A | G51: =+IF(I51=I50,G50+1,1) -> 1 | L51: =VLOOKUP(O51,Códigos!A:B,2,0)&P51&M51 -> 793211Franco Leonel Gómez Gónzalez4 | M51: =+IF(P51=P50,M50+1,1) -> 4 | N51: Andalucía | O51: MA2 | P51: Franco Leonel Gómez Gónzalez | Q51: Miguel Angel Jimenez Lopez
A52: =Inicio!$C$15&Inicio!$C$20&B52 -> 37 | B52: 37 | C52: =IFERROR(VLOOKUP($A52,$L:$Q,6,0),"") | F52: =VLOOKUP(I52,Códigos!A:B,2,0)&G52 -> #N/A | G52: =+IF(I52=I51,G51+1,1) -> 2 | L52: =VLOOKUP(O52,Códigos!A:B,2,0)&P52&M52 -> 793211Franco Leonel Gómez Gónzalez5 | M52: =+IF(P52=P51,M51+1,1) -> 5 | N52: Andalucía | O52: MA2 | P52: Franco Leonel Gómez Gónzalez | Q52: Mireya Barrios Navarro
A53: =Inicio!$C$15&Inicio!$C$20&B53 -> 38 | B53: 38 | C53: =IFERROR(VLOOKUP($A53,$L:$Q,6,0),"") | F53: =VLOOKUP(I53,Códigos!A:B,2,0)&G53 -> #N/A | G53: =+IF(I53=I52,G52+1,1) -> 3 | L53: =VLOOKUP(O53,Códigos!A:B,2,0)&P53&M53 -> 793211Franco Leonel Gómez Gónzalez6 | M53: =+IF(P53=P52,M52+1,1) -> 6 | N53: Andalucía | O53: MA2 | P53: Franco Leonel Gómez Gónzalez | Q53: Sara Ruma
A54: =Inicio!$C$15&Inicio!$C$20&B54 -> 39 | B54: 39 | C54: =IFERROR(VLOOKUP($A54,$L:$Q,6,0),"") | F54: =VLOOKUP(I54,Códigos!A:B,2,0)&G54 -> #N/A | G54: =+IF(I54=I53,G53+1,1) -> 4 | L54: =VLOOKUP(O54,Códigos!A:B,2,0)&P54&M54 -> 793211Laura Caballero Muñoz1 | M54: =+IF(P54=P53,M53+1,1) -> 1 | N54: Andalucía | O54: MA2 | P54: Laura Caballero Muñoz | Q54: Daniel Breder Santos de Matos
A55: =Inicio!$C$15&Inicio!$C$20&B55 -> 40 | B55: 40 | C55: =IFERROR(VLOOKUP($A55,$L:$Q,6,0),"") | F55: =VLOOKUP(I55,Códigos!A:B,2,0)&G55 -> #N/A | G55: =+IF(I55=I54,G54+1,1) -> 5 | L55: =VLOOKUP(O55,Códigos!A:B,2,0)&P55&M55 -> 793211Laura Caballero Muñoz2 | M55: =+IF(P55=P54,M54+1,1) -> 2 | N55: Andalucía | O55: MA2 | P55: Laura Caballero Muñoz | Q55: David Venegas Fernandez
A56: =Inicio!$C$15&Inicio!$C$20&B56 -> 41 | B56: 41 | C56: =IFERROR(VLOOKUP($A56,$L:$Q,6,0),"") | F56: =VLOOKUP(I56,Códigos!A:B,2,0)&G56 -> #N/A | G56: =+IF(I56=I55,G55+1,1) -> 6 | L56: =VLOOKUP(O56,Códigos!A:B,2,0)&P56&M56 -> 793211Laura Caballero Muñoz3 | M56: =+IF(P56=P55,M55+1,1) -> 3 | N56: Andalucía | O56: MA2 | P56: Laura Caballero Muñoz | Q56: Ismael Ruben Iglesias Medina
A57: =Inicio!$C$15&Inicio!$C$20&B57 -> 42 | B57: 42 | C57: =IFERROR(VLOOKUP($A57,$L:$Q,6,0),"") | F57: =VLOOKUP(I57,Códigos!A:B,2,0)&G57 -> #N/A | G57: =+IF(I57=I56,G56+1,1) -> 7 | L57: =VLOOKUP(O57,Códigos!A:B,2,0)&P57&M57 -> 793211Laura Caballero Muñoz4 | M57: =+IF(P57=P56,M56+1,1) -> 4 | N57: Andalucía | O57: MA2 | P57: Laura Caballero Muñoz | Q57: Javier Godino Vazquez
A58: =Inicio!$C$15&Inicio!$C$20&B58 -> 43 | B58: 43 | C58: =IFERROR(VLOOKUP($A58,$L:$Q,6,0),"") | F58: =VLOOKUP(I58,Códigos!A:B,2,0)&G58 -> #N/A | G58: =+IF(I58=I57,G57+1,1) -> 8 | L58: =VLOOKUP(O58,Códigos!A:B,2,0)&P58&M58 -> 793211Laura Caballero Muñoz5 | M58: =+IF(P58=P57,M57+1,1) -> 5 | N58: Andalucía | O58: MA2 | P58: Laura Caballero Muñoz | Q58: Manuel Brea Fernandez
A59: =Inicio!$C$15&Inicio!$C$20&B59 -> 44 | B59: 44 | C59: =IFERROR(VLOOKUP($A59,$L:$Q,6,0),"") | F59: =VLOOKUP(I59,Códigos!A:B,2,0)&G59 -> #N/A | G59: =+IF(I59=I58,G58+1,1) -> 9 | L59: =VLOOKUP(O59,Códigos!A:B,2,0)&P59&M59 -> 793211Laura Caballero Muñoz6 | M59: =+IF(P59=P58,M58+1,1) -> 6 | N59: Andalucía | O59: MA2 | P59: Laura Caballero Muñoz | Q59: Sofia Ronzone
A60: =Inicio!$C$15&Inicio!$C$20&B60 -> 45 | B60: 45 | C60: =IFERROR(VLOOKUP($A60,$L:$Q,6,0),"") | F60: =VLOOKUP(I60,Códigos!A:B,2,0)&G60 -> #N/A | G60: =+IF(I60=I59,G59+1,1) -> 10 | L60: =VLOOKUP(O60,Códigos!A:B,2,0)&P60&M60 -> 793211Laura Caballero Muñoz7 | M60: =+IF(P60=P59,M59+1,1) -> 7 | N60: Andalucía | O60: MA2 | P60: Laura Caballero Muñoz | Q60: Susana Moron Silva
A61: =Inicio!$C$15&Inicio!$C$20&B61 -> 46 | B61: 46 | C61: =IFERROR(VLOOKUP($A61,$L:$Q,6,0),"") | F61: =VLOOKUP(I61,Códigos!A:B,2,0)&G61 -> #N/A | G61: =+IF(I61=I60,G60+1,1) -> 11 | L61: =VLOOKUP(O61,Códigos!A:B,2,0)&P61&M61 -> 793211Laura Caballero Muñoz8 | M61: =+IF(P61=P60,M60+1,1) -> 8 | N61: Andalucía | O61: MA2 | P61: Laura Caballero Muñoz | Q61: Victor Jurado Negrillo
A62: =Inicio!$C$15&Inicio!$C$20&B62 -> 47 | B62: 47 | C62: =IFERROR(VLOOKUP($A62,$L:$Q,6,0),"") | F62: =VLOOKUP(I62,Códigos!A:B,2,0)&G62 -> #N/A | G62: =+IF(I62=I61,G61+1,1) -> 12 | L62: =VLOOKUP(O62,Códigos!A:B,2,0)&P62&M62 -> 234573Emiliano Hnatiuk1 | M62: =+IF(P62=P61,M61+1,1) -> 1 | N62: Andalucía | O62: MA3 | P62: Emiliano Hnatiuk | Q62: Adrian Valera Torrecilla
... A112: =Inicio!$C$15&Inicio!$C$20&B112 -> 97 | B112: 97 | C112: =IFERROR(VLOOKUP($A112,$L:$Q,6,0),"") | F112: =VLOOKUP(I112,Códigos!A:B,2,0)&G112 -> #N/A | G112: =+IF(I112=I111,G111+1,1) -> 62 | L112: =VLOOKUP(O112,Códigos!A:B,2,0)&P112&M112 -> 436941Matias Emmanuel Elizagoyen8 | M112: =+IF(P112=P111,M111+1,1) -> 8 | N112: Catanarias | O112: BN1 | P112: Matias Emmanuel Elizagoyen | Q112: Michael Rivera Delgado
A113: =Inicio!$C$15&Inicio!$C$20&B113 -> 98 | B113: 98 | C113: =IFERROR(VLOOKUP($A113,$L:$Q,6,0),"") | L113: =VLOOKUP(O113,Códigos!A:B,2,0)&P113&M113 -> 436941Matias Emmanuel Elizagoyen9 | M113: =+IF(P113=P112,M112+1,1) -> 9 | N113: Catanarias | O113: BN1 | P113: Matias Emmanuel Elizagoyen | Q113: Sana Settal Agoujil
A114: =Inicio!$C$15&Inicio!$C$20&B114 -> 99 | B114: 99 | C114: =IFERROR(VLOOKUP($A114,$L:$Q,6,0),"") | L114: =VLOOKUP(O114,Códigos!A:B,2,0)&P114&M114 -> 436942Sandra Tejado Lopez1 | M114: =+IF(P114=P113,M113+1,1) -> 1 | N114: Catanarias | O114: BN2 | P114: Sandra Tejado Lopez | Q114: Eduard Parera Gasull
A115: =Inicio!$C$15&Inicio!$C$20&B115 -> 100 | B115: 100 | C115: =IFERROR(VLOOKUP($A115,$L:$Q,6,0),"") | L115: =VLOOKUP(O115,Códigos!A:B,2,0)&P115&M115 -> 436942Sandra Tejado Lopez2 | M115: =+IF(P115=P114,M114+1,1) -> 2 | N115: Catanarias | O115: BN2 | P115: Sandra Tejado Lopez | Q115: Francisco Santana
A116: =Inicio!$C$15&Inicio!$C$20&B116 -> 101 | B116: 101 | C116: =IFERROR(VLOOKUP($A116,$L:$Q,6,0),"") | L116: =VLOOKUP(O116,Códigos!A:B,2,0)&P116&M116 -> 436942Sandra Tejado Lopez3 | M116: =+IF(P116=P115,M115+1,1) -> 3 | N116: Catanarias | O116: BN2 | P116: Sandra Tejado Lopez | Q116: Jorge Luis Silva Gonzalez
A117: =Inicio!$C$15&Inicio!$C$20&B117 -> 102 | B117: 102 | C117: =IFERROR(VLOOKUP($A117,$L:$Q,6,0),"") | L117: =VLOOKUP(O117,Códigos!A:B,2,0)&P117&M117 -> 436942Sandra Tejado Lopez4 | M117: =+IF(P117=P116,M116+1,1) -> 4 | N117: Catanarias | O117: BN2 | P117: Sandra Tejado Lopez | Q117: Manuel Andres Eraso Cataño
A118: =Inicio!$C$15&Inicio!$C$20&B118 -> 103 | B118: 103 | C118: =IFERROR(VLOOKUP($A118,$L:$Q,6,0),"") | L118: =VLOOKUP(O118,Códigos!A:B,2,0)&P118&M118 -> 436942Sandra Tejado Lopez5 | M118: =+IF(P118=P117,M117+1,1) -> 5 | N118: Catanarias | O118: BN2 | P118: Sandra Tejado Lopez | Q118: Maria Gema Macias Sanchez
A119: =Inicio!$C$15&Inicio!$C$20&B119 -> 104 | B119: 104 | C119: =IFERROR(VLOOKUP($A119,$L:$Q,6,0),"") | L119: =VLOOKUP(O119,Códigos!A:B,2,0)&P119&M119 -> 436942Sandra Tejado Lopez6 | M119: =+IF(P119=P118,M118+1,1) -> 6 | N119: Catanarias | O119: BN2 | P119: Sandra Tejado Lopez | Q119: Martina Gomez Pedicone
A120: =Inicio!$C$15&Inicio!$C$20&B120 -> 105 | B120: 105 | C120: =IFERROR(VLOOKUP($A120,$L:$Q,6,0),"") | L120: =VLOOKUP(O120,Códigos!A:B,2,0)&P120&M120 -> 436942Sandra Tejado Lopez7 | M120: =+IF(P120=P119,M119+1,1) -> 7 | N120: Catanarias | O120: BN2 | P120: Sandra Tejado Lopez | Q120: Oscar Lopez Perez
A121: =Inicio!$C$15&Inicio!$C$20&B121 -> 106 | B121: 106 | C121: =IFERROR(VLOOKUP($A121,$L:$Q,6,0),"") | L121: =VLOOKUP(O121,Códigos!A:B,2,0)&P121&M121 -> 436942Sandra Tejado Lopez8 | M121: =+IF(P121=P120,M120+1,1) -> 8 | N121: Catanarias | O121: BN2 | P121: Sandra Tejado Lopez | Q121: Ricardo Wills Garcia
A122: =Inicio!$C$15&Inicio!$C$20&B122 -> 107 | B122: 107 | C122: =IFERROR(VLOOKUP($A122,$L:$Q,6,0),"") | L122: =VLOOKUP(O122,Códigos!A:B,2,0)&P122&M122 -> 436942Sandra Tejado Lopez9 | M122: =+IF(P122=P121,M121+1,1) -> 9 | N122: Catanarias | O122: BN2 | P122: Sandra Tejado Lopez | Q122: Víctor Blanco Díez
A123: =Inicio!$C$15&Inicio!$C$20&B123 -> 108 | B123: 108 | C123: =IFERROR(VLOOKUP($A123,$L:$Q,6,0),"") | L123: =VLOOKUP(O123,Códigos!A:B,2,0)&P123&M123 -> 207310Alberto Jesus Bravo Martin1 | M123: =+IF(P123=P122,M122+1,1) -> 1 | N123: Catanarias | O123: GC1 | P123: Alberto Jesus Bravo Martin | Q123: Carlos Corcoles Corujo
A124: =Inicio!$C$15&Inicio!$C$20&B124 -> 109 | B124: 109 | C124: =IFERROR(VLOOKUP($A124,$L:$Q,6,0),"") | L124: =VLOOKUP(O124,Códigos!A:B,2,0)&P124&M124 -> 207310Alberto Jesus Bravo Martin2 | M124: =+IF(P124=P123,M123+1,1) -> 2 | N124: Catanarias | O124: GC1 | P124: Alberto Jesus Bravo Martin | Q124: Ivan Nathani Montesinos
... A289: =Inicio!$C$15&Inicio!$C$20&B289 -> 274 | B289: 274 | C289: =IFERROR(VLOOKUP($A289,$L:$Q,6,0),"") | L289: =VLOOKUP(O289,Códigos!A:B,2,0)&P289&M289 -> 427573Ramon Giron Merino7 | M289: =+IF(P289=P288,M288+1,1) -> 7 | N289: Levante | O289: VA1 | P289: Ramon Giron Merino | Q289: Yusmila de la Trinidad Sifontes Sifontes
A290: =Inicio!$C$15&Inicio!$C$20&B290 -> 275 | B290: 275 | C290: =IFERROR(VLOOKUP($A290,$L:$Q,6,0),"") | L290: =VLOOKUP(O290,Códigos!A:B,2,0)&P290&M290 -> #N/A | M290: =+IF(P290=P289,M289+1,1) -> 1
A291: =Inicio!$C$15&Inicio!$C$20&B291 -> 276 | B291: 276 | C291: =IFERROR(VLOOKUP($A291,$L:$Q,6,0),"") | L291: =VLOOKUP(O291,Códigos!A:B,2,0)&P291&M291 -> #N/A | M291: =+IF(P291=P290,M290+1,1) -> 2
A292: =Inicio!$C$15&Inicio!$C$20&B292 -> 277 | B292: 277 | C292: =IFERROR(VLOOKUP($A292,$L:$Q,6,0),"") | L292: =VLOOKUP(O292,Códigos!A:B,2,0)&P292&M292 -> #N/A | M292: =+IF(P292=P291,M291+1,1) -> 3
A293: =Inicio!$C$15&Inicio!$C$20&B293 -> 278 | B293: 278 | C293: =IFERROR(VLOOKUP($A293,$L:$Q,6,0),"") | L293: =VLOOKUP(O293,Códigos!A:B,2,0)&P293&M293 -> #N/A | M293: =+IF(P293=P292,M292+1,1) -> 4
A294: =Inicio!$C$15&Inicio!$C$20&B294 -> 279 | B294: 279 | C294: =IFERROR(VLOOKUP($A294,$L:$Q,6,0),"") | L294: =VLOOKUP(O294,Códigos!A:B,2,0)&P294&M294 -> #N/A | M294: =+IF(P294=P293,M293+1,1) -> 5
A295: =Inicio!$C$15&Inicio!$C$20&B295 -> 280 | B295: 280 | C295: =IFERROR(VLOOKUP($A295,$L:$Q,6,0),"") | L295: =VLOOKUP(O295,Códigos!A:B,2,0)&P295&M295 -> #N/A | M295: =+IF(P295=P294,M294+1,1) -> 6
A296: =Inicio!$C$15&Inicio!$C$20&B296 -> 281 | B296: 281 | C296: =IFERROR(VLOOKUP($A296,$L:$Q,6,0),"") | L296: =VLOOKUP(O296,Códigos!A:B,2,0)&P296&M296 -> #N/A | M296: =+IF(P296=P295,M295+1,1) -> 7
A297: =Inicio!$C$15&Inicio!$C$20&B297 -> 282 | B297: 282 | C297: =IFERROR(VLOOKUP($A297,$L:$Q,6,0),"") | L297: =VLOOKUP(O297,Códigos!A:B,2,0)&P297&M297 -> #N/A | M297: =+IF(P297=P296,M296+1,1) -> 8
A298: =Inicio!$C$15&Inicio!$C$20&B298 -> 283 | B298: 283 | C298: =IFERROR(VLOOKUP($A298,$L:$Q,6,0),"") | L298: =VLOOKUP(O298,Códigos!A:B,2,0)&P298&M298 -> #N/A | M298: =+IF(P298=P297,M297+1,1) -> 9
A299: =Inicio!$C$15&Inicio!$C$20&B299 -> 284 | B299: 284 | C299: =IFERROR(VLOOKUP($A299,$L:$Q,6,0),"") | L299: =VLOOKUP(O299,Códigos!A:B,2,0)&P299&M299 -> #N/A | M299: =+IF(P299=P298,M298+1,1) -> 10
A300: =Inicio!$C$15&Inicio!$C$20&B300 -> 285 | B300: 285 | C300: =IFERROR(VLOOKUP($A300,$L:$Q,6,0),"") | L300: =VLOOKUP(O300,Códigos!A:B,2,0)&P300&M300 -> #N/A | M300: =+IF(P300=P299,M299+1,1) -> 11
A301: =Inicio!$C$15&Inicio!$C$20&B301 -> 286 | B301: 286 | C301: =IFERROR(VLOOKUP($A301,$L:$Q,6,0),"") | L301: =VLOOKUP(O301,Códigos!A:B,2,0)&P301&M301 -> #N/A | M301: =+IF(P301=P300,M300+1,1) -> 12
... A316: =Inicio!$C$15&Inicio!$C$20&B316 -> 301 | B316: 301 | C316: =IFERROR(VLOOKUP($A316,$L:$Q,6,0),"") | L316: =VLOOKUP(O316,Códigos!A:B,2,0)&P316&M316 -> #N/A | M316: =+IF(P316=P315,M315+1,1) -> 27
L317: =VLOOKUP(O317,Códigos!A:B,2,0)&P317&M317 -> #N/A | M317: =+IF(P317=P316,M316+1,1) -> 28
L318: =VLOOKUP(O318,Códigos!A:B,2,0)&P318&M318 -> #N/A | M318: =+IF(P318=P317,M317+1,1) -> 29
L319: =VLOOKUP(O319,Códigos!A:B,2,0)&P319&M319 -> #N/A | M319: =+IF(P319=P318,M318+1,1) -> 30
L320: =VLOOKUP(O320,Códigos!A:B,2,0)&P320&M320 -> #N/A | M320: =+IF(P320=P319,M319+1,1) -> 31
L321: =VLOOKUP(O321,Códigos!A:B,2,0)&P321&M321 -> #N/A | M321: =+IF(P321=P320,M320+1,1) -> 32
L322: =VLOOKUP(O322,Códigos!A:B,2,0)&P322&M322 -> #N/A | M322: =+IF(P322=P321,M321+1,1) -> 33
L323: =VLOOKUP(O323,Códigos!A:B,2,0)&P323&M323 -> #N/A | M323: =+IF(P323=P322,M322+1,1) -> 34
L324: =VLOOKUP(O324,Códigos!A:B,2,0)&P324&M324 -> #N/A | M324: =+IF(P324=P323,M323+1,1) -> 35
L325: =VLOOKUP(O325,Códigos!A:B,2,0)&P325&M325 -> #N/A | M325: =+IF(P325=P324,M324+1,1) -> 36
L326: =VLOOKUP(O326,Códigos!A:B,2,0)&P326&M326 -> #N/A | M326: =+IF(P326=P325,M325+1,1) -> 37
L327: =VLOOKUP(O327,Códigos!A:B,2,0)&P327&M327 -> #N/A | M327: =+IF(P327=P326,M326+1,1) -> 38
L328: =VLOOKUP(O328,Códigos!A:B,2,0)&P328&M328 -> #N/A | M328: =+IF(P328=P327,M327+1,1) -> 39
... L445: =VLOOKUP(O445,Códigos!A:B,2,0)&P445&M445 -> #N/A | M445: =+IF(P445=P444,M444+1,1) -> 156

Sheet Códigos
A1: Andalucía Oriental | B1: Código | C1: Nombre | E1: =Inicio!$C$10 -> diciembre | G1: Q FSR
A2: GR1 | B2: 132423 | C2: Branch Granada 1 | G2: =COUNTIF(Base_Calculadora!M:M,B2&$E$1) -> 15
A3: AL1 | B3: 124398 | C3: Branch Almería 1 | G3: =COUNTIF(Base_Calculadora!M:M,B3&$E$1) -> 6
A4: CA1 | B4: 918781 | C4: Branch Cádiz 1 | G4: =COUNTIF(Base_Calculadora!M:M,B4&$E$1) -> 5
A5: CO1 | B5: 652929 | C5: Branch Cordoba 1 | G5: =COUNTIF(Base_Calculadora!M:M,B5&$E$1) -> 0
A6: MA1 | B6: 657845 | C6: Branch Malaga 1 | G6: =COUNTIF(Base_Calculadora!M:M,B6&$E$1) -> 14
A7: MA2 | B7: 793211 | C7: Branch Malaga 2 | G7: =COUNTIF(Base_Calculadora!M:M,B7&$E$1) -> 20
A8: MA3 | B8: 234573 | C8: Branch Malaga 3 | G8: =COUNTIF(Base_Calculadora!M:M,B8&$E$1) -> 11
A9: SE1 | B9: 238942 | C9: Branch Sevilla 1 | G9: =COUNTIF(Base_Calculadora!M:M,B9&$E$1) -> 17
A10: Centro
A11: MD1 | B11: 875432 | C11: Branch Madrid 1 | G11: =COUNTIF(Base_Calculadora!M:M,B11&$E$1) -> 16
A12: MD2 | B12: 670945 | C12: Branch Madrid 2 | G12: =COUNTIF(Base_Calculadora!M:M,B12&$E$1) -> 7
A13: MD3 | B13: 670877 | C13: Branch Madrid 3 | G13: =COUNTIF(Base_Calculadora!M:M,B13&$E$1) -> 7
A14: TO1 | B14: 425672 | C14: Branch Toledo 1 | G14: =COUNTIF(Base_Calculadora!M:M,B14&$E$1) -> 6
A15: Cataluña
A16: BN1 | B16: 436941 | C16: Branch Barcelona 1 | G16: =COUNTIF(Base_Calculadora!M:M,B16&$E$1) -> 24
A17: BN2 | B17: 436942 | C17: Branch Barcelona 2 | G17: =COUNTIF(Base_Calculadora!M:M,B17&$E$1) -> 9
A18: GC1 | B18: 207310 | C18: Branch LasPalmas 1 | G18: =COUNTIF(Base_Calculadora!M:M,B18&$E$1) -> 23
A19: TE1 | B19: 309239 | C19: Branch Tenerife 1 | G19: =COUNTIF(Base_Calculadora!M:M,B19&$E$1) -> 23
A20: GI1 | B20: 434672 | C20: Branch Girona 1 | G20: =COUNTIF(Base_Calculadora!M:M,B20&$E$1) -> 7
A21: TA1 | B21: 670932 | C21: Branch Tarragona 1 | G21: =COUNTIF(Base_Calculadora!M:M,B21&$E$1) -> 6
A22: Levante
A23: MU1 | B23: 190580 | C23: Branch Murcia 1 | G23: =COUNTIF(Base_Calculadora!M:M,B23&$E$1) -> 16
A24: AC1 | B24: 458721 | C24: Branch Alicante 1 | G24: =COUNTIF(Base_Calculadora!M:M,B24&$E$1) -> 22
A25: PM1 | B25: 780372 | C25: Branch Palma de Mallorca 1 | G25: =COUNTIF(Base_Calculadora!M:M,B25&$E$1) -> 14
A26: VA1 | B26: 427573 | C26: Branch Valencia 1 | G26: =COUNTIF(Base_Calculadora!M:M,B26&$E$1) -> 11
A27: GA1 | B27: 424572 | C27: Branch Gandia 1 | G27: =COUNTIF(Base_Calculadora!M:M,B27&$E$1) -> 9

Sheet ValoresBonus
G1: Semanas | I1: Ventas Necesarias
B2: BONUS VENTAS TOTALES | E2: Mes actual | F2: Mes Ant | G2: Mes actual | H2: Mes Ant | I2: Mes actual | J2: Mes Ant | M2: FUEL VENTAS TOTALES
B3: 0 | C3: 0 | D3: enero | E3: 2025-01 | F3: 2024-12 | G3: 4 | H3: 4 | I3: 6 | J3: 6 | M3: 0 | N3: 0 | P3: 0 | Q3: 1000
B4: 1 | C4: 0 | D4: febrero | E4: 2025-02 | F4: 2025-01 | G4: 4 | H4: 4 | I4: 6 | J4: 6 | M4: 1 | N4: 0 | P4: 1 | Q4: 750
B5: 2 | C5: 0 | D5: marzo | E5: 2025-03 | F5: 2025-02 | G5: 5 | H5: 4 | I5: 8 | J5: 6 | M5: 2 | N5: 0 | P5: 2 | Q5: 500
B6: 3 | C6: 0 | D6: abril | E6: 2025-04 | F6: 2025-03 | G6: 4 | H6: 5 | I6: 6 | J6: 8 | M6: 3 | N6: 0 | P6: 3 | Q6: 250
B7: 4 | C7: 0 | D7: mayo | E7: 2025-05 | F7: 2025-04 | G7: 4 | H7: 4 | I7: 6 | J7: 6 | M7: 4 | N7: 0
B8: 5 | C8: 150 | D8: junio | E8: 2025-06 | F8: 2025-05 | G8: 5 | H8: 4 | I8: 8 | J8: 6 | M8: 5 | N8: 100
B9: 6 | C9: 600 | D9: julio | E9: 2025-07 | F9: 2025-06 | G9: 5 | H9: 5 | I9: 8 | J9: 8 | M9: 6 | N9: =N8+50 -> 150
B10: 7 | C10: =C9+200 -> 800 | D10: agosto | E10: 2025-08 | F10: 2025-07 | G10: 4 | H10: 5 | I10: 6 | J10: 8 | M10: 7 | N10: =N9+50 -> 200
B11: 8 | C11: =C10+200 -> 1000 | D11: septiembre | E11: 2025-09 | F11: 2025-08 | G11: 4 | H11: 4 | I11: 6 | J11: 6 | M11: 8 | N11: =N10+50 -> 250
B12: 9 | C12: =C11+200 -> 1200 | D12: octubre | E12: 2025-10 | F12: 2025-09 | G12: 4 | H12: 4 | I12: 6 | J12: 6 | M12: 9 | N12: =N11+50 -> 300
B13: 10 | C13: =C12+200 -> 1400 | D13: noviembre | E13: 2025-11 | F13: 2025-10 | G13: 5 | H13: 4 | I13: 8 | J13: 6 | M13: 10 | N13: =N12+50 -> 350
B14: 11 | C14: =C13+200 -> 1600 | D14: diciembre | E14: 2025-12 | F14: 2025-11 | G14: 4 | H14: 5 | I14: 6 | J14: 8
B15: 12 | C15: =C14+200 -> 1800
B16: 13 | C16: =C15+200 -> 2000 | E16: BONUS ARRANQUE
B17: 14 | C17: =C16+200 -> 2200 | F17: V. totales | G17: V. propias | H17: Bonus
B18: 15 | C18: =C17+200 -> 2400 | E18: M1 | F18: 2 | G18: 1 | H18: 650
B19: 16 | C19: =C18+200 -> 2600 | E19: M2 | F19: 3 | G19: 1 | H19: 650
B20: 17 | C20: =C19+200 -> 2800 | E20: M3 | F20: 4 | G20: 2 | H20: 650
B21: 18 | C21: =C20+200 -> 3000 | E21: M4 | F21: 5 | G21: 3 | H21: 200
B22: 19 | C22: =C21+200 -> 3200 | E22: M5 | F22: 5 | G22: 3 | H22: 200
B23: 20 | C23: =C22+200 -> 3400 | E23: M6 | F23: 5 | G23: 3 | H23: 200
B24: 21 | C24: =C23+200 -> 3600
B25: 22 | C25: =C24+200 -> 3800
B26: 23 | C26: =C25+200 -> 4000
B27: 24 | C27: =C26+200 -> 4200
B28: 25 | C28: =C27+200 -> 4400

Sheet Inicio
I2: 📅 Primer Tramo NFS: | J2: Periodo desde: 1/12 al 14/12 | Fecha pago: 18/12
I4: 📅 Segundo Tramo NFS: | J4: Fecha pago: 31/12
C6: =IFERROR(VLOOKUP($C$15,Códigos!$B$2:$C$29,2,0),"") | I6: 📅 FS: | J6: Fecha pago: 26/1
B7: ¡Bienvenido/a! a la calculadora de comisiones FSR
C10: diciembre
C12: ingresa el código de tu branch:
C17: selecciona tu nombre:

Sheet 1
B1: 1 | C1: =Inicio!$C$10&Inicio!$C$15&'1'!$B$1 -> diciembre1 | O1: =SUM(V12:V76) -> 0 | AQ1: =IF($O$1=0,"",IF($C$5="SELECCIONA TU NOMBRE","",IF(OR($BD$153="Field Sales Installer",$BD$153="Team Coach"),IF(SUM($AQ$16,$AQ$20,$AQ$24,$AQ$28,$AQ$32,$AQ$36,$AQ$40,$AQ$44,$AQ$48,$AQ$52)<=T5,"No abre comisiones. El mínimo para abrir comisiones es "&T5&" €",""),""))) | BB1: x
AB2: =IF($O$1=0,"",IF($BD$153="Field Sales Installer (NFS)","",IF(OR($BD$153="Field Sales Installer",$BD$153="Team Coach"),IF(SUM($AG$16,$AG$20,$AG$24,$AG$28,$AG$32,$AG$36,$AG$40,$AG$44,$AG$48,$AG$52,$AG$56)<0,"No abre comisiones. Tiene ec. El mín para abrir comisiones es "&T5&" €",IF(SUM($AG$16,$AG$20,$AG$24,$AG$28,$AG$32,$AG$36,$AG$40,$AG$44,$AG$48,$AG$52,$AG$56)<=T5,"No abre comisiones. El mínimo para abrir comisiones es "&T5&"€",""))))) | AQ2: =IF($BD$153="Field Sales Installer (NFS)","comisiones total con 1 VP más",IF(OR($BD$153="Field Sales Installer",$BD$153="Team Coach"),IF(SUM($AQ$16,$AQ$20,$AQ$24,$AQ$28,$AQ$32,$AQ$36,$AQ$40,$AQ$44,$AQ$48,$AQ$52)<=T5,"generado total con 1 VP más","comisiones total con 1 VP más"),"")) -> comisiones total con 1 VP más | BB2: x
BB3: x
C4: ="¡Hola "&IFERROR(VLOOKUP(Inicio!$C$20,ListaDespelgable!$C$2:$D$11,2,0),"")&"! Selecciona el nombre del FSR:" -> ¡Hola ! Selecciona el nombre del FSR: | K4: =IF(C5="FSR NUEVO","Puedes escribir aquí su nombre:","") | AB4: =IF($BD$153="Field Sales Installer (NFS)"," Comisión Generada:"," Comisión a Cobrar:") -> Comisión Generada: | AG4: =IF(SUM($AG$16,$AG$20,$AG$24,$AG$28,$AG$32,$AG$36,$AG$40,$AG$44,$AG$48,$AG$52,$AG$56)<0,0,IF(OR($BD$153="Field Sales Installer",$BD$153="Team Coach"),IF(SUM($AG$16,$AG$20,$AG$24,$AG$28,$AG$36,$AG$52,$AG$56)>=T5,SUM($AG$16,$AG$20,$AG$24,$AG$28,$AG$32,$AG$36,$AG$40,$AG$44,$AG$48,$AG$52,$AG$56)-T5,0),SUM($AG$16,$AG$20,$AG$24,$AG$28,$AG$32,$AG$36,$AG$40,$AG$44,$AG$48,$AG$52,$AG$56))) -> 0 | BB4: x
T5: =IF($BD$153="Field Sales Installer (NFS)","",VLOOKUP(V5,ValoresBonus!P:Q,2,0)) | V5: 0 | AQ5: =IF($BD$153="Field Sales Installer (NFS)",SUM($AQ$16,$AQ$20,$AQ$24,$AQ$28,$AQ$32,$AQ$36,$AQ$40,$AQ$44,$AQ$48,$AQ$52,$AQ$56),IF(OR($BD$153="Field Sales Installer",$BD$153="Team Coach"),IF(SUM($AQ$16,$AQ$20,$AQ$24,$AQ$28,$AQ$36,$AQ$52,$AQ$56)>=T5,SUM($AQ$16,$AQ$20,$AQ$24,$AQ$28,$AQ$32,$AQ$36,$AQ$40,$AQ$44,$AQ$48,$AQ$52,$AQ$56)-T5,SUM($AQ$16,$AQ$20,$AQ$24,$AQ$28,$AQ$36,$AQ$52,$AQ$56)))) -> 200 | AR5: ="+"&(SUM($AQ$16,$AQ$20,$AQ$24,$AQ$28,$AQ$32,$AQ$36,$AQ$40,$AQ$44,$AQ$48,$AQ$52,$AQ$56)-SUM($AG$16,$AG$20,$AG$24,$AG$28,$AG$32,$AG$36,$AG$40,$AG$44,$AG$48,$AG$52,$AG$56))&" €" -> +200 € | BB5: x | CC5: =IF(BD153="Field Sales Installer (NFS)","","VACACIONES SALARIO FIJO (semanas completas)")
BB6: x
C7: ="Puesto: "&$BD$150&" | "&"Seniority: "&$BD$154&" | Ventas mes anterior: "&$BD$157 -> Puesto: NFS | Seniority: M1 | Ventas mes anterior: 0 | V7: NO | W7: SI | AB7: =IF($BD$153="Field Sales Installer (NFS)"," Primer Tramo:"," Base para Abrir Comisiones:") -> Primer Tramo: | AG7: =IF($BD$153="Field Sales Installer (NFS)",BO170,T5) -> 0 | BB7: x
L8: =IF($BD$153="Field Sales Installer (NFS)","PRIMER TRAMO","") -> PRIMER TRAMO | P8: =IF($BD$153="Field Sales Installer (NFS)","SEGUNDO TRAMO","") -> SEGUNDO TRAMO | W8: NO | BB8: x
BB9: x
C10: Ventas COLD DOOR / REF: | L10: W1 | N10: W2 | P10: W3 | R10: W4 | T10: W5 | V10: Total | AB10: =IF($BD$153="Field Sales Installer (NFS)",""," Resultado:") | AF10: =IF($BD$153="Field Sales Installer (NFS)","",IF($AG$12>=$AG$7,"Abre Comisiones","No Abre Comisiones")) | AQ10: =IF($BD$153="Field Sales Installer (NFS)",Inicio!$J$2,"") -> Periodo desde: 1/12 al 14/12 | Fecha pago: 18/12 | BB10: x
BB11: x
C12: Kit Protección / Smart Business | G12: 149 € a 398 € | K12: 200 | L12: 0 | N12: 0 | P12: 0 | R12: 0 | T12: 0 | V12: =T12+R12+P12+N12+L12 -> 0 | W12: =$V12*$K12 -> 0 | X12: =$L12+$N12 -> 0 | Y12: =$X12*$K12 -> 0 | AB12: =IF($BD$153="Field Sales Installer (NFS)"," Segundo Tramo:"," Generado:") -> Segundo Tramo: | AG12: =IF($BD$153="Field Sales Installer (NFS)",($AG$4-$AG$7),(AG16+AG20+AG24+AG28+AG32+AG36+AG40+AG44+AG48+AG52+AG56)) -> 0 | BB12: x
AQ13: =IF($BD$153="Field Sales Installer (NFS)",Inicio!$J$4,"") -> Fecha pago: 31/12 | BB13: x
C14: Kit Protección / Smart Business | G14: 399 € a 698 € | K14: 300 | L14: 0 | N14: 0 | P14: 0 | R14: 0 | T14: 0 | V14: =T14+R14+P14+N14+L14 -> 0 | W14: =$V14*$K14 -> 0 | X14: =$L14+$N14 -> 0 | Y14: =$X14*$K14 -> 0 | AK14: =$AR$5 -> +200 € | BB14: x
BB15: x
C16: Kit Protección / Smart Business | G16: 699 € o más | K16: 400 | L16: 0 | N16: 0 | P16: 0 | R16: 0 | T16: 0 | V16: =T16+R16+P16+N16+L16 -> 0 | W16: =$V16*$K16 -> 0 | X16: =$L16+$N16 -> 0 | Y16: =$X16*$K16 -> 0 | AB16: =IF($C$5="SELECCIONA TU NOMBRE","",($V$12+$V$14+$V$16+$V$18+$V$20+$V$22+$V$26+$V$28+$V$30+$V$32+$V$34+$V$36)) -> 0 | AD16: Ventas Totales: | AG16: =IF($C$5="SELECCIONA TU NOMBRE","",($W$12+$W$14+$W$16+$W$18+$W$20+$W$22+$W$26+$W$28+$W$30+$W$32+$W$34+$W$36)) -> 0 | AQ16: =IF($C$5="SELECCIONA TU NOMBRE","",($W$12+$W$14+$W$16+$W$18+$W$20+$W$22+$W$26+$W$28+$W$30+$W$32+$W$34+$W$36+200)) -> 200 | BB16: x
BB17: x
C18: Kit Plus | G18: 249 € a 498 € | K18: 250 | L18: 0 | N18: 0 | P18: 0 | R18: 0 | T18: 0 | V18: =T18+R18+P18+N18+L18 -> 0 | W18: =$V18*$K18 -> 0 | X18: =$L18+$N18 -> 0 | Y18: =$X18*$K18 -> 0 | BB18: x
BB19: x
C20: Kit Plus | G20: 499 € a 798 € | K20: 350 | L20: 0 | N20: 0 | P20: 0 | R20: 0 | T20: 0 | V20: =T20+R20+P20+N20+L20 -> 0 | W20: =$V20*$K20 -> 0 | X20: =$L20+$N20 -> 0 | Y20: =$X20*$K20 -> 0 | AB20: =IF($C$5="SELECCIONA TU NOMBRE","",($V$46+$V$48+$V$50+$V$52+$V$54+$V$56+$V$58+$V$60+$V$62+$V$64+$V$66+$V$68+$V$70+$V$72+$V$74+$V$76)) -> 0 | AD20: Elementos Extra: | AG20: =IF($C$5="SELECCIONA TU NOMBRE","",($W$46+$W$48+$W$50+$W$52+$W$54+$W$56+$W$58+$W$60+$W$62+$W$64+$W$66+$W$68+$W$70+$W$72+$W$74+$W$76)) -> 0 | AQ20: =AG20 -> 0 | BB20: x
BB21: x
C22: Kit Plus | G22: 799 € o más | K22: 450 | L22: 0 | N22: 0 | P22: 0 | R22: 0 | T22: 0 | V22: =T22+R22+P22+N22+L22 -> 0 | W22: =$V22*$K22 -> 0 | X22: =$L22+$N22 -> 0 | Y22: =$X22*$K22 -> 0 | BB22: x
BB23: x
C24: Ventas LEAD: | L24: W1 | N24: W2 | P24: W3 | R24: W4 | T24: W5 | V24: Total | AB24: =IF($C$5="SELECCIONA TU NOMBRE","",($V$40+$V$42)) -> 0 | AD24: Instalaciones: | AG24: =IF($C$5="SELECCIONA TU NOMBRE","",($W$40+$W$42)) -> 0 | AQ24: =AG24 -> 0 | BB24: x
BB25: x
C26: Kit Protección / Smart Business | G26: 149 € a 398 € | K26: 150 | L26: 0 | N26: 0 | P26: 0 | R26: 0 | T26: 0 | V26: =T26+R26+P26+N26+L26 -> 0 | W26: =$V26*$K26 -> 0 | X26: =$L26+$N26 -> 0 | Y26: =$X26*$K26 -> 0 | BB26: x
BB27: x
C28: Kit Protección / Smart Business | G28: 399 € a 698 € | K28: 250 | L28: 0 | N28: 0 | P28: 0 | R28: 0 | T28: 0 | V28: =T28+R28+P28+N28+L28 -> 0 | W28: =$V28*$K28 -> 0 | X28: =$L28+$N28 -> 0 | Y28: =$X28*$K28 -> 0 | AB28: =IF($C$5="SELECCIONA TU NOMBRE","",IF($O$1=0,"",IF(AG28=0,"⚠️"," ✓"))) | AC28: Bonus Ventas Totales: | AG28: =IF($C$5="SELECCIONA TU NOMBRE","",VLOOKUP($BD$155,ValoresBonus!$B$3:$C$28,2,0)) -> 0 | AK28: =IF($C$5="SELECCIONA TU NOMBRE","",IF($O$1=0,"",IF($BD$155<5,"Faltan "&5-$BD$155&" ventas para activar bonus",""))) | AQ28: =IF($C$5="SELECCIONA TU NOMBRE",0,VLOOKUP($BD$155+1,ValoresBonus!$B$3:$C$28,2,0)) -> 0 | BB28: x
BB29: x
C30: Kit Protección / Smart Business | G30: 699 € o más | K30: 350 | L30: 0 | N30: 0 | P30: 0 | R30: 0 | T30: 0 | V30: =T30+R30+P30+N30+L30 -> 0 | W30: =$V30*$K30 -> 0 | X30: =$L30+$N30 -> 0 | Y30: =$X30*$K30 -> 0 | BB30: x
BB31: x
C32: Kit Plus | G32: 249 € a 498 € | K32: 200 | L32: 0 | N32: 0 | P32: 0 | R32: 0 | T32: 0 | V32: =T32+R32+P32+N32+L32 -> 0 | W32: =$V32*$K32 -> 0 | X32: =$L32+$N32 -> 0 | Y32: =$X32*$K32 -> 0 | AB32: =IF($C$5="SELECCIONA TU NOMBRE","",IF($O$1=0,"",IF(AG32=0,"⚠️"," ✓"))) | AC32: Bonus Ventas Propias: | AG32: =IF($C$5="SELECCIONA TU NOMBRE","",$BE$194) -> 0 | AK32: =IF($C$5="SELECCIONA TU NOMBRE","",IF($O$1=0,"",IF($BE$191="No","El minimo para desbloquear el bonus es 5 ventas min (50% propias)",IF($BE$193="No","El minimo para desbloquear el bonus es =>50% propias","")))) | AQ32: =IF($C$5="SELECCIONA TU NOMBRE",0,$BG$194) -> 0 | BB32: x
BB33: x
C34: Kit Plus | G34: 499 € a 798 € | K34: 300 | L34: 0 | N34: 0 | P34: 0 | R34: 0 | T34: 0 | V34: =T34+R34+P34+N34+L34 -> 0 | W34: =$V34*$K34 -> 0 | X34: =$L34+$N34 -> 0 | Y34: =$X34*$K34 -> 0 | BB34: x
BB35: x
C36: Kit Plus | G36: 799 € o más | K36: 400 | L36: 0 | N36: 0 | P36: 0 | R36: 0 | T36: 0 | V36: =T36+R36+P36+N36+L36 -> 0 | W36: =$V36*$K36 -> 0 | X36: =$L36+$N36 -> 0 | Y36: =$X36*$K36 -> 0 | AB36: =IF($C$5="SELECCIONA TU NOMBRE","",IF($O$1=0,"",IF(AK36="No aplica para este bonus","",IF(AG36=0,"⚠️"," ✓")))) | AC36: Bonus de Arranque: | AG36: =IF($C$5="SELECCIONA TU NOMBRE","",$BE$183) -> 0 | AK36: =IF($C$5="SELECCIONA TU NOMBRE","",IF($O$1=0,"",IF($BE$154="No aplica","No aplica para este bonus",IF($BE$181="No","Falta "&$BE$176-$BE$179&" ventas totales y "&$BE$177-$BE$180&" propias para activar bonus",IF(AND($BE$182="No",$BE$181="Si"),"Falta "&$BE$177-$BE$180&" ventas propias para activar bonus",""))))) | AQ36: =IF($C$5="SELECCIONA TU NOMBRE",0,$BG$183) -> 0 | BB36: x
BB37: x
C38: Instalaciones (propias o a compañeros): | L38: W1 | N38: W2 | P38: W3 | R38: W4 | T38: W5 | V38: Total | BB38: x
BB39: x
C40: Kit Protección / Smart Business | K40: 50 | L40: 0 | N40: 0 | P40: 0 | R40: 0 | T40: 0 | V40: =T40+R40+P40+N40+L40 -> 0 | W40: =$V40*$K40 -> 0 | X40: =$L40+$N40 -> 0 | AB40: =IF($C$5="SELECCIONA TU NOMBRE","",IF($O$1=0,"",IF(AK40="No aplica para este bonus","",IF(AG40=0,"⚠️"," ✓")))) | AC40: Bonus Ritmo: | AG40: =IF($C$5="SELECCIONA TU NOMBRE","",$BE$173) -> 0 | AK40: =IF($C$5="SELECCIONA TU NOMBRE", "", IF($O$1=0, "", IF($BD$154="M1", "No aplica para este bonus", IF($BE$166="No", IF($BE$171="Si", "El mes ant no alcanzó el mínimo requerido, este mes alcanza el mínimo requerido que habilita el bonus ritmo del próximo mes", "El mes ant no alcanzó el mínimo requerido y este mes faltan "&$BE$172&" ventas que habilita el bonus ritmo del próximo mes"), IF($BE$171="No", "El mes ant alcanzó el mínimo requerido pero este mes faltan "&$BE$172&" ventas", ""))))) | AQ40: =IF($C$5="SELECCIONA TU NOMBRE",0,$BG$173) -> 0 | BB40: x
BB41: x
C42: Kit Plus | K42: 100 | L42: 0 | N42: 0 | P42: 0 | R42: 0 | T42: 0 | V42: =T42+R42+P42+N42+L42 -> 0 | W42: =$V42*$K42 -> 0 | X42: =$L42+$N42 -> 0 | BB42: x
BB43: x
C44: Elementos Extra Cobrados: | L44: W1 | N44: W2 | P44: W3 | R44: W4 | T44: W5 | V44: Total | AB44: =IF($C$5="SELECCIONA TU NOMBRE","",IF($O$1=0,"",IF(AK44="No aplica para este reconocimiento","",IF(AG44=0,"⚠️"," ✓")))) | AC44: Reconocimiento: | AG44: =IF($C$5="SELECCIONA TU NOMBRE","",$BE$208) -> 0 | AK44: =IF($BE$205>=10,"No aplica para este reconocimiento",IF($O$1=0,"",IF($BE$205>$BE$204,"No aplica para este reconocimiento",IF($BE$207="No","Falta "&$BE$204-$BE$205-$BE$206&" ventas para alcanzar el reconocimiento"," ")))) | AQ44: =IF($C$5="SELECCIONA TU NOMBRE",0,$BG$208) -> 0 | BB44: x
BB45: x
C46: Pack 1 elemento | K46: 10 | L46: 0 | N46: 0 | P46: 0 | R46: 0 | T46: 0 | V46: =T46+R46+P46+N46+L46 -> 0 | W46: =$V46*$K46 -> 0 | X46: =($L46+$N46)*$K46 -> 0 | BB46: x
BB47: x
C48: Pack 2 elementos | K48: 20 | L48: 0 | N48: 0 | P48: 0 | R48: 0 | T48: 0 | V48: =T48+R48+P48+N48+L48 -> 0 | W48: =$V48*$K48 -> 0 | X48: =($L48+$N48)*$K48 -> 0 | AB48: =IF($C$5="SELECCIONA TU NOMBRE","",IF($O$1=0,"",IF(AK48="No aplica para esta comisión","",IF(AG48=0,"⚠️"," ✓")))) | AC48: Team Coach: | AG48: =IF($C$5="SELECCIONA TU NOMBRE","",IF($BE$200="Si",$L$80*$K$80,0)) -> 0 | AK48: =IF($C$5="SELECCIONA TU NOMBRE","",IF($O$1=0,"",IF($BE$197="No","No aplica para esta comisión",IF($BE$200="No","Falta "&$BE$198-$BE$199&" ventas para activar la comision TC de "&$L$80*$K$80&" €"," ")))) | AQ48: =IF($C$5="SELECCIONA TU NOMBRE",0,IF($BE$200="Si",$L$80*$K$80,0)) -> 0 | BB48: x
BB49: x
C50: Pack 3 elementos | K50: 30 | L50: 0 | N50: 0 | P50: 0 | R50: 0 | T50: 0 | V50: =T50+R50+P50+N50+L50 -> 0 | W50: =$V50*$K50 -> 0 | X50: =($L50+$N50)*$K50 -> 0 | BB50: x
BB51: x
C52: Camara 180º | K52: 20 | L52: 0 | N52: 0 | P52: 0 | R52: 0 | T52: 0 | V52: =T52+R52+P52+N52+L52 -> 0 | W52: =$V52*$K52 -> 0 | X52: =($L52+$N52)*$K52 -> 0 | AC52: Early Churn: | AG52: =IF($C$5="SELECCIONA TU NOMBRE","",IFERROR(IF($L$84>0,$L$84*-1,$L$84),0)) -> 0 | AK52: Si tienes EC recuerda de agregar al final de la calculadora el importe informado | AQ52: =AG52 -> 0 | BB52: x
BB53: x
C54: Camara int/ext | K54: 20 | L54: 0 | N54: 0 | P54: 0 | R54: 0 | T54: 0 | V54: =T54+R54+P54+N54+L54 -> 0 | W54: =$V54*$K54 -> 0 | X54: =($L54+$N54)*$K54 -> 0 | BB54: x
BB55: x
C56: Detector de humo | K56: 10 | L56: 0 | N56: 0 | P56: 0 | R56: 0 | T56: 0 | V56: =T56+R56+P56+N56+L56 -> 0 | W56: =$V56*$K56 -> 0 | X56: =($L56+$N56)*$K56 -> 0 | AC56: Excepciones / Bonos: | AG56: =IF($C$5="SELECCIONA TU NOMBRE","",$L$88) -> 0 | AQ56: =AG56 -> 0 | BB56: x
BB57: x
C58: Enchufe inteligente | K58: 10 | L58: 0 | N58: 0 | P58: 0 | R58: 0 | T58: 0 | V58: =T58+R58+P58+N58+L58 -> 0 | W58: =$V58*$K58 -> 0 | X58: =($L58+$N58)*$K58 -> 0 | BB58: x
BB59: x
C60: Fuga de agua | K60: 10 | L60: 0 | N60: 0 | P60: 0 | R60: 0 | T60: 0 | V60: =T60+R60+P60+N60+L60 -> 0 | W60: =$V60*$K60 -> 0 | X60: =($L60+$N60)*$K60 -> 0 | BB60: x
BB61: x
C62: Magnetico | K62: 10 | L62: 0 | N62: 0 | P62: 0 | R62: 0 | T62: 0 | V62: =T62+R62+P62+N62+L62 -> 0 | W62: =$V62*$K62 -> 0 | X62: =($L62+$N62)*$K62 -> 0 | BB62: x
BB63: x
C64: Mando distancia | K64: 10 | L64: 0 | N64: 0 | P64: 0 | R64: 0 | T64: 0 | V64: =T64+R64+P64+N64+L64 -> 0 | W64: =$V64*$K64 -> 0 | X64: =($L64+$N64)*$K64 -> 0 | BB64: x
BB65: x
C66: Pack DVGA2-6 | K66: 20 | L66: 0 | N66: 0 | P66: 0 | R66: 0 | T66: 0 | V66: =T66+R66+P66+N66+L66 -> 0 | W66: =$V66*$K66 -> 0 | X66: =($L66+$N66)*$K66 -> 0 | BB66: x
BB67: x
C68: Pircam | K68: 10 | L68: 0 | N68: 0 | P68: 0 | R68: 0 | T68: 0 | V68: =T68+R68+P68+N68+L68 -> 0 | W68: =$V68*$K68 -> 0 | X68: =($L68+$N68)*$K68 -> 0 | BB68: x
BB69: x
C70: Sirena | K70: 20 | L70: 0 | N70: 0 | P70: 0 | R70: 0 | T70: 0 | V70: =T70+R70+P70+N70+L70 -> 0 | W70: =$V70*$K70 -> 0 | X70: =($L70+$N70)*$K70 -> 0 | BB70: x
BB71: x
C72: Sirena exterior | K72: 30 | L72: 0 | N72: 0 | P72: 0 | R72: 0 | T72: 0 | V72: =T72+R72+P72+N72+L72 -> 0 | W72: =$V72*$K72 -> 0 | X72: =($L72+$N72)*$K72 -> 0 | BB72: x
BB73: x
C74: Teclado | K74: 30 | L74: 0 | N74: 0 | P74: 0 | R74: 0 | T74: 0 | V74: =T74+R74+P74+N74+L74 -> 0 | W74: =$V74*$K74 -> 0 | X74: =($L74+$N74)*$K74 -> 0 | BB74: x
BB75: x
C76: Voice unit | K76: 20 | L76: 0 | N76: 0 | P76: 0 | R76: 0 | T76: 0 | V76: =T76+R76+P76+N76+L76 -> 0 | W76: =$V76*$K76 -> 0 | X76: =($L76+$N76)*$K76 -> 0 | BB76: x
BB77: x
C78: Team Coach: | BB78: x
BB79: x
C80: Ventas Equipo | K80: 30 | L80: 0 | BB80: x
BB81: x
C82: Early Churn: | BB82: x
BB83: x
C84: En caso de tener EC ingresa el monto informado: | L84: 0 | BB84: x
BB85: x
C86: Excepciones / Bonos: | BB86: x
BB87: x
C88: Aquí puedes ingresar cualquier valor: | L88: 0 | BB88: x
BB89: x
BB90: x
BB91: x
BB92: x
BB93: x
BB94: x
BB95: x
BB96: x
BB97: x
BB98: x
BB99: x
BB100: x
...

Sheet 2
B1: 1 | C1: =Inicio!$C$10&Inicio!$C$15&'2'!$B$1 -> diciembre1 | O1: =SUM(V12:V76) -> 0 | AQ1: =IF($O$1=0,"",IF($C$5="SELECCIONA TU NOMBRE","",IF(OR($BD$153="Field Sales Installer",$BD$153="Team Coach"),IF(SUM($AQ$16,$AQ$20,$AQ$24,$AQ$28,$AQ$32,$AQ$36,$AQ$40,$AQ$44,$AQ$48,$AQ$52)<=T5,"No abre comisiones. El mínimo para abrir comisiones es "&T5&" €",""),""))) | BB1: x
AB2: =IF($O$1=0,"",IF($BD$153="Field Sales Installer (NFS)","",IF(OR($BD$153="Field Sales Installer",$BD$153="Team Coach"),IF(SUM($AG$16,$AG$20,$AG$24,$AG$28,$AG$32,$AG$36,$AG$40,$AG$44,$AG$48,$AG$52,$AG$56)<0,"No abre comisiones. Tiene ec. El mín para abrir comisiones es "&T5&" €",IF(SUM($AG$16,$AG$20,$AG$24,$AG$28,$AG$32,$AG$36,$AG$40,$AG$44,$AG$48,$AG$52,$AG$56)<=T5,"No abre comisiones. El mínimo para abrir comisiones es "&T5&"€",""))))) | AQ2: =IF($BD$153="Field Sales Installer (NFS)","comisiones total con 1 VP más",IF(OR($BD$153="Field Sales Installer",$BD$153="Team Coach"),IF(SUM($AQ$16,$AQ$20,$AQ$24,$AQ$28,$AQ$32,$AQ$36,$AQ$40,$AQ$44,$AQ$48,$AQ$52)<=T5,"generado total con 1 VP más","comisiones total con 1 VP más"),"")) -> comisiones total con 1 VP más | BB2: x
BB3: x
C4: ="¡Hola "&IFERROR(VLOOKUP(Inicio!$C$20,ListaDespelgable!$C$2:$D$11,2,0),"")&"! Selecciona el nombre del FSR:" -> ¡Hola ! Selecciona el nombre del FSR: | K4: =IF(C5="FSR NUEVO","Puedes escribir aquí su nombre:","") | AB4: =IF($BD$153="Field Sales Installer (NFS)"," Comisión Generada:"," Comisión a Cobrar:") -> Comisión Generada: | AG4: =IF(SUM($AG$16,$AG$20,$AG$24,$AG$28,$AG$32,$AG$36,$AG$40,$AG$44,$AG$48,$AG$52,$AG$56)<0,0,IF(OR($BD$153="Field Sales Installer",$BD$153="Team Coach"),IF(SUM($AG$16,$AG$20,$AG$24,$AG$28,$AG$36,$AG$52,$AG$56)>=T5,SUM($AG$16,$AG$20,$AG$24,$AG$28,$AG$32,$AG$36,$AG$40,$AG$44,$AG$48,$AG$52,$AG$56)-T5,0),SUM($AG$16,$AG$20,$AG$24,$AG$28,$AG$32,$AG$36,$AG$40,$AG$44,$AG$48,$AG$52,$AG$56))) -> 0 | BB4: x
T5: =IF($BD$153="Field Sales Installer (NFS)","",VLOOKUP(V5,ValoresBonus!P:Q,2,0)) | V5: 0 | AQ5: =IF($BD$153="Field Sales Installer (NFS)",SUM($AQ$16,$AQ$20,$AQ$24,$AQ$28,$AQ$32,$AQ$36,$AQ$40,$AQ$44,$AQ$48,$AQ$52,$AQ$56),IF(OR($BD$153="Field Sales Installer",$BD$153="Team Coach"),IF(SUM($AQ$16,$AQ$20,$AQ$24,$AQ$28,$AQ$36,$AQ$52,$AQ$56)>=T5,SUM($AQ$16,$AQ$20,$AQ$24,$AQ$28,$AQ$32,$AQ$36,$AQ$40,$AQ$44,$AQ$48,$AQ$52,$AQ$56)-T5,SUM($AQ$16,$AQ$20,$AQ$24,$AQ$28,$AQ$36,$AQ$52,$AQ$56)))) -> 200 | AR5: ="+"&(SUM($AQ$16,$AQ$20,$AQ$24,$AQ$28,$AQ$32,$AQ$36,$AQ$40,$AQ$44,$AQ$48,$AQ$52,$AQ$56)-SUM($AG$16,$AG$20,$AG$24,$AG$28,$AG$32,$AG$36,$AG$40,$AG$44,$AG$48,$AG$52,$AG$56))&" €" -> +200 € | BB5: x | CC5: =IF(BD153="Field Sales Installer (NFS)","","VACACIONES SALARIO FIJO (semanas completas)")
BB6: x
C7: ="Puesto: "&$BD$150&" | "&"Seniority: "&$BD$154&" | Ventas mes anterior: "&$BD$157 -> Puesto: NFS | Seniority: M1 | Ventas mes anterior: 0 | V7: NO | W7: SI | AB7: =IF($BD$153="Field Sales Installer (NFS)"," Primer Tramo:"," Base para Abrir Comisiones:") -> Primer Tramo: | AG7: =IF($BD$153="Field Sales Installer (NFS)",BO170,T5) -> 0 | BB7: x
L8: =IF($BD$153="Field Sales Installer (NFS)","PRIMER TRAMO","") -> PRIMER TRAMO | P8: =IF($BD$153="Field Sales Installer (NFS)","SEGUNDO TRAMO","") -> SEGUNDO TRAMO | W8: NO | BB8: x
BB9: x
C10: Ventas COLD DOOR / REF: | L10: W1 | N10: W2 | P10: W3 | R10: W4 | T10: W5 | V10: Total | AB10: =IF($BD$153="Field Sales Installer (NFS)",""," Resultado:") | AF10: =IF($BD$153="Field Sales Installer (NFS)","",IF($AG$12>=$AG$7,"Abre Comisiones","No Abre Comisiones")) | AQ10: =IF($BD$153="Field Sales Installer (NFS)",Inicio!$J$2,"") -> Periodo desde: 1/12 al 14/12 | Fecha pago: 18/12 | BB10: x
BB11: x
C12: Kit Protección / Smart Business | G12: 149 € a 398 € | K12: 200 | L12: 0 | N12: 0 | P12: 0 | R12: 0 | T12: 0 | V12: =T12+R12+P12+N12+L12 -> 0 | W12: =$V12*$K12 -> 0 | X12: =$L12+$N12 -> 0 | Y12: =$X12*$K12 -> 0 | AB12: =IF($BD$153="Field Sales Installer (NFS)"," Segundo Tramo:"," Generado:") -> Segundo Tramo: | AG12: =IF($BD$153="Field Sales Installer (NFS)",($AG$4-$AG$7),(AG16+AG20+AG24+AG28+AG32+AG36+AG40+AG44+AG48+AG52+AG56)) -> 0 | BB12: x
AQ13: =IF($BD$153="Field Sales Installer (NFS)",Inicio!$J$4,"") -> Fecha pago: 31/12 | BB13: x
C14: Kit Protección / Smart Business | G14: 399 € a 698 € | K14: 300 | L14: 0 | N14: 0 | P14: 0 | R14: 0 | T14: 0 | V14: =T14+R14+P14+N14+L14 -> 0 | W14: =$V14*$K14 -> 0 | X14: =$L14+$N14 -> 0 | Y14: =$X14*$K14 -> 0 | AK14: =$AR$5 -> +200 € | BB14: x
BB15: x
C16: Kit Protección / Smart Business | G16: 699 € o más | K16: 400 | L16: 0 | N16: 0 | P16: 0 | R16: 0 | T16: 0 | V16: =T16+R16+P16+N16+L16 -> 0 | W16: =$V16*$K16 -> 0 | X16: =$L16+$N16 -> 0 | Y16: =$X16*$K16 -> 0 | AB16: =IF($C$5="SELECCIONA TU NOMBRE","",($V$12+$V$14+$V$16+$V$18+$V$20+$V$22+$V$26+$V$28+$V$30+$V$32+$V$34+$V$36)) -> 0 | AD16: Ventas Totales: | AG16: =IF($C$5="SELECCIONA TU NOMBRE","",($W$12+$W$14+$W$16+$W$18+$W$20+$W$22+$W$26+$W$28+$W$30+$W$32+$W$34+$W$36)) -> 0 | AQ16: =IF($C$5="SELECCIONA TU NOMBRE","",($W$12+$W$14+$W$16+$W$18+$W$20+$W$22+$W$26+$W$28+$W$30+$W$32+$W$34+$W$36+200)) -> 200 | BB16: x
BB17: x
C18: Kit Plus | G18: 249 € a 498 € | K18: 250 | L18: 0 | N18: 0 | P18: 0 | R18: 0 | T18: 0 | V18: =T18+R18+P18+N18+L18 -> 0 | W18: =$V18*$K18 -> 0 | X18: =$L18+$N18 -> 0 | Y18: =$X18*$K18 -> 0 | BB18: x
BB19: x
C20: Kit Plus | G20: 499 € a 798 € | K20: 350 | L20: 0 | N20: 0 | P20: 0 | R20: 0 | T20: 0 | V20: =T20+R20+P20+N20+L20 -> 0 | W20: =$V20*$K20 -> 0 | X20: =$L20+$N20 -> 0 | Y20: =$X20*$K20 -> 0 | AB20: =IF($C$5="SELECCIONA TU NOMBRE","",($V$46+$V$48+$V$50+$V$52+$V$54+$V$56+$V$58+$V$60+$V$62+$V$64+$V$66+$V$68+$V$70+$V$72+$V$74+$V$76)) -> 0 | AD20: Elementos Extra: | AG20: =IF($C$5="SELECCIONA TU NOMBRE","",($W$46+$W$48+$W$50+$W$52+$W$54+$W$56+$W$58+$W$60+$W$62+$W$64+$W$66+$W$68+$W$70+$W$72+$W$74+$W$76)) -> 0 | AQ20: =AG20 -> 0 | BB20: x
BB21: x
C22: Kit Plus | G22: 799 € o más | K22: 450 | L22: 0 | N22: 0 | P22: 0 | R22: 0 | T22: 0 | V22: =T22+R22+P22+N22+L22 -> 0 | W22: =$V22*$K22 -> 0 | X22: =$L22+$N22 -> 0 | Y22: =$X22*$K22 -> 0 | BB22: x
BB23: x
C24: Ventas LEAD: | L24: W1 | N24: W2 | P24: W3 | R24: W4 | T24: W5 | V24: Total | AB24: =IF($C$5="SELECCIONA TU NOMBRE","",($V$40+$V$42)) -> 0 | AD24: Instalaciones: | AG24: =IF($C$5="SELECCIONA TU NOMBRE","",($W$40+$W$42)) -> 0 | AQ24: =AG24 -> 0 | BB24: x
BB25: x
C26: Kit Protección / Smart Business | G26: 149 € a 398 € | K26: 150 | L26: 0 | N26: 0 | P26: 0 | R26: 0 | T26: 0 | V26: =T26+R26+P26+N26+L26 -> 0 | W26: =$V26*$K26 -> 0 | X26: =$L26+$N26 -> 0 | Y26: =$X26*$K26 -> 0 | BB26: x
BB27: x
C28: Kit Protección / Smart Business | G28: 399 € a 698 € | K28: 250 | L28: 0 | N28: 0 | P28: 0 | R28: 0 | T28: 0 | V28: =T28+R28+P28+N28+L28 -> 0 | W28: =$V28*$K28 -> 0 | X28: =$L28+$N28 -> 0 | Y28: =$X28*$K28 -> 0 | AB28: =IF($C$5="SELECCIONA TU NOMBRE","",IF($O$1=0,"",IF(AG28=0,"⚠️"," ✓"))) | AC28: Bonus Ventas Totales: | AG28: =IF($C$5="SELECCIONA TU NOMBRE","",VLOOKUP($BD$155,ValoresBonus!$B$3:$C$28,2,0)) -> 0 | AK28: =IF($C$5="SELECCIONA TU NOMBRE","",IF($O$1=0,"",IF($BD$155<5,"Faltan "&5-$BD$155&" ventas para activar bonus",""))) | AQ28: =IF($C$5="SELECCIONA TU NOMBRE",0,VLOOKUP($BD$155+1,ValoresBonus!$B$3:$C$28,2,0)) -> 0 | BB28: x
BB29: x
C30: Kit Protección / Smart Business | G30: 699 € o más | K30: 350 | L30: 0 | N30: 0 | P30: 0 | R30: 0 | T30: 0 | V30: =T30+R30+P30+N30+L30 -> 0 | W30: =$V30*$K30 -> 0 | X30: =$L30+$N30 -> 0 | Y30: =$X30*$K30 -> 0 | BB30: x
BB31: x
C32: Kit Plus | G32: 249 € a 498 € | K32: 200 | L32: 0 | N32: 0 | P32: 0 | R32: 0 | T32: 0 | V32: =T32+R32+P32+N32+L32 -> 0 | W32: =$V32*$K32 -> 0 | X32: =$L32+$N32 -> 0 | Y32: =$X32*$K32 -> 0 | AB32: =IF($C$5="SELECCIONA TU NOMBRE","",IF($O$1=0,"",IF(AG32=0,"⚠️"," ✓"))) | AC32: Bonus Ventas Propias: | AG32: =IF($C$5="SELECCIONA TU NOMBRE","",$BE$194) -> 0 | AK32: =IF($C$5="SELECCIONA TU NOMBRE","",IF($O$1=0,"",IF($BE$191="No","El minimo para desbloquear el bonus es 5 ventas min (50% propias)",IF($BE$193="No","El minimo para desbloquear el bonus es =>50% propias","")))) | AQ32: =IF($C$5="SELECCIONA TU NOMBRE",0,$BG$194) -> 0 | BB32: x
BB33: x
C34: Kit Plus | G34: 499 € a 798 € | K34: 300 | L34: 0 | N34: 0 | P34: 0 | R34: 0 | T34: 0 | V34: =T34+R34+P34+N34+L34 -> 0 | W34: =$V34*$K34 -> 0 | X34: =$L34+$N34 -> 0 | Y34: =$X34*$K34 -> 0 | BB34: x
BB35: x
C36: Kit Plus | G36: 799 € o más | K36: 400 | L36: 0 | N36: 0 | P36: 0 | R36: 0 | T36: 0 | V36: =T36+R36+P36+N36+L36 -> 0 | W36: =$V36*$K36 -> 0 | X36: =$L36+$N36 -> 0 | Y36: =$X36*$K36 -> 0 | AB36: =IF($C$5="SELECCIONA TU NOMBRE","",IF($O$1=0,"",IF(AK36="No aplica para este bonus","",IF(AG36=0,"⚠️"," ✓")))) | AC36: Bonus de Arranque: | AG36: =IF($C$5="SELECCIONA TU NOMBRE","",$BE$183) -> 0 | AK36: =IF($C$5="SELECCIONA TU NOMBRE","",IF($O$1=0,"",IF($BE$154="No aplica","No aplica para este bonus",IF($BE$181="No","Falta "&$BE$176-$BE$179&" ventas totales y "&$BE$177-$BE$180&" propias para activar bonus",IF(AND($BE$182="No",$BE$181="Si"),"Falta "&$BE$177-$BE$180&" ventas propias para activar bonus",""))))) | AQ36: =IF($C$5="SELECCIONA TU NOMBRE",0,$BG$183) -> 0 | BB36: x
BB37: x
C38: Instalaciones (propias o a compañeros): | L38: W1 | N38: W2 | P38: W3 | R38: W4 | T38: W5 | V38: Total | BB38: x
BB39: x
C40: Kit Protección / Smart Business | K40: 50 | L40: 0 | N40: 0 | P40: 0 | R40: 0 | T40: 0 | V40: =T40+R40+P40+N40+L40 -> 0 | W40: =$V40*$K40 -> 0 | X40: =$L40+$N40 -> 0 | AB40: =IF($C$5="SELECCIONA TU NOMBRE","",IF($O$1=0,"",IF(AK40="No aplica para este bonus","",IF(AG40=0,"⚠️"," ✓")))) | AC40: Bonus Ritmo: | AG40: =IF($C$5="SELECCIONA TU NOMBRE","",$BE$173) -> 0 | AK40: =IF($C$5="SELECCIONA TU NOMBRE", "", IF($O$1=0, "", IF($BD$154="M1", "No aplica para este bonus", IF($BE$166="No", IF($BE$171="Si", "El mes ant no alcanzó el mínimo requerido, este mes alcanza el mínimo requerido que habilita el bonus ritmo del próximo mes", "El mes ant no alcanzó el mínimo requerido y este mes faltan "&$BE$172&" ventas que habilita el bonus ritmo del próximo mes"), IF($BE$171="No", "El mes ant alcanzó el mínimo requerido pero este mes faltan "&$BE$172&" ventas", ""))))) | AQ40: =IF($C$5="SELECCIONA TU NOMBRE",0,$BG$173) -> 0 | BB40: x
BB41: x
C42: Kit Plus | K42: 100 | L42: 0 | N42: 0 | P42: 0 | R42: 0 | T42: 0 | V42: =T42+R42+P42+N42+L42 -> 0 | W42: =$V42*$K42 -> 0 | X42: =$L42+$N42 -> 0 | BB42: x
BB43: x
C44: Elementos Extra Cobrados: | L44: W1 | N44: W2 | P44: W3 | R44: W4 | T44: W5 | V44: Total | AB44: =IF($C$5="SELECCIONA TU NOMBRE","",IF($O$1=0,"",IF(AK44="No aplica para este reconocimiento","",IF(AG44=0,"⚠️"," ✓")))) | AC44: Reconocimiento: | AG44: =IF($C$5="SELECCIONA TU NOMBRE","",$BE$208) -> 0 | AK44: =IF($BE$205>=10,"No aplica para este reconocimiento",IF($O$1=0,"",IF($BE$205>$BE$204,"No aplica para este reconocimiento",IF($BE$207="No","Falta "&$BE$204-$BE$205-$BE$206&" ventas para alcanzar el reconocimiento"," ")))) | AQ44: =IF($C$5="SELECCIONA TU NOMBRE",0,$BG$208) -> 0 | BB44: x
BB45: x
C46: Pack 1 elemento | K46: 10 | L46: 0 | N46: 0 | P46: 0 | R46: 0 | T46: 0 | V46: =T46+R46+P46+N46+L46 -> 0 | W46: =$V46*$K46 -> 0 | X46: =($L46+$N46)*$K46 -> 0 | BB46: x
BB47: x
C48: Pack 2 elementos | K48: 20 | L48: 0 | N48: 0 | P48: 0 | R48: 0 | T48: 0 | V48: =T48+R48+P48+N48+L48 -> 0 | W48: =$V48*$K48 -> 0 | X48: =($L48+$N48)*$K48 -> 0 | AB48: =IF($C$5="SELECCIONA TU NOMBRE","",IF($O$1=0,"",IF(AK48="No aplica para esta comisión","",IF(AG48=0,"⚠️"," ✓")))) | AC48: Team Coach: | AG48: =IF($C$5="SELECCIONA TU NOMBRE","",IF($BE$200="Si",$L$80*$K$80,0)) -> 0 | AK48: =IF($C$5="SELECCIONA TU NOMBRE","",IF($O$1=0,"",IF($BE$197="No","No aplica para esta comisión",IF($BE$200="No","Falta "&$BE$198-$BE$199&" ventas para activar la comision TC de "&$L$80*$K$80&" €"," ")))) | AQ48: =IF($C$5="SELECCIONA TU NOMBRE",0,IF($BE$200="Si",$L$80*$K$80,0)) -> 0 | BB48: x
BB49: x
C50: Pack 3 elementos | K50: 30 | L50: 0 | N50: 0 | P50: 0 | R50: 0 | T50: 0 | V50: =T50+R50+P50+N50+L50 -> 0 | W50: =$V50*$K50 -> 0 | X50: =($L50+$N50)*$K50 -> 0 | BB50: x
BB51: x
C52: Camara 180º | K52: 20 | L52: 0 | N52: 0 | P52: 0 | R52: 0 | T52: 0 | V52: =T52+R52+P52+N52+L52 -> 0 | W52: =$V52*$K52 -> 0 | X52: =($L52+$N52)*$K52 -> 0 | AC52: Early Churn: | AG52: =IF($C$5="SELECCIONA TU NOMBRE","",IFERROR(IF($L$84>0,$L$84*-1,$L$84),0)) -> 0 | AK52: Si tienes EC recuerda de agregar al final de la calculadora el importe informado | AQ52: =AG52 -> 0 | BB52: x
BB53: x
C54: Camara int/ext | K54: 20 | L54: 0 | N54: 0 | P54: 0 | R54: 0 | T54: 0 | V54: =T54+R54+P54+N54+L54 -> 0 | W54: =$V54*$K54 -> 0 | X54: =($L54+$N54)*$K54 -> 0 | BB54: x
BB55: x
C56: Detector de humo | K56: 10 | L56: 0 | N56: 0 | P56: 0 | R56: 0 | T56: 0 | V56: =T56+R56+P56+N56+L56 -> 0 | W56: =$V56*$K56 -> 0 | X56: =($L56+$N56)*$K56 -> 0 | AC56: Excepciones / Bonos: | AG56: =IF($C$5="SELECCIONA TU NOMBRE","",$L$88) -> 0 | AQ56: =AG56 -> 0 | BB56: x
BB57: x
C58: Enchufe inteligente | K58: 10 | L58: 0 | N58: 0 | P58: 0 | R58: 0 | T58: 0 | V58: =T58+R58+P58+N58+L58 -> 0 | W58: =$V58*$K58 -> 0 | X58: =($L58+$N58)*$K58 -> 0 | BB58: x
BB59: x
C60: Fuga de agua | K60: 10 | L60: 0 | N60: 0 | P60: 0 | R60: 0 | T60: 0 | V60: =T60+R60+P60+N60+L60 -> 0 | W60: =$V60*$K60 -> 0 | X60: =($L60+$N60)*$K60 -> 0 | BB60: x
BB61: x
C62: Magnetico | K62: 10 | L62: 0 | N62: 0 | P62: 0 | R62: 0 | T62: 0 | V62: =T62+R62+P62+N62+L62 -> 0 | W62: =$V62*$K62 -> 0 | X62: =($L62+$N62)*$K62 -> 0 | BB62: x
BB63: x
C64: Mando distancia | K64: 10 | L64: 0 | N64: 0 | P64: 0 | R64: 0 | T64: 0 | V64: =T64+R64+P64+N64+L64 -> 0 | W64: =$V64*$K64 -> 0 | X64: =($L64+$N64)*$K64 -> 0 | BB64: x
BB65: x
C66: Pack DVGA2-6 | K66: 20 | L66: 0 | N66: 0 | P66: 0 | R66: 0 | T66: 0 | V66: =T66+R66+P66+N66+L66 -> 0 | W66: =$V66*$K66 -> 0 | X66: =($L66+$N66)*$K66 -> 0 | BB66: x
BB67: x
C68: Pircam | K68: 10 | L68: 0 | N68: 0 | P68: 0 | R68: 0 | T68: 0 | V68: =T68+R68+P68+N68+L68 -> 0 | W68: =$V68*$K68 -> 0 | X68: =($L68+$N68)*$K68 -> 0 | BB68: x
BB69: x
C70: Sirena | K70: 20 | L70: 0 | N70: 0 | P70: 0 | R70: 0 | T70: 0 | V70: =T70+R70+P70+N70+L70 -> 0 | W70: =$V70*$K70 -> 0 | X70: =($L70+$N70)*$K70 -> 0 | BB70: x
BB71: x
C72: Sirena exterior | K72: 30 | L72: 0 | N72: 0 | P72: 0 | R72: 0 | T72: 0 | V72: =T72+R72+P72+N72+L72 -> 0 | W72: =$V72*$K72 -> 0 | X72: =($L72+$N72)*$K72 -> 0 | BB72: x
BB73: x
C74: Teclado | K74: 30 | L74: 0 | N74: 0 | P74: 0 | R74: 0 | T74: 0 | V74: =T74+R74+P74+N74+L74 -> 0 | W74: =$V74*$K74 -> 0 | X74: =($L74+$N74)*$K74 -> 0 | BB74: x
BB75: x
C76: Voice unit | K76: 20 | L76: 0 | N76: 0 | P76: 0 | R76: 0 | T76: 0 | V76: =T76+R76+P76+N76+L76 -> 0 | W76: =$V76*$K76 -> 0 | X76: =($L76+$N76)*$K76 -> 0 | BB76: x
BB77: x
C78: Team Coach: | BB78: x
BB79: x
C80: Ventas Equipo | K80: 30 | L80: 0 | BB80: x
BB81: x
C82: Early Churn: | BB82: x
BB83: x
C84: En caso de tener EC ingresa el monto informado: | L84: 0 | BB84: x
BB85: x
C86: Excepciones / Bonos: | BB86: x
BB87: x
C88: Aquí puedes ingresar cualquier valor: | L88: 0 | BB88: x
BB89: x
BB90: x
BB91: x
BB92: x
BB93: x
BB94: x
BB95: x
BB96: x
BB97: x
BB98: x
BB99: x
BB100: x
...

Sheet 3
B1: 1 | C1: =Inicio!$C$10&Inicio!$C$15&'3'!$B$1 -> diciembre1 | O1: =SUM(V12:V76) -> 0 | AQ1: =IF($O$1=0,"",IF($C$5="SELECCIONA TU NOMBRE","",IF(OR($BD$153="Field Sales Installer",$BD$153="Team Coach"),IF(SUM($AQ$16,$AQ$20,$AQ$24,$AQ$28,$AQ$32,$AQ$36,$AQ$40,$AQ$44,$AQ$48,$AQ$52)<=T5,"No abre comisiones. El mínimo para abrir comisiones es "&T5&" €",""),""))) | BB1: x
AB2: =IF($O$1=0,"",IF($BD$153="Field Sales Installer (NFS)","",IF(OR($BD$153="Field Sales Installer",$BD$153="Team Coach"),IF(SUM($AG$16,$AG$20,$AG$24,$AG$28,$AG$32,$AG$36,$AG$40,$AG$44,$AG$48,$AG$52,$AG$56)<0,"No abre comisiones. Tiene ec. El mín para abrir comisiones es "&T5&" €",IF(SUM($AG$16,$AG$20,$AG$24,$AG$28,$AG$32,$AG$36,$AG$40,$AG$44,$AG$48,$AG$52,$AG$56)<=T5,"No abre comisiones. El mínimo para abrir comisiones es "&T5&"€",""))))) | AQ2: =IF($BD$153="Field Sales Installer (NFS)","comisiones total con 1 VP más",IF(OR($BD$153="Field Sales Installer",$BD$153="Team Coach"),IF(SUM($AQ$16,$AQ$20,$AQ$24,$AQ$28,$AQ$32,$AQ$36,$AQ$40,$AQ$44,$AQ$48,$AQ$52)<=T5,"generado total con 1 VP más","comisiones total con 1 VP más"),"")) -> comisiones total con 1 VP más | BB2: x
BB3: x
C4: ="¡Hola "&IFERROR(VLOOKUP(Inicio!$C$20,ListaDespelgable!$C$2:$D$11,2,0),"")&"! Selecciona el nombre del FSR:" -> ¡Hola ! Selecciona el nombre del FSR: | K4: =IF(C5="FSR NUEVO","Puedes escribir aquí su nombre:","") | AB4: =IF($BD$153="Field Sales Installer (NFS)"," Comisión Generada:"," Comisión a Cobrar:") -> Comisión Generada: | AG4: =IF(SUM($AG$16,$AG$20,$AG$24,$AG$28,$AG$32,$AG$36,$AG$40,$AG$44,$AG$48,$AG$52,$AG$56)<0,0,IF(OR($BD$153="Field Sales Installer",$BD$153="Team Coach"),IF(SUM($AG$16,$AG$20,$AG$24,$AG$28,$AG$36,$AG$52,$AG$56)>=T5,SUM($AG$16,$AG$20,$AG$24,$AG$28,$AG$32,$AG$36,$AG$40,$AG$44,$AG$48,$AG$52,$AG$56)-T5,0),SUM($AG$16,$AG$20,$AG$24,$AG$28,$AG$32,$AG$36,$AG$40,$AG$44,$AG$48,$AG$52,$AG$56))) -> 0 | BB4: x
T5: =IF($BD$153="Field Sales Installer (NFS)","",VLOOKUP(V5,ValoresBonus!P:Q,2,0)) | V5: 0 | AQ5: =IF($BD$153="Field Sales Installer (NFS)",SUM($AQ$16,$AQ$20,$AQ$24,$AQ$28,$AQ$32,$AQ$36,$AQ$40,$AQ$44,$AQ$48,$AQ$52,$AQ$56),IF(OR($BD$153="Field Sales Installer",$BD$153="Team Coach"),IF(SUM($AQ$16,$AQ$20,$AQ$24,$AQ$28,$AQ$36,$AQ$52,$AQ$56)>=T5,SUM($AQ$16,$AQ$20,$AQ$24,$AQ$28,$AQ$32,$AQ$36,$AQ$40,$AQ$44,$AQ$48,$AQ$52,$AQ$56)-T5,SUM($AQ$16,$AQ$20,$AQ$24,$AQ$28,$AQ$36,$AQ$52,$AQ$56)))) -> 200 | AR5: ="+"&(SUM($AQ$16,$AQ$20,$AQ$24,$AQ$28,$AQ$32,$AQ$36,$AQ$40,$AQ$44,$AQ$48,$AQ$52,$AQ$56)-SUM($AG$16,$AG$20,$AG$24,$AG$28,$AG$32,$AG$36,$AG$40,$AG$44,$AG$48,$AG$52,$AG$56))&" €" -> +200 € | BB5: x | CC5: =IF(BD153="Field Sales Installer (NFS)","","VACACIONES SALARIO FIJO (semanas completas)")
BB6: x
C7: ="Puesto: "&$BD$150&" | "&"Seniority: "&$BD$154&" | Ventas mes anterior: "&$BD$157 -> Puesto: NFS | Seniority: M1 | Ventas mes anterior: 0 | V7: NO | W7: SI | AB7: =IF($BD$153="Field Sales Installer (NFS)"," Primer Tramo:"," Base para Abrir Comisiones:") -> Primer Tramo: | AG7: =IF($BD$153="Field Sales Installer (NFS)",BO170,T5) -> 0 | BB7: x
L8: =IF($BD$153="Field Sales Installer (NFS)","PRIMER TRAMO","") -> PRIMER TRAMO | P8: =IF($BD$153="Field Sales Installer (NFS)","SEGUNDO TRAMO","") -> SEGUNDO TRAMO | W8: NO | BB8: x
BB9: x
C10: Ventas COLD DOOR / REF: | L10: W1 | N10: W2 | P10: W3 | R10: W4 | T10: W5 | V10: Total | AB10: =IF($BD$153="Field Sales Installer (NFS)",""," Resultado:") | AF10: =IF($BD$153="Field Sales Installer (NFS)","",IF($AG$12>=$AG$7,"Abre Comisiones","No Abre Comisiones")) | AQ10: =IF($BD$153="Field Sales Installer (NFS)",Inicio!$J$2,"") -> Periodo desde: 1/12 al 14/12 | Fecha pago: 18/12 | BB10: x
BB11: x
C12: Kit Protección / Smart Business | G12: 149 € a 398 € | K12: 200 | L12: 0 | N12: 0 | P12: 0 | R12: 0 | T12: 0 | V12: =T12+R12+P12+N12+L12 -> 0 | W12: =$V12*$K12 -> 0 | X12: =$L12+$N12 -> 0 | Y12: =$X12*$K12 -> 0 | AB12: =IF($BD$153="Field Sales Installer (NFS)"," Segundo Tramo:"," Generado:") -> Segundo Tramo: | AG12: =IF($BD$153="Field Sales Installer (NFS)",($AG$4-$AG$7),(AG16+AG20+AG24+AG28+AG32+AG36+AG40+AG44+AG48+AG52+AG56)) -> 0 | BB12: x
AQ13: =IF($BD$153="Field Sales Installer (NFS)",Inicio!$J$4,"") -> Fecha pago: 31/12 | BB13: x
C14: Kit Protección / Smart Business | G14: 399 € a 698 € | K14: 300 | L14: 0 | N14: 0 | P14: 0 | R14: 0 | T14: 0 | V14: =T14+R14+P14+N14+L14 -> 0 | W14: =$V14*$K14 -> 0 | X14: =$L14+$N14 -> 0 | Y14: =$X14*$K14 -> 0 | AK14: =$AR$5 -> +200 € | BB14: x
BB15: x
C16: Kit Protección / Smart Business | G16: 699 € o más | K16: 400 | L16: 0 | N16: 0 | P16: 0 | R16: 0 | T16: 0 | V16: =T16+R16+P16+N16+L16 -> 0 | W16: =$V16*$K16 -> 0 | X16: =$L16+$N16 -> 0 | Y16: =$X16*$K16 -> 0 | AB16: =IF($C$5="SELECCIONA TU NOMBRE","",($V$12+$V$14+$V$16+$V$18+$V$20+$V$22+$V$26+$V$28+$V$30+$V$32+$V$34+$V$36)) -> 0 | AD16: Ventas Totales: | AG16: =IF($C$5="SELECCIONA TU NOMBRE","",($W$12+$W$14+$W$16+$W$18+$W$20+$W$22+$W$26+$W$28+$W$30+$W$32+$W$34+$W$36)) -> 0 | AQ16: =IF($C$5="SELECCIONA TU NOMBRE","",($W$12+$W$14+$W$16+$W$18+$W$20+$W$22+$W$26+$W$28+$W$30+$W$32+$W$34+$W$36+200)) -> 200 | BB16: x
BB17: x
C18: Kit Plus | G18: 249 € a 498 € | K18: 250 | L18: 0 | N18: 0 | P18: 0 | R18: 0 | T18: 0 | V18: =T18+R18+P18+N18+L18 -> 0 | W18: =$V18*$K18 -> 0 | X18: =$L18+$N18 -> 0 | Y18: =$X18*$K18 -> 0 | BB18: x
BB19: x
C20: Kit Plus | G20: 499 € a 798 € | K20: 350 | L20: 0 | N20: 0 | P20: 0 | R20: 0 | T20: 0 | V20: =T20+R20+P20+N20+L20 -> 0 | W20: =$V20*$K20 -> 0 | X20: =$L20+$N20 -> 0 | Y20: =$X20*$K20 -> 0 | AB20: =IF($C$5="SELECCIONA TU NOMBRE","",($V$46+$V$48+$V$50+$V$52+$V$54+$V$56+$V$58+$V$60+$V$62+$V$64+$V$66+$V$68+$V$70+$V$72+$V$74+$V$76)) -> 0 | AD20: Elementos Extra: | AG20: =IF($C$5="SELECCIONA TU NOMBRE","",($W$46+$W$48+$W$50+$W$52+$W$54+$W$56+$W$58+$W$60+$W$62+$W$64+$W$66+$W$68+$W$70+$W$72+$W$74+$W$76)) -> 0 | AQ20: =AG20 -> 0 | BB20: x
BB21: x
C22: Kit Plus | G22: 799 € o más | K22: 450 | L22: 0 | N22: 0 | P22: 0 | R22: 0 | T22: 0 | V22: =T22+R22+P22+N22+L22 -> 0 | W22: =$V22*$K22 -> 0 | X22: =$L22+$N22 -> 0 | Y22: =$X22*$K22 -> 0 | BB22: x
BB23: x
C24: Ventas LEAD: | L24: W1 | N24: W2 | P24: W3 | R24: W4 | T24: W5 | V24: Total | AB24: =IF($C$5="SELECCIONA TU NOMBRE","",($V$40+$V$42)) -> 0 | AD24: Instalaciones: | AG24: =IF($C$5="SELECCIONA TU NOMBRE","",($W$40+$W$42)) -> 0 | AQ24: =AG24 -> 0 | BB24: x
BB25: x
C26: Kit Protección / Smart Business | G26: 149 € a 398 € | K26: 150 | L26: 0 | N26: 0 | P26: 0 | R26: 0 | T26: 0 | V26: =T26+R26+P26+N26+L26 -> 0 | W26: =$V26*$K26 -> 0 | X26: =$L26+$N26 -> 0 | Y26: =$X26*$K26 -> 0 | BB26: x
BB27: x
C28: Kit Protección / Smart Business | G28: 399 € a 698 € | K28: 250 | L28: 0 | N28: 0 | P28: 0 | R28: 0 | T28: 0 | V28: =T28+R28+P28+N28+L28 -> 0 | W28: =$V28*$K28 -> 0 | X28: =$L28+$N28 -> 0 | Y28: =$X28*$K28 -> 0 | AB28: =IF($C$5="SELECCIONA TU NOMBRE","",IF($O$1=0,"",IF(AG28=0,"⚠️"," ✓"))) | AC28: Bonus Ventas Totales: | AG28: =IF($C$5="SELECCIONA TU NOMBRE","",VLOOKUP($BD$155,ValoresBonus!$B$3:$C$28,2,0)) -> 0 | AK28: =IF($C$5="SELECCIONA TU NOMBRE","",IF($O$1=0,"",IF($BD$155<5,"Faltan "&5-$BD$155&" ventas para activar bonus",""))) | AQ28: =IF($C$5="SELECCIONA TU NOMBRE",0,VLOOKUP($BD$155+1,ValoresBonus!$B$3:$C$28,2,0)) -> 0 | BB28: x
BB29: x
C30: Kit Protección / Smart Business | G30: 699 € o más | K30: 350 | L30: 0 | N30: 0 | P30: 0 | R30: 0 | T30: 0 | V30: =T30+R30+P30+N30+L30 -> 0 | W30: =$V30*$K30 -> 0 | X30: =$L30+$N30 -> 0 | Y30: =$X30*$K30 -> 0 | BB30: x
BB31: x
C32: Kit Plus | G32: 249 € a 498 € | K32: 200 | L32: 0 | N32: 0 | P32: 0 | R32: 0 | T32: 0 | V32: =T32+R32+P32+N32+L32 -> 0 | W32: =$V32*$K32 -> 0 | X32: =$L32+$N32 -> 0 | Y32: =$X32*$K32 -> 0 | AB32: =IF($C$5="SELECCIONA TU NOMBRE","",IF($O$1=0,"",IF(AG32=0,"⚠️"," ✓"))) | AC32: Bonus Ventas Propias: | AG32: =IF($C$5="SELECCIONA TU NOMBRE","",$BE$194) -> 0 | AK32: =IF($C$5="SELECCIONA TU NOMBRE","",IF($O$1=0,"",IF($BE$191="No","El minimo para desbloquear el bonus es 5 ventas min (50% propias)",IF($BE$193="No","El minimo para desbloquear el bonus es =>50% propias","")))) | AQ32: =IF($C$5="SELECCIONA TU NOMBRE",0,$BG$194) -> 0 | BB32: x
BB33: x
C34: Kit Plus | G34: 499 € a 798 € | K34: 300 | L34: 0 | N34: 0 | P34: 0 | R34: 0 | T34: 0 | V34: =T34+R34+P34+N34+L34 -> 0 | W34: =$V34*$K34 -> 0 | X34: =$L34+$N34 -> 0 | Y34: =$X34*$K34 -> 0 | BB34: x
BB35: x
C36: Kit Plus | G36: 799 € o más | K36: 400 | L36: 0 | N36: 0 | P36: 0 | R36: 0 | T36: 0 | V36: =T36+R36+P36+N36+L36 -> 0 | W36: =$V36*$K36 -> 0 | X36: =$L36+$N36 -> 0 | Y36: =$X36*$K36 -> 0 | AB36: =IF($C$5="SELECCIONA TU NOMBRE","",IF($O$1=0,"",IF(AK36="No aplica para este bonus","",IF(AG36=0,"⚠️"," ✓")))) | AC36: Bonus de Arranque: | AG36: =IF($C$5="SELECCIONA TU NOMBRE","",$BE$183) -> 0 | AK36: =IF($C$5="SELECCIONA TU NOMBRE","",IF($O$1=0,"",IF($BE$154="No aplica","No aplica para este bonus",IF($BE$181="No","Falta "&$BE$176-$BE$179&" ventas totales y "&$BE$177-$BE$180&" propias para activar bonus",IF(AND($BE$182="No",$BE$181="Si"),"Falta "&$BE$177-$BE$180&" ventas propias para activar bonus",""))))) | AQ36: =IF($C$5="SELECCIONA TU NOMBRE",0,$BG$183) -> 0 | BB36: x
BB37: x
C38: Instalaciones (propias o a compañeros): | L38: W1 | N38: W2 | P38: W3 | R38: W4 | T38: W5 | V38: Total | BB38: x
BB39: x
C40: Kit Protección / Smart Business | K40: 50 | L40: 0 | N40: 0 | P40: 0 | R40: 0 | T40: 0 | V40: =T40+R40+P40+N40+L40 -> 0 | W40: =$V40*$K40 -> 0 | X40: =$L40+$N40 -> 0 | AB40: =IF($C$5="SELECCIONA TU NOMBRE","",IF($O$1=0,"",IF(AK40="No aplica para este bonus","",IF(AG40=0,"⚠️"," ✓")))) | AC40: Bonus Ritmo: | AG40: =IF($C$5="SELECCIONA TU NOMBRE","",$BE$173) -> 0 | AK40: =IF($C$5="SELECCIONA TU NOMBRE", "", IF($O$1=0, "", IF($BD$154="M1", "No aplica para este bonus", IF($BE$166="No", IF($BE$171="Si", "El mes ant no alcanzó el mínimo requerido, este mes alcanza el mínimo requerido que habilita el bonus ritmo del próximo mes", "El mes ant no alcanzó el mínimo requerido y este mes faltan "&$BE$172&" ventas que habilita el bonus ritmo del próximo mes"), IF($BE$171="No", "El mes ant alcanzó el mínimo requerido pero este mes faltan "&$BE$172&" ventas", ""))))) | AQ40: =IF($C$5="SELECCIONA TU NOMBRE",0,$BG$173) -> 0 | BB40: x
BB41: x
C42: Kit Plus | K42: 100 | L42: 0 | N42: 0 | P42: 0 | R42: 0 | T42: 0 | V42: =T42+R42+P42+N42+L42 -> 0 | W42: =$V42*$K42 -> 0 | X42: =$L42+$N42 -> 0 | BB42: x
BB43: x
C44: Elementos Extra Cobrados: | L44: W1 | N44: W2 | P44: W3 | R44: W4 | T44: W5 | V44: Total | AB44: =IF($C$5="SELECCIONA TU NOMBRE","",IF($O$1=0,"",IF(AK44="No aplica para este reconocimiento","",IF(AG44=0,"⚠️"," ✓")))) | AC44: Reconocimiento: | AG44: =IF($C$5="SELECCIONA TU NOMBRE","",$BE$208) -> 0 | AK44: =IF($BE$205>=10,"No aplica para este reconocimiento",IF($O$1=0,"",IF($BE$205>$BE$204,"No aplica para este reconocimiento",IF($BE$207="No","Falta "&$BE$204-$BE$205-$BE$206&" ventas para alcanzar el reconocimiento"," ")))) | AQ44: =IF($C$5="SELECCIONA TU NOMBRE",0,$BG$208) -> 0 | BB44: x
BB45: x
C46: Pack 1 elemento | K46: 10 | L46: 0 | N46: 0 | P46: 0 | R46: 0 | T46: 0 | V46: =T46+R46+P46+N46+L46 -> 0 | W46: =$V46*$K46 -> 0 | X46: =($L46+$N46)*$K46 -> 0 | BB46: x
BB47: x
C48: Pack 2 elementos | K48: 20 | L48: 0 | N48: 0 | P48: 0 | R48: 0 | T48: 0 | V48: =T48+R48+P48+N48+L48 -> 0 | W48: =$V48*$K48 -> 0 | X48: =($L48+$N48)*$K48 -> 0 | AB48: =IF($C$5="SELECCIONA TU NOMBRE","",IF($O$1=0,"",IF(AK48="No aplica para esta comisión","",IF(AG48=0,"⚠️"," ✓")))) | AC48: Team Coach: | AG48: =IF($C$5="SELECCIONA TU NOMBRE","",IF($BE$200="Si",$L$80*$K$80,0)) -> 0 | AK48: =IF($C$5="SELECCIONA TU NOMBRE","",IF($O$1=0,"",IF($BE$197="No","No aplica para esta comisión",IF($BE$200="No","Falta "&$BE$198-$BE$199&" ventas para activar la comision TC de "&$L$80*$K$80&" €"," ")))) | AQ48: =IF($C$5="SELECCIONA TU NOMBRE",0,IF($BE$200="Si",$L$80*$K$80,0)) -> 0 | BB48: x
BB49: x
C50: Pack 3 elementos | K50: 30 | L50: 0 | N50: 0 | P50: 0 | R50: 0 | T50: 0 | V50: =T50+R50+P50+N50+L50 -> 0 | W50: =$V50*$K50 -> 0 | X50: =($L50+$N50)*$K50 -> 0 | BB50: x
BB51: x
C52: Camara 180º | K52: 20 | L52: 0 | N52: 0 | P52: 0 | R52: 0 | T52: 0 | V52: =T52+R52+P52+N52+L52 -> 0 | W52: =$V52*$K52 -> 0 | X52: =($L52+$N52)*$K52 -> 0 | AC52: Early Churn: | AG52: =IF($C$5="SELECCIONA TU NOMBRE","",IFERROR(IF($L$84>0,$L$84*-1,$L$84),0)) -> 0 | AK52: Si tienes EC recuerda de agregar al final de la calculadora el importe informado | AQ52: =AG52 -> 0 | BB52: x
BB53: x
C54: Camara int/ext | K54: 20 | L54: 0 | N54: 0 | P54: 0 | R54: 0 | T54: 0 | V54: =T54+R54+P54+N54+L54 -> 0 | W54: =$V54*$K54 -> 0 | X54: =($L54+$N54)*$K54 -> 0 | BB54: x
BB55: x
C56: Detector de humo | K56: 10 | L56: 0 | N56: 0 | P56: 0 | R56: 0 | T56: 0 | V56: =T56+R56+P56+N56+L56 -> 0 | W56: =$V56*$K56 -> 0 | X56: =($L56+$N56)*$K56 -> 0 | AC56: Excepciones / Bonos: | AG56: =IF($C$5="SELECCIONA TU NOMBRE","",$L$88) -> 0 | AQ56: =AG56 -> 0 | BB56: x
BB57: x
C58: Enchufe inteligente | K58: 10 | L58: 0 | N58: 0 | P58: 0 | R58: 0 | T58: 0 | V58: =T58+R58+P58+N58+L58 -> 0 | W58: =$V58*$K58 -> 0 | X58: =($L58+$N58)*$K58 -> 0 | BB58: x
BB59: x
C60: Fuga de agua | K60: 10 | L60: 0 | N60: 0 | P60: 0 | R60: 0 | T60: 0 | V60: =T60+R60+P60+N60+L60 -> 0 | W60: =$V60*$K60 -> 0 | X60: =($L60+$N60)*$K60 -> 0 | BB60: x
BB61: x
C62: Magnetico | K62: 10 | L62: 0 | N62: 0 | P62: 0 | R62: 0 | T62: 0 | V62: =T62+R62+P62+N62+L62 -> 0 | W62: =$V62*$K62 -> 0 | X62: =($L62+$N62)*$K62 -> 0 | BB62: x
BB63: x
C64: Mando distancia | K64: 10 | L64: 0 | N64: 0 | P64: 0 | R64: 0 | T64: 0 | V64: =T64+R64+P64+N64+L64 -> 0 | W64: =$V64*$K64 -> 0 | X64: =($L64+$N64)*$K64 -> 0 | BB64: x
BB65: x
C66: Pack DVGA2-6 | K66: 20 | L66: 0 | N66: 0 | P66: 0 | R66: 0 | T66: 0 | V66: =T66+R66+P66+N66+L66 -> 0 | W66: =$V66*$K66 -> 0 | X66: =($L66+$N66)*$K66 -> 0 | BB66: x
BB67: x
C68: Pircam | K68: 10 | L68: 0 | N68: 0 | P68: 0 | R68: 0 | T68: 0 | V68: =T68+R68+P68+N68+L68 -> 0 | W68: =$V68*$K68 -> 0 | X68: =($L68+$N68)*$K68 -> 0 | BB68: x
BB69: x
C70: Sirena | K70: 20 | L70: 0 | N70: 0 | P70: 0 | R70: 0 | T70: 0 | V70: =T70+R70+P70+N70+L70 -> 0 | W70: =$V70*$K70 -> 0 | X70: =($L70+$N70)*$K70 -> 0 | BB70: x
BB71: x
C72: Sirena exterior | K72: 30 | L72: 0 | N72: 0 | P72: 0 | R72: 0 | T72: 0 | V72: =T72+R72+P72+N72+L72 -> 0 | W72: =$V72*$K72 -> 0 | X72: =($L72+$N72)*$K72 -> 0 | BB72: x
BB73: x
C74: Teclado | K74: 30 | L74: 0 | N74: 0 | P74: 0 | R74: 0 | T74: 0 | V74: =T74+R74+P74+N74+L74 -> 0 | W74: =$V74*$K74 -> 0 | X74: =($L74+$N74)*$K74 -> 0 | BB74: x
BB75: x
C76: Voice unit | K76: 20 | L76: 0 | N76: 0 | P76: 0 | R76: 0 | T76: 0 | V76: =T76+R76+P76+N76+L76 -> 0 | W76: =$V76*$K76 -> 0 | X76: =($L76+$N76)*$K76 -> 0 | BB76: x
BB77: x
C78: Team Coach: | BB78: x
BB79: x
C80: Ventas Equipo | K80: 30 | L80: 0 | BB80: x
BB81: x
C82: Early Churn: | BB82: x
BB83: x
C84: En caso de tener EC ingresa el monto informado: | L84: 0 | BB84: x
BB85: x
C86: Excepciones / Bonos: | BB86: x
BB87: x
C88: Aquí puedes ingresar cualquier valor: | L88: 0 | BB88: x
BB89: x
BB90: x
BB91: x
BB92: x
BB93: x
BB94: x
BB95: x
BB96: x
BB97: x
BB98: x
BB99: x
BB100: x
...

Sheet 4
B1: 1 | C1: =Inicio!$C$10&Inicio!$C$15&'4'!$B$1 -> diciembre1 | O1: =SUM(V12:V76) -> 0 | AQ1: =IF($O$1=0,"",IF($C$5="SELECCIONA TU NOMBRE","",IF(OR($BD$153="Field Sales Installer",$BD$153="Team Coach"),IF(SUM($AQ$16,$AQ$20,$AQ$24,$AQ$28,$AQ$32,$AQ$36,$AQ$40,$AQ$44,$AQ$48,$AQ$52)<=T5,"No abre comisiones. El mínimo para abrir comisiones es "&T5&" €",""),""))) | BB1: x
AB2: =IF($O$1=0,"",IF($BD$153="Field Sales Installer (NFS)","",IF(OR($BD$153="Field Sales Installer",$BD$153="Team Coach"),IF(SUM($AG$16,$AG$20,$AG$24,$AG$28,$AG$32,$AG$36,$AG$40,$AG$44,$AG$48,$AG$52,$AG$56)<0,"No abre comisiones. Tiene ec. El mín para abrir comisiones es "&T5&" €",IF(SUM($AG$16,$AG$20,$AG$24,$AG$28,$AG$32,$AG$36,$AG$40,$AG$44,$AG$48,$AG$52,$AG$56)<=T5,"No abre comisiones. El mínimo para abrir comisiones es "&T5&"€",""))))) | AQ2: =IF($BD$153="Field Sales Installer (NFS)","comisiones total con 1 VP más",IF(OR($BD$153="Field Sales Installer",$BD$153="Team Coach"),IF(SUM($AQ$16,$AQ$20,$AQ$24,$AQ$28,$AQ$32,$AQ$36,$AQ$40,$AQ$44,$AQ$48,$AQ$52)<=T5,"generado total con 1 VP más","comisiones total con 1 VP más"),"")) -> comisiones total con 1 VP más | BB2: x
BB3: x
C4: ="¡Hola "&IFERROR(VLOOKUP(Inicio!$C$20,ListaDespelgable!$C$2:$D$11,2,0),"")&"! Selecciona el nombre del FSR:" -> ¡Hola ! Selecciona el nombre del FSR: | K4: =IF(C5="FSR NUEVO","Puedes escribir aquí su nombre:","") | AB4: =IF($BD$153="Field Sales Installer (NFS)"," Comisión Generada:"," Comisión a Cobrar:") -> Comisión Generada: | AG4: =IF(SUM($AG$16,$AG$20,$AG$24,$AG$28,$AG$32,$AG$36,$AG$40,$AG$44,$AG$48,$AG$52,$AG$56)<0,0,IF(OR($BD$153="Field Sales Installer",$BD$153="Team Coach"),IF(SUM($AG$16,$AG$20,$AG$24,$AG$28,$AG$36,$AG$52,$AG$56)>=T5,SUM($AG$16,$AG$20,$AG$24,$AG$28,$AG$32,$AG$36,$AG$40,$AG$44,$AG$48,$AG$52,$AG$56)-T5,0),SUM($AG$16,$AG$20,$AG$24,$AG$28,$AG$32,$AG$36,$AG$40,$AG$44,$AG$48,$AG$52,$AG$56))) -> 0 | BB4: x
T5: =IF($BD$153="Field Sales Installer (NFS)","",VLOOKUP(V5,ValoresBonus!P:Q,2,0)) | V5: 0 | AQ5: =IF($BD$153="Field Sales Installer (NFS)",SUM($AQ$16,$AQ$20,$AQ$24,$AQ$28,$AQ$32,$AQ$36,$AQ$40,$AQ$44,$AQ$48,$AQ$52,$AQ$56),IF(OR($BD$153="Field Sales Installer",$BD$153="Team Coach"),IF(SUM($AQ$16,$AQ$20,$AQ$24,$AQ$28,$AQ$36,$AQ$52,$AQ$56)>=T5,SUM($AQ$16,$AQ$20,$AQ$24,$AQ$28,$AQ$32,$AQ$36,$AQ$40,$AQ$44,$AQ$48,$AQ$52,$AQ$56)-T5,SUM($AQ$16,$AQ$20,$AQ$24,$AQ$28,$AQ$36,$AQ$52,$AQ$56)))) -> 200 | AR5: ="+"&(SUM($AQ$16,$AQ$20,$AQ$24,$AQ$28,$AQ$32,$AQ$36,$AQ$40,$AQ$44,$AQ$48,$AQ$52,$AQ$56)-SUM($AG$16,$AG$20,$AG$24,$AG$28,$AG$32,$AG$36,$AG$40,$AG$44,$AG$48,$AG$52,$AG$56))&" €" -> +200 € | BB5: x | CC5: =IF(BD153="Field Sales Installer (NFS)","","VACACIONES SALARIO FIJO (semanas completas)")
BB6: x
C7: ="Puesto: "&$BD$150&" | "&"Seniority: "&$BD$154&" | Ventas mes anterior: "&$BD$157 -> Puesto: NFS | Seniority: M1 | Ventas mes anterior: 0 | V7: NO | W7: SI | AB7: =IF($BD$153="Field Sales Installer (NFS)"," Primer Tramo:"," Base para Abrir Comisiones:") -> Primer Tramo: | AG7: =IF($BD$153="Field Sales Installer (NFS)",BO170,T5) -> 0 | BB7: x
L8: =IF($BD$153="Field Sales Installer (NFS)","PRIMER TRAMO","") -> PRIMER TRAMO | P8: =IF($BD$153="Field Sales Installer (NFS)","SEGUNDO TRAMO","") -> SEGUNDO TRAMO | W8: NO | BB8: x
BB9: x
C10: Ventas COLD DOOR / REF: | L10: W1 | N10: W2 | P10: W3 | R10: W4 | T10: W5 | V10: Total | AB10: =IF($BD$153="Field Sales Installer (NFS)",""," Resultado:") | AF10: =IF($BD$153="Field Sales Installer (NFS)","",IF($AG$12>=$AG$7,"Abre Comisiones","No Abre Comisiones")) | AQ10: =IF($BD$153="Field Sales Installer (NFS)",Inicio!$J$2,"") -> Periodo desde: 1/12 al 14/12 | Fecha pago: 18/12 | BB10: x
BB11: x
C12: Kit Protección / Smart Business | G12: 149 € a 398 € | K12: 200 | L12: 0 | N12: 0 | P12: 0 | R12: 0 | T12: 0 | V12: =T12+R12+P12+N12+L12 -> 0 | W12: =$V12*$K12 -> 0 | X12: =$L12+$N12 -> 0 | Y12: =$X12*$K12 -> 0 | AB12: =IF($BD$153="Field Sales Installer (NFS)"," Segundo Tramo:"," Generado:") -> Segundo Tramo: | AG12: =IF($BD$153="Field Sales Installer (NFS)",($AG$4-$AG$7),(AG16+AG20+AG24+AG28+AG32+AG36+AG40+AG44+AG48+AG52+AG56)) -> 0 | BB12: x
AQ13: =IF($BD$153="Field Sales Installer (NFS)",Inicio!$J$4,"") -> Fecha pago: 31/12 | BB13: x
C14: Kit Protección / Smart Business | G14: 399 € a 698 € | K14: 300 | L14: 0 | N14: 0 | P14: 0 | R14: 0 | T14: 0 | V14: =T14+R14+P14+N14+L14 -> 0 | W14: =$V14*$K14 -> 0 | X14: =$L14+$N14 -> 0 | Y14: =$X14*$K14 -> 0 | AK14: =$AR$5 -> +200 € | BB14: x
BB15: x
C16: Kit Protección / Smart Business | G16: 699 € o más | K16: 400 | L16: 0 | N16: 0 | P16: 0 | R16: 0 | T16: 0 | V16: =T16+R16+P16+N16+L16 -> 0 | W16: =$V16*$K16 -> 0 | X16: =$L16+$N16 -> 0 | Y16: =$X16*$K16 -> 0 | AB16: =IF($C$5="SELECCIONA TU NOMBRE","",($V$12+$V$14+$V$16+$V$18+$V$20+$V$22+$V$26+$V$28+$V$30+$V$32+$V$34+$V$36)) -> 0 | AD16: Ventas Totales: | AG16: =IF($C$5="SELECCIONA TU NOMBRE","",($W$12+$W$14+$W$16+$W$18+$W$20+$W$22+$W$26+$W$28+$W$30+$W$32+$W$34+$W$36)) -> 0 | AQ16: =IF($C$5="SELECCIONA TU NOMBRE","",($W$12+$W$14+$W$16+$W$18+$W$20+$W$22+$W$26+$W$28+$W$30+$W$32+$W$34+$W$36+200)) -> 200 | BB16: x
BB17: x
C18: Kit Plus | G18: 249 € a 498 € | K18: 250 | L18: 0 | N18: 0 | P18: 0 | R18: 0 | T18: 0 | V18: =T18+R18+P18+N18+L18 -> 0 | W18: =$V18*$K18 -> 0 | X18: =$L18+$N18 -> 0 | Y18: =$X18*$K18 -> 0 | BB18: x
BB19: x
C20: Kit Plus | G20: 499 € a 798 € | K20: 350 | L20: 0 | N20: 0 | P20: 0 | R20: 0 | T20: 0 | V20: =T20+R20+P20+N20+L20 -> 0 | W20: =$V20*$K20 -> 0 | X20: =$L20+$N20 -> 0 | Y20: =$X20*$K20 -> 0 | AB20: =IF($C$5="SELECCIONA TU NOMBRE","",($V$46+$V$48+$V$50+$V$52+$V$54+$V$56+$V$58+$V$60+$V$62+$V$64+$V$66+$V$68+$V$70+$V$72+$V$74+$V$76)) -> 0 | AD20: Elementos Extra: | AG20: =IF($C$5="SELECCIONA TU NOMBRE","",($W$46+$W$48+$W$50+$W$52+$W$54+$W$56+$W$58+$W$60+$W$62+$W$64+$W$66+$W$68+$W$70+$W$72+$W$74+$W$76)) -> 0 | AQ20: =AG20 -> 0 | BB20: x
BB21: x
C22: Kit Plus | G22: 799 € o más | K22: 450 | L22: 0 | N22: 0 | P22: 0 | R22: 0 | T22: 0 | V22: =T22+R22+P22+N22+L22 -> 0 | W22: =$V22*$K22 -> 0 | X22: =$L22+$N22 -> 0 | Y22: =$X22*$K22 -> 0 | BB22: x
BB23: x
C24: Ventas LEAD: | L24: W1 | N24: W2 | P24: W3 | R24: W4 | T24: W5 | V24: Total | AB24: =IF($C$5="SELECCIONA TU NOMBRE","",($V$40+$V$42)) -> 0 | AD24: Instalaciones: | AG24: =IF($C$5="SELECCIONA TU NOMBRE","",($W$40+$W$42)) -> 0 | AQ24: =AG24 -> 0 | BB24: x
BB25: x
C26: Kit Protección / Smart Business | G26: 149 € a 398 € | K26: 150 | L26: 0 | N26: 0 | P26: 0 | R26: 0 | T26: 0 | V26: =T26+R26+P26+N26+L26 -> 0 | W26: =$V26*$K26 -> 0 | X26: =$L26+$N26 -> 0 | Y26: =$X26*$K26 -> 0 | BB26: x
BB27: x
C28: Kit Protección / Smart Business | G28: 399 € a 698 € | K28: 250 | L28: 0 | N28: 0 | P28: 0 | R28: 0 | T28: 0 | V28: =T28+R28+P28+N28+L28 -> 0 | W28: =$V28*$K28 -> 0 | X28: =$L28+$N28 -> 0 | Y28: =$X28*$K28 -> 0 | AB28: =IF($C$5="SELECCIONA TU NOMBRE","",IF($O$1=0,"",IF(AG28=0,"⚠️"," ✓"))) | AC28: Bonus Ventas Totales: | AG28: =IF($C$5="SELECCIONA TU NOMBRE","",VLOOKUP($BD$155,ValoresBonus!$B$3:$C$28,2,0)) -> 0 | AK28: =IF($C$5="SELECCIONA TU NOMBRE","",IF($O$1=0,"",IF($BD$155<5,"Faltan "&5-$BD$155&" ventas para activar bonus",""))) | AQ28: =IF($C$5="SELECCIONA TU NOMBRE",0,VLOOKUP($BD$155+1,ValoresBonus!$B$3:$C$28,2,0)) -> 0 | BB28: x
BB29: x
C30: Kit Protección / Smart Business | G30: 699 € o más | K30: 350 | L30: 0 | N30: 0 | P30: 0 | R30: 0 | T30: 0 | V30: =T30+R30+P30+N30+L30 -> 0 | W30: =$V30*$K30 -> 0 | X30: =$L30+$N30 -> 0 | Y30: =$X30*$K30 -> 0 | BB30: x
BB31: x
C32: Kit Plus | G32: 249 € a 498 € | K32: 200 | L32: 0 | N32: 0 | P32: 0 | R32: 0 | T32: 0 | V32: =T32+R32+P32+N32+L32 -> 0 | W32: =$V32*$K32 -> 0 | X32: =$L32+$N32 -> 0 | Y32: =$X32*$K32 -> 0 | AB32: =IF($C$5="SELECCIONA TU NOMBRE","",IF($O$1=0,"",IF(AG32=0,"⚠️"," ✓"))) | AC32: Bonus Ventas Propias: | AG32: =IF($C$5="SELECCIONA TU NOMBRE","",$BE$194) -> 0 | AK32: =IF($C$5="SELECCIONA TU NOMBRE","",IF($O$1=0,"",IF($BE$191="No","El minimo para desbloquear el bonus es 5 ventas min (50% propias)",IF($BE$193="No","El minimo para desbloquear el bonus es =>50% propias","")))) | AQ32: =IF($C$5="SELECCIONA TU NOMBRE",0,$BG$194) -> 0 | BB32: x
BB33: x
C34: Kit Plus | G34: 499 € a 798 € | K34: 300 | L34: 0 | N34: 0 | P34: 0 | R34: 0 | T34: 0 | V34: =T34+R34+P34+N34+L34 -> 0 | W34: =$V34*$K34 -> 0 | X34: =$L34+$N34 -> 0 | Y34: =$X34*$K34 -> 0 | BB34: x
BB35: x
C36: Kit Plus | G36: 799 € o más | K36: 400 | L36: 0 | N36: 0 | P36: 0 | R36: 0 | T36: 0 | V36: =T36+R36+P36+N36+L36 -> 0 | W36: =$V36*$K36 -> 0 | X36: =$L36+$N36 -> 0 | Y36: =$X36*$K36 -> 0 | AB36: =IF($C$5="SELECCIONA TU NOMBRE","",IF($O$1=0,"",IF(AK36="No aplica para este bonus","",IF(AG36=0,"⚠️"," ✓")))) | AC36: Bonus de Arranque: | AG36: =IF($C$5="SELECCIONA TU NOMBRE","",$BE$183) -> 0 | AK36: =IF($C$5="SELECCIONA TU NOMBRE","",IF($O$1=0,"",IF($BE$154="No aplica","No aplica para este bonus",IF($BE$181="No","Falta "&$BE$176-$BE$179&" ventas totales y "&$BE$177-$BE$180&" propias para activar bonus",IF(AND($BE$182="No",$BE$181="Si"),"Falta "&$BE$177-$BE$180&" ventas propias para activar bonus",""))))) | AQ36: =IF($C$5="SELECCIONA TU NOMBRE",0,$BG$183) -> 0 | BB36: x
BB37: x
C38: Instalaciones (propias o a compañeros): | L38: W1 | N38: W2 | P38: W3 | R38: W4 | T38: W5 | V38: Total | BB38: x
BB39: x
C40: Kit Protección / Smart Business | K40: 50 | L40: 0 | N40: 0 | P40: 0 | R40: 0 | T40: 0 | V40: =T40+R40+P40+N40+L40 -> 0 | W40: =$V40*$K40 -> 0 | X40: =$L40+$N40 -> 0 | AB40: =IF($C$5="SELECCIONA TU NOMBRE","",IF($O$1=0,"",IF(AK40="No aplica para este bonus","",IF(AG40=0,"⚠️"," ✓")))) | AC40: Bonus Ritmo: | AG40: =IF($C$5="SELECCIONA TU NOMBRE","",$BE$173) -> 0 | AK40: =IF($C$5="SELECCIONA TU NOMBRE", "", IF($O$1=0, "", IF($BD$154="M1", "No aplica para este bonus", IF($BE$166="No", IF($BE$171="Si", "El mes ant no alcanzó el mínimo requerido, este mes alcanza el mínimo requerido que habilita el bonus ritmo del próximo mes", "El mes ant no alcanzó el mínimo requerido y este mes faltan "&$BE$172&" ventas que habilita el bonus ritmo del próximo mes"), IF($BE$171="No", "El mes ant alcanzó el mínimo requerido pero este mes faltan "&$BE$172&" ventas", ""))))) | AQ40: =IF($C$5="SELECCIONA TU NOMBRE",0,$BG$173) -> 0 | BB40: x
BB41: x
C42: Kit Plus | K42: 100 | L42: 0 | N42: 0 | P42: 0 | R42: 0 | T42: 0 | V42: =T42+R42+P42+N42+L42 -> 0 | W42: =$V42*$K42 -> 0 | X42: =$L42+$N42 -> 0 | BB42: x
BB43: x
C44: Elementos Extra Cobrados: | L44: W1 | N44: W2 | P44: W3 | R44: W4 | T44: W5 | V44: Total | AB44: =IF($C$5="SELECCIONA TU NOMBRE","",IF($O$1=0,"",IF(AK44="No aplica para este reconocimiento","",IF(AG44=0,"⚠️"," ✓")))) | AC44: Reconocimiento: | AG44: =IF($C$5="SELECCIONA TU NOMBRE","",$BE$208) -> 0 | AK44: =IF($BE$205>=10,"No aplica para este reconocimiento",IF($O$1=0,"",IF($BE$205>$BE$204,"No aplica para este reconocimiento",IF($BE$207="No","Falta "&$BE$204-$BE$205-$BE$206&" ventas para alcanzar el reconocimiento"," ")))) | AQ44: =IF($C$5="SELECCIONA TU NOMBRE",0,$BG$208) -> 0 | BB44: x
BB45: x
C46: Pack 1 elemento | K46: 10 | L46: 0 | N46: 0 | P46: 0 | R46: 0 | T46: 0 | V46: =T46+R46+P46+N46+L46 -> 0 | W46: =$V46*$K46 -> 0 | X46: =($L46+$N46)*$K46 -> 0 | BB46: x
BB47: x
C48: Pack 2 elementos | K48: 20 | L48: 0 | N48: 0 | P48: 0 | R48: 0 | T48: 0 | V48: =T48+R48+P48+N48+L48 -> 0 | W48: =$V48*$K48 -> 0 | X48: =($L48+$N48)*$K48 -> 0 | AB48: =IF($C$5="SELECCIONA TU NOMBRE","",IF($O$1=0,"",IF(AK48="No aplica para esta comisión","",IF(AG48=0,"⚠️"," ✓")))) | AC48: Team Coach: | AG48: =IF($C$5="SELECCIONA TU NOMBRE","",IF($BE$200="Si",$L$80*$K$80,0)) -> 0 | AK48: =IF($C$5="SELECCIONA TU NOMBRE","",IF($O$1=0,"",IF($BE$197="No","No aplica para esta comisión",IF($BE$200="No","Falta "&$BE$198-$BE$199&" ventas para activar la comision TC de "&$L$80*$K$80&" €"," ")))) | AQ48: =IF($C$5="SELECCIONA TU NOMBRE",0,IF($BE$200="Si",$L$80*$K$80,0)) -> 0 | BB48: x
BB49: x
C50: Pack 3 elementos | K50: 30 | L50: 0 | N50: 0 | P50: 0 | R50: 0 | T50: 0 | V50: =T50+R50+P50+N50+L50 -> 0 | W50: =$V50*$K50 -> 0 | X50: =($L50+$N50)*$K50 -> 0 | BB50: x
BB51: x
C52: Camara 180º | K52: 20 | L52: 0 | N52: 0 | P52: 0 | R52: 0 | T52: 0 | V52: =T52+R52+P52+N52+L52 -> 0 | W52: =$V52*$K52 -> 0 | X52: =($L52+$N52)*$K52 -> 0 | AC52: Early Churn: | AG52: =IF($C$5="SELECCIONA TU NOMBRE","",IFERROR(IF($L$84>0,$L$84*-1,$L$84),0)) -> 0 | AK52: Si tienes EC recuerda de agregar al final de la calculadora el importe informado | AQ52: =AG52 -> 0 | BB52: x
BB53: x
C54: Camara int/ext | K54: 20 | L54: 0 | N54: 0 | P54: 0 | R54: 0 | T54: 0 | V54: =T54+R54+P54+N54+L54 -> 0 | W54: =$V54*$K54 -> 0 | X54: =($L54+$N54)*$K54 -> 0 | BB54: x
BB55: x
C56: Detector de humo | K56: 10 | L56: 0 | N56: 0 | P56: 0 | R56: 0 | T56: 0 | V56: =T56+R56+P56+N56+L56 -> 0 | W56: =$V56*$K56 -> 0 | X56: =($L56+$N56)*$K56 -> 0 | AC56: Excepciones / Bonos: | AG56: =IF($C$5="SELECCIONA TU NOMBRE","",$L$88) -> 0 | AQ56: =AG56 -> 0 | BB56: x
BB57: x
C58: Enchufe inteligente | K58: 10 | L58: 0 | N58: 0 | P58: 0 | R58: 0 | T58: 0 | V58: =T58+R58+P58+N58+L58 -> 0 | W58: =$V58*$K58 -> 0 | X58: =($L58+$N58)*$K58 -> 0 | BB58: x
BB59: x
C60: Fuga de agua | K60: 10 | L60: 0 | N60: 0 | P60: 0 | R60: 0 | T60: 0 | V60: =T60+R60+P60+N60+L60 -> 0 | W60: =$V60*$K60 -> 0 | X60: =($L60+$N60)*$K60 -> 0 | BB60: x
BB61: x
C62: Magnetico | K62: 10 | L62: 0 | N62: 0 | P62: 0 | R62: 0 | T62: 0 | V62: =T62+R62+P62+N62+L62 -> 0 | W62: =$V62*$K62 -> 0 | X62: =($L62+$N62)*$K62 -> 0 | BB62: x
BB63: x
C64: Mando distancia | K64: 10 | L64: 0 | N64: 0 | P64: 0 | R64: 0 | T64: 0 | V64: =T64+R64+P64+N64+L64 -> 0 | W64: =$V64*$K64 -> 0 | X64: =($L64+$N64)*$K64 -> 0 | BB64: x
BB65: x
C66: Pack DVGA2-6 | K66: 20 | L66: 0 | N66: 0 | P66: 0 | R66: 0 | T66: 0 | V66: =T66+R66+P66+N66+L66 -> 0 | W66: =$V66*$K66 -> 0 | X66: =($L66+$N66)*$K66 -> 0 | BB66: x
BB67: x
C68: Pircam | K68: 10 | L68: 0 | N68: 0 | P68: 0 | R68: 0 | T68: 0 | V68: =T68+R68+P68+N68+L68 -> 0 | W68: =$V68*$K68 -> 0 | X68: =($L68+$N68)*$K68 -> 0 | BB68: x
BB69: x
C70: Sirena | K70: 20 | L70: 0 | N70: 0 | P70: 0 | R70: 0 | T70: 0 | V70: =T70+R70+P70+N70+L70 -> 0 | W70: =$V70*$K70 -> 0 | X70: =($L70+$N70)*$K70 -> 0 | BB70: x
BB71: x
C72: Sirena exterior | K72: 30 | L72: 0 | N72: 0 | P72: 0 | R72: 0 | T72: 0 | V72: =T72+R72+P72+N72+L72 -> 0 | W72: =$V72*$K72 -> 0 | X72: =($L72+$N72)*$K72 -> 0 | BB72: x
BB73: x
C74: Teclado | K74: 30 | L74: 0 | N74: 0 | P74: 0 | R74: 0 | T74: 0 | V74: =T74+R74+P74+N74+L74 -> 0 | W74: =$V74*$K74 -> 0 | X74: =($L74+$N74)*$K74 -> 0 | BB74: x
BB75: x
C76: Voice unit | K76: 20 | L76: 0 | N76: 0 | P76: 0 | R76: 0 | T76: 0 | V76: =T76+R76+P76+N76+L76 -> 0 | W76: =$V76*$K76 -> 0 | X76: =($L76+$N76)*$K76 -> 0 | BB76: x
BB77: x
C78: Team Coach: | BB78: x
BB79: x
C80: Ventas Equipo | K80: 30 | L80: 0 | BB80: x
BB81: x
C82: Early Churn: | BB82: x
BB83: x
C84: En caso de tener EC ingresa el monto informado: | L84: 0 | BB84: x
BB85: x
C86: Excepciones / Bonos: | BB86: x
BB87: x
C88: Aquí puedes ingresar cualquier valor: | L88: 0 | BB88: x
BB89: x
BB90: x
BB91: x
BB92: x
BB93: x
BB94: x
BB95: x
BB96: x
BB97: x
BB98: x
BB99: x
BB100: x
...

Sheet 5
B1: 1 | C1: =Inicio!$C$10&Inicio!$C$15&'5'!$B$1 -> diciembre1 | O1: =SUM(V12:V76) -> 0 | AQ1: =IF($O$1=0,"",IF($C$5="SELECCIONA TU NOMBRE","",IF(OR($BD$153="Field Sales Installer",$BD$153="Team Coach"),IF(SUM($AQ$16,$AQ$20,$AQ$24,$AQ$28,$AQ$32,$AQ$36,$AQ$40,$AQ$44,$AQ$48,$AQ$52)<=T5,"No abre comisiones. El mínimo para abrir comisiones es "&T5&" €",""),""))) | BB1: x
AB2: =IF($O$1=0,"",IF($BD$153="Field Sales Installer (NFS)","",IF(OR($BD$153="Field Sales Installer",$BD$153="Team Coach"),IF(SUM($AG$16,$AG$20,$AG$24,$AG$28,$AG$32,$AG$36,$AG$40,$AG$44,$AG$48,$AG$52,$AG$56)<0,"No abre comisiones. Tiene ec. El mín para abrir comisiones es "&T5&" €",IF(SUM($AG$16,$AG$20,$AG$24,$AG$28,$AG$32,$AG$36,$AG$40,$AG$44,$AG$48,$AG$52,$AG$56)<=T5,"No abre comisiones. El mínimo para abrir comisiones es "&T5&"€",""))))) | AQ2: =IF($BD$153="Field Sales Installer (NFS)","comisiones total con 1 VP más",IF(OR($BD$153="Field Sales Installer",$BD$153="Team Coach"),IF(SUM($AQ$16,$AQ$20,$AQ$24,$AQ$28,$AQ$32,$AQ$36,$AQ$40,$AQ$44,$AQ$48,$AQ$52)<=T5,"generado total con 1 VP más","comisiones total con 1 VP más"),"")) -> comisiones total con 1 VP más | BB2: x
BB3: x
C4: ="¡Hola "&IFERROR(VLOOKUP(Inicio!$C$20,ListaDespelgable!$C$2:$D$11,2,0),"")&"! Selecciona el nombre del FSR:" -> ¡Hola ! Selecciona el nombre del FSR: | K4: =IF(C5="FSR NUEVO","Puedes escribir aquí su nombre:","") | AB4: =IF($BD$153="Field Sales Installer (NFS)"," Comisión Generada:"," Comisión a Cobrar:") -> Comisión Generada: | AG4: =IF(SUM($AG$16,$AG$20,$AG$24,$AG$28,$AG$32,$AG$36,$AG$40,$AG$44,$AG$48,$AG$52,$AG$56)<0,0,IF(OR($BD$153="Field Sales Installer",$BD$153="Team Coach"),IF(SUM($AG$16,$AG$20,$AG$24,$AG$28,$AG$36,$AG$52,$AG$56)>=T5,SUM($AG$16,$AG$20,$AG$24,$AG$28,$AG$32,$AG$36,$AG$40,$AG$44,$AG$48,$AG$52,$AG$56)-T5,0),SUM($AG$16,$AG$20,$AG$24,$AG$28,$AG$32,$AG$36,$AG$40,$AG$44,$AG$48,$AG$52,$AG$56))) -> 0 | BB4: x
T5: =IF($BD$153="Field Sales Installer (NFS)","",VLOOKUP(V5,ValoresBonus!P:Q,2,0)) | V5: 0 | AQ5: =IF($BD$153="Field Sales Installer (NFS)",SUM($AQ$16,$AQ$20,$AQ$24,$AQ$28,$AQ$32,$AQ$36,$AQ$40,$AQ$44,$AQ$48,$AQ$52,$AQ$56),IF(OR($BD$153="Field Sales Installer",$BD$153="Team Coach"),IF(SUM($AQ$16,$AQ$20,$AQ$24,$AQ$28,$AQ$36,$AQ$52,$AQ$56)>=T5,SUM($AQ$16,$AQ$20,$AQ$24,$AQ$28,$AQ$32,$AQ$36,$AQ$40,$AQ$44,$AQ$48,$AQ$52,$AQ$56)-T5,SUM($AQ$16,$AQ$20,$AQ$24,$AQ$28,$AQ$36,$AQ$52,$AQ$56)))) -> 200 | AR5: ="+"&(SUM($AQ$16,$AQ$20,$AQ$24,$AQ$28,$AQ$32,$AQ$36,$AQ$40,$AQ$44,$AQ$48,$AQ$52,$AQ$56)-SUM($AG$16,$AG$20,$AG$24,$AG$28,$AG$32,$AG$36,$AG$40,$AG$44,$AG$48,$AG$52,$AG$56))&" €" -> +200 € | BB5: x | CC5: =IF(BD153="Field Sales Installer (NFS)","","VACACIONES SALARIO FIJO (semanas completas)")
BB6: x
C7: ="Puesto: "&$BD$150&" | "&"Seniority: "&$BD$154&" | Ventas mes anterior: "&$BD$157 -> Puesto: NFS | Seniority: M1 | Ventas mes anterior: 0 | V7: NO | W7: SI | AB7: =IF($BD$153="Field Sales Installer (NFS)"," Primer Tramo:"," Base para Abrir Comisiones:") -> Primer Tramo: | AG7: =IF($BD$153="Field Sales Installer (NFS)",BO170,T5) -> 0 | BB7: x
L8: =IF($BD$153="Field Sales Installer (NFS)","PRIMER TRAMO","") -> PRIMER TRAMO | P8: =IF($BD$153="Field Sales Installer (NFS)","SEGUNDO TRAMO","") -> SEGUNDO TRAMO | W8: NO | BB8: x
BB9: x
C10: Ventas COLD DOOR / REF: | L10: W1 | N10: W2 | P10: W3 | R10: W4 | T10: W5 | V10: Total | AB10: =IF($BD$153="Field Sales Installer (NFS)",""," Resultado:") | AF10: =IF($BD$153="Field Sales Installer (NFS)","",IF($AG$12>=$AG$7,"Abre Comisiones","No Abre Comisiones")) | AQ10: =IF($BD$153="Field Sales Installer (NFS)",Inicio!$J$2,"") -> Periodo desde: 1/12 al 14/12 | Fecha pago: 18/12 | BB10: x
BB11: x
C12: Kit Protección / Smart Business | G12: 149 € a 398 € | K12: 200 | L12: 0 | N12: 0 | P12: 0 | R12: 0 | T12: 0 | V12: =T12+R12+P12+N12+L12 -> 0 | W12: =$V12*$K12 -> 0 | X12: =$L12+$N12 -> 0 | Y12: =$X12*$K12 -> 0 | AB12: =IF($BD$153="Field Sales Installer (NFS)"," Segundo Tramo:"," Generado:") -> Segundo Tramo: | AG12: =IF($BD$153="Field Sales Installer (NFS)",($AG$4-$AG$7),(AG16+AG20+AG24+AG28+AG32+AG36+AG40+AG44+AG48+AG52+AG56)) -> 0 | BB12: x
AQ13: =IF($BD$153="Field Sales Installer (NFS)",Inicio!$J$4,"") -> Fecha pago: 31/12 | BB13: x
C14: Kit Protección / Smart Business | G14: 399 € a 698 € | K14: 300 | L14: 0 | N14: 0 | P14: 0 | R14: 0 | T14: 0 | V14: =T14+R14+P14+N14+L14 -> 0 | W14: =$V14*$K14 -> 0 | X14: =$L14+$N14 -> 0 | Y14: =$X14*$K14 -> 0 | AK14: =$AR$5 -> +200 € | BB14: x
BB15: x
C16: Kit Protección / Smart Business | G16: 699 € o más | K16: 400 | L16: 0 | N16: 0 | P16: 0 | R16: 0 | T16: 0 | V16: =T16+R16+P16+N16+L16 -> 0 | W16: =$V16*$K16 -> 0 | X16: =$L16+$N16 -> 0 | Y16: =$X16*$K16 -> 0 | AB16: =IF($C$5="SELECCIONA TU NOMBRE","",($V$12+$V$14+$V$16+$V$18+$V$20+$V$22+$V$26+$V$28+$V$30+$V$32+$V$34+$V$36)) -> 0 | AD16: Ventas Totales: | AG16: =IF($C$5="SELECCIONA TU NOMBRE","",($W$12+$W$14+$W$16+$W$18+$W$20+$W$22+$W$26+$W$28+$W$30+$W$32+$W$34+$W$36)) -> 0 | AQ16: =IF($C$5="SELECCIONA TU NOMBRE","",($W$12+$W$14+$W$16+$W$18+$W$20+$W$22+$W$26+$W$28+$W$30+$W$32+$W$34+$W$36+200)) -> 200 | BB16: x
BB17: x
C18: Kit Plus | G18: 249 € a 498 € | K18: 250 | L18: 0 | N18: 0 | P18: 0 | R18: 0 | T18: 0 | V18: =T18+R18+P18+N18+L18 -> 0 | W18: =$V18*$K18 -> 0 | X18: =$L18+$N18 -> 0 | Y18: =$X18*$K18 -> 0 | BB18: x
BB19: x
C20: Kit Plus | G20: 499 € a 798 € | K20: 350 | L20: 0 | N20: 0 | P20: 0 | R20: 0 | T20: 0 | V20: =T20+R20+P20+N20+L20 -> 0 | W20: =$V20*$K20 -> 0 | X20: =$L20+$N20 -> 0 | Y20: =$X20*$K20 -> 0 | AB20: =IF($C$5="SELECCIONA TU NOMBRE","",($V$46+$V$48+$V$50+$V$52+$V$54+$V$56+$V$58+$V$60+$V$62+$V$64+$V$66+$V$68+$V$70+$V$72+$V$74+$V$76)) -> 0 | AD20: Elementos Extra: | AG20: =IF($C$5="SELECCIONA TU NOMBRE","",($W$46+$W$48+$W$50+$W$52+$W$54+$W$56+$W$58+$W$60+$W$62+$W$64+$W$66+$W$68+$W$70+$W$72+$W$74+$W$76)) -> 0 | AQ20: =AG20 -> 0 | BB20: x
BB21: x
C22: Kit Plus | G22: 799 € o más | K22: 450 | L22: 0 | N22: 0 | P22: 0 | R22: 0 | T22: 0 | V22: =T22+R22+P22+N22+L22 -> 0 | W22: =$V22*$K22 -> 0 | X22: =$L22+$N22 -> 0 | Y22: =$X22*$K22 -> 0 | BB22: x
BB23: x
C24: Ventas LEAD: | L24: W1 | N24: W2 | P24: W3 | R24: W4 | T24: W5 | V24: Total | AB24: =IF($C$5="SELECCIONA TU NOMBRE","",($V$40+$V$42)) -> 0 | AD24: Instalaciones: | AG24: =IF($C$5="SELECCIONA TU NOMBRE","",($W$40+$W$42)) -> 0 | AQ24: =AG24 -> 0 | BB24: x
BB25: x
C26: Kit Protección / Smart Business | G26: 149 € a 398 € | K26: 150 | L26: 0 | N26: 0 | P26: 0 | R26: 0 | T26: 0 | V26: =T26+R26+P26+N26+L26 -> 0 | W26: =$V26*$K26 -> 0 | X26: =$L26+$N26 -> 0 | Y26: =$X26*$K26 -> 0 | BB26: x
BB27: x
C28: Kit Protección / Smart Business | G28: 399 € a 698 € | K28: 250 | L28: 0 | N28: 0 | P28: 0 | R28: 0 | T28: 0 | V28: =T28+R28+P28+N28+L28 -> 0 | W28: =$V28*$K28 -> 0 | X28: =$L28+$N28 -> 0 | Y28: =$X28*$K28 -> 0 | AB28: =IF($C$5="SELECCIONA TU NOMBRE","",IF($O$1=0,"",IF(AG28=0,"⚠️"," ✓"))) | AC28: Bonus Ventas Totales: | AG28: =IF($C$5="SELECCIONA TU NOMBRE","",VLOOKUP($BD$155,ValoresBonus!$B$3:$C$28,2,0)) -> 0 | AK28: =IF($C$5="SELECCIONA TU NOMBRE","",IF($O$1=0,"",IF($BD$155<5,"Faltan "&5-$BD$155&" ventas para activar bonus",""))) | AQ28: =IF($C$5="SELECCIONA TU NOMBRE",0,VLOOKUP($BD$155+1,ValoresBonus!$B$3:$C$28,2,0)) -> 0 | BB28: x
BB29: x
C30: Kit Protección / Smart Business | G30: 699 € o más | K30: 350 | L30: 0 | N30: 0 | P30: 0 | R30: 0 | T30: 0 | V30: =T30+R30+P30+N30+L30 -> 0 | W30: =$V30*$K30 -> 0 | X30: =$L30+$N30 -> 0 | Y30: =$X30*$K30 -> 0 | BB30: x
BB31: x
C32: Kit Plus | G32: 249 € a 498 € | K32: 200 | L32: 0 | N32: 0 | P32: 0 | R32: 0 | T32: 0 | V32: =T32+R32+P32+N32+L32 -> 0 | W32: =$V32*$K32 -> 0 | X32: =$L32+$N32 -> 0 | Y32: =$X32*$K32 -> 0 | AB32: =IF($C$5="SELECCIONA TU NOMBRE","",IF($O$1=0,"",IF(AG32=0,"⚠️"," ✓"))) | AC32: Bonus Ventas Propias: | AG32: =IF($C$5="SELECCIONA TU NOMBRE","",$BE$194) -> 0 | AK32: =IF($C$5="SELECCIONA TU NOMBRE","",IF($O$1=0,"",IF($BE$191="No","El minimo para desbloquear el bonus es 5 ventas min (50% propias)",IF($BE$193="No","El minimo para desbloquear el bonus es =>50% propias","")))) | AQ32: =IF($C$5="SELECCIONA TU NOMBRE",0,$BG$194) -> 0 | BB32: x
BB33: x
C34: Kit Plus | G34: 499 € a 798 € | K34: 300 | L34: 0 | N34: 0 | P34: 0 | R34: 0 | T34: 0 | V34: =T34+R34+P34+N34+L34 -> 0 | W34: =$V34*$K34 -> 0 | X34: =$L34+$N34 -> 0 | Y34: =$X34*$K34 -> 0 | BB34: x
BB35: x
C36: Kit Plus | G36: 799 € o más | K36: 400 | L36: 0 | N36: 0 | P36: 0 | R36: 0 | T36: 0 | V36: =T36+R36+P36+N36+L36 -> 0 | W36: =$V36*$K36 -> 0 | X36: =$L36+$N36 -> 0 | Y36: =$X36*$K36 -> 0 | AB36: =IF($C$5="SELECCIONA TU NOMBRE","",IF($O$1=0,"",IF(AK36="No aplica para este bonus","",IF(AG36=0,"⚠️"," ✓")))) | AC36: Bonus de Arranque: | AG36: =IF($C$5="SELECCIONA TU NOMBRE","",$BE$183) -> 0 | AK36: =IF($C$5="SELECCIONA TU NOMBRE","",IF($O$1=0,"",IF($BE$154="No aplica","No aplica para este bonus",IF($BE$181="No","Falta "&$BE$176-$BE$179&" ventas totales y "&$BE$177-$BE$180&" propias para activar bonus",IF(AND($BE$182="No",$BE$181="Si"),"Falta "&$BE$177-$BE$180&" ventas propias para activar bonus",""))))) | AQ36: =IF($C$5="SELECCIONA TU NOMBRE",0,$BG$183) -> 0 | BB36: x
BB37: x
C38: Instalaciones (propias o a compañeros): | L38: W1 | N38: W2 | P38: W3 | R38: W4 | T38: W5 | V38: Total | BB38: x
BB39: x
C40: Kit Protección / Smart Business | K40: 50 | L40: 0 | N40: 0 | P40: 0 | R40: 0 | T40: 0 | V40: =T40+R40+P40+N40+L40 -> 0 | W40: =$V40*$K40 -> 0 | X40: =$L40+$N40 -> 0 | AB40: =IF($C$5="SELECCIONA TU NOMBRE","",IF($O$1=0,"",IF(AK40="No aplica para este bonus","",IF(AG40=0,"⚠️"," ✓")))) | AC40: Bonus Ritmo: | AG40: =IF($C$5="SELECCIONA TU NOMBRE","",$BE$173) -> 0 | AK40: =IF($C$5="SELECCIONA TU NOMBRE", "", IF($O$1=0, "", IF($BD$154="M1", "No aplica para este bonus", IF($BE$166="No", IF($BE$171="Si", "El mes ant no alcanzó el mínimo requerido, este mes alcanza el mínimo requerido que habilita el bonus ritmo del próximo mes", "El mes ant no alcanzó el mínimo requerido y este mes faltan "&$BE$172&" ventas que habilita el bonus ritmo del próximo mes"), IF($BE$171="No", "El mes ant alcanzó el mínimo requerido pero este mes faltan "&$BE$172&" ventas", ""))))) | AQ40: =IF($C$5="SELECCIONA TU NOMBRE",0,$BG$173) -> 0 | BB40: x
BB41: x
C42: Kit Plus | K42: 100 | L42: 0 | N42: 0 | P42: 0 | R42: 0 | T42: 0 | V42: =T42+R42+P42+N42+L42 -> 0 | W42: =$V42*$K42 -> 0 | X42: =$L42+$N42 -> 0 | BB42: x
BB43: x
C44: Elementos Extra Cobrados: | L44: W1 | N44: W2 | P44: W3 | R44: W4 | T44: W5 | V44: Total | AB44: =IF($C$5="SELECCIONA TU NOMBRE","",IF($O$1=0,"",IF(AK44="No aplica para este reconocimiento","",IF(AG44=0,"⚠️"," ✓")))) | AC44: Reconocimiento: | AG44: =IF($C$5="SELECCIONA TU NOMBRE","",$BE$208) -> 0 | AK44: =IF($BE$205>=10,"No aplica para este reconocimiento",IF($O$1=0,"",IF($BE$205>$BE$204,"No aplica para este reconocimiento",IF($BE$207="No","Falta "&$BE$204-$BE$205-$BE$206&" ventas para alcanzar el reconocimiento"," ")))) | AQ44: =IF($C$5="SELECCIONA TU NOMBRE",0,$BG$208) -> 0 | BB44: x
BB45: x
C46: Pack 1 elemento | K46: 10 | L46: 0 | N46: 0 | P46: 0 | R46: 0 | T46: 0 | V46: =T46+R46+P46+N46+L46 -> 0 | W46: =$V46*$K46 -> 0 | X46: =($L46+$N46)*$K46 -> 0 | BB46: x
BB47: x
C48: Pack 2 elementos | K48: 20 | L48: 0 | N48: 0 | P48: 0 | R48: 0 | T48: 0 | V48: =T48+R48+P48+N48+L48 -> 0 | W48: =$V48*$K48 -> 0 | X48: =($L48+$N48)*$K48 -> 0 | AB48: =IF($C$5="SELECCIONA TU NOMBRE","",IF($O$1=0,"",IF(AK48="No aplica para esta comisión","",IF(AG48=0,"⚠️"," ✓")))) | AC48: Team Coach: | AG48: =IF($C$5="SELECCIONA TU NOMBRE","",IF($BE$200="Si",$L$80*$K$80,0)) -> 0 | AK48: =IF($C$5="SELECCIONA TU NOMBRE","",IF($O$1=0,"",IF($BE$197="No","No aplica para esta comisión",IF($BE$200="No","Falta "&$BE$198-$BE$199&" ventas para activar la comision TC de "&$L$80*$K$80&" €"," ")))) | AQ48: =IF($C$5="SELECCIONA TU NOMBRE",0,IF($BE$200="Si",$L$80*$K$80,0)) -> 0 | BB48: x
BB49: x
C50: Pack 3 elementos | K50: 30 | L50: 0 | N50: 0 | P50: 0 | R50: 0 | T50: 0 | V50: =T50+R50+P50+N50+L50 -> 0 | W50: =$V50*$K50 -> 0 | X50: =($L50+$N50)*$K50 -> 0 | BB50: x
BB51: x
C52: Camara 180º | K52: 20 | L52: 0 | N52: 0 | P52: 0 | R52: 0 | T52: 0 | V52: =T52+R52+P52+N52+L52 -> 0 | W52: =$V52*$K52 -> 0 | X52: =($L52+$N52)*$K52 -> 0 | AC52: Early Churn: | AG52: =IF($C$5="SELECCIONA TU NOMBRE","",IFERROR(IF($L$84>0,$L$84*-1,$L$84),0)) -> 0 | AK52: Si tienes EC recuerda de agregar al final de la calculadora el importe informado | AQ52: =AG52 -> 0 | BB52: x
BB53: x
C54: Camara int/ext | K54: 20 | L54: 0 | N54: 0 | P54: 0 | R54: 0 | T54: 0 | V54: =T54+R54+P54+N54+L54 -> 0 | W54: =$V54*$K54 -> 0 | X54: =($L54+$N54)*$K54 -> 0 | BB54: x
BB55: x
C56: Detector de humo | K56: 10 | L56: 0 | N56: 0 | P56: 0 | R56: 0 | T56: 0 | V56: =T56+R56+P56+N56+L56 -> 0 | W56: =$V56*$K56 -> 0 | X56: =($L56+$N56)*$K56 -> 0 | AC56: Excepciones / Bonos: | AG56: =IF($C$5="SELECCIONA TU NOMBRE","",$L$88) -> 0 | AQ56: =AG56 -> 0 | BB56: x
BB57: x
C58: Enchufe inteligente | K58: 10 | L58: 0 | N58: 0 | P58: 0 | R58: 0 | T58: 0 | V58: =T58+R58+P58+N58+L58 -> 0 | W58: =$V58*$K58 -> 0 | X58: =($L58+$N58)*$K58 -> 0 | BB58: x
BB59: x
C60: Fuga de agua | K60: 10 | L60: 0 | N60: 0 | P60: 0 | R60: 0 | T60: 0 | V60: =T60+R60+P60+N60+L60 -> 0 | W60: =$V60*$K60 -> 0 | X60: =($L60+$N60)*$K60 -> 0 | BB60: x
BB61: x
C62: Magnetico | K62: 10 | L62: 0 | N62: 0 | P62: 0 | R62: 0 | T62: 0 | V62: =T62+R62+P62+N62+L62 -> 0 | W62: =$V62*$K62 -> 0 | X62: =($L62+$N62)*$K62 -> 0 | BB62: x
BB63: x
C64: Mando distancia | K64: 10 | L64: 0 | N64: 0 | P64: 0 | R64: 0 | T64: 0 | V64: =T64+R64+P64+N64+L64 -> 0 | W64: =$V64*$K64 -> 0 | X64: =($L64+$N64)*$K64 -> 0 | BB64: x
BB65: x
C66: Pack DVGA2-6 | K66: 20 | L66: 0 | N66: 0 | P66: 0 | R66: 0 | T66: 0 | V66: =T66+R66+P66+N66+L66 -> 0 | W66: =$V66*$K66 -> 0 | X66: =($L66+$N66)*$K66 -> 0 | BB66: x
BB67: x
C68: Pircam | K68: 10 | L68: 0 | N68: 0 | P68: 0 | R68: 0 | T68: 0 | V68: =T68+R68+P68+N68+L68 -> 0 | W68: =$V68*$K68 -> 0 | X68: =($L68+$N68)*$K68 -> 0 | BB68: x
BB69: x
C70: Sirena | K70: 20 | L70: 0 | N70: 0 | P70: 0 | R70: 0 | T70: 0 | V70: =T70+R70+P70+N70+L70 -> 0 | W70: =$V70*$K70 -> 0 | X70: =($L70+$N70)*$K70 -> 0 | BB70: x
BB71: x
C72: Sirena exterior | K72: 30 | L72: 0 | N72: 0 | P72: 0 | R72: 0 | T72: 0 | V72: =T72+R72+P72+N72+L72 -> 0 | W72: =$V72*$K72 -> 0 | X72: =($L72+$N72)*$K72 -> 0 | BB72: x
BB73: x
C74: Teclado | K74: 30 | L74: 0 | N74: 0 | P74: 0 | R74: 0 | T74: 0 | V74: =T74+R74+P74+N74+L74 -> 0 | W74: =$V74*$K74 -> 0 | X74: =($L74+$N74)*$K74 -> 0 | BB74: x
BB75: x
C76: Voice unit | K76: 20 | L76: 0 | N76: 0 | P76: 0 | R76: 0 | T76: 0 | V76: =T76+R76+P76+N76+L76 -> 0 | W76: =$V76*$K76 -> 0 | X76: =($L76+$N76)*$K76 -> 0 | BB76: x
BB77: x
C78: Team Coach: | BB78: x
BB79: x
C80: Ventas Equipo | K80: 30 | L80: 0 | BB80: x
BB81: x
C82: Early Churn: | BB82: x
BB83: x
C84: En caso de tener EC ingresa el monto informado: | L84: 0 | BB84: x
BB85: x
C86: Excepciones / Bonos: | BB86: x
BB87: x
C88: Aquí puedes ingresar cualquier valor: | L88: 0 | BB88: x
BB89: x
BB90: x
BB91: x
BB92: x
BB93: x
BB94: x
BB95: x
BB96: x
BB97: x
BB98: x
BB99: x
BB100: x
...

Sheet 6
B1: 1 | C1: =Inicio!$C$10&Inicio!$C$15&'6'!$B$1 -> diciembre1 | O1: =SUM(V12:V76) -> 0 | AQ1: =IF($O$1=0,"",IF($C$5="SELECCIONA TU NOMBRE","",IF(OR($BD$153="Field Sales Installer",$BD$153="Team Coach"),IF(SUM($AQ$16,$AQ$20,$AQ$24,$AQ$28,$AQ$32,$AQ$36,$AQ$40,$AQ$44,$AQ$48,$AQ$52)<=T5,"No abre comisiones. El mínimo para abrir comisiones es "&T5&" €",""),""))) | BB1: x
AB2: =IF($O$1=0,"",IF($BD$153="Field Sales Installer (NFS)","",IF(OR($BD$153="Field Sales Installer",$BD$153="Team Coach"),IF(SUM($AG$16,$AG$20,$AG$24,$AG$28,$AG$32,$AG$36,$AG$40,$AG$44,$AG$48,$AG$52,$AG$56)<0,"No abre comisiones. Tiene ec. El mín para abrir comisiones es "&T5&" €",IF(SUM($AG$16,$AG$20,$AG$24,$AG$28,$AG$32,$AG$36,$AG$40,$AG$44,$AG$48,$AG$52,$AG$56)<=T5,"No abre comisiones. El mínimo para abrir comisiones es "&T5&"€",""))))) | AQ2: =IF($BD$153="Field Sales Installer (NFS)","comisiones total con 1 VP más",IF(OR($BD$153="Field Sales Installer",$BD$153="Team Coach"),IF(SUM($AQ$16,$AQ$20,$AQ$24,$AQ$28,$AQ$32,$AQ$36,$AQ$40,$AQ$44,$AQ$48,$AQ$52)<=T5,"generado total con 1 VP más","comisiones total con 1 VP más"),"")) -> comisiones total con 1 VP más | BB2: x
BB3: x
C4: ="¡Hola "&IFERROR(VLOOKUP(Inicio!$C$20,ListaDespelgable!$C$2:$D$11,2,0),"")&"! Selecciona el nombre del FSR:" -> ¡Hola ! Selecciona el nombre del FSR: | K4: =IF(C5="FSR NUEVO","Puedes escribir aquí su nombre:","") | AB4: =IF($BD$153="Field Sales Installer (NFS)"," Comisión Generada:"," Comisión a Cobrar:") -> Comisión Generada: | AG4: =IF(SUM($AG$16,$AG$20,$AG$24,$AG$28,$AG$32,$AG$36,$AG$40,$AG$44,$AG$48,$AG$52,$AG$56)<0,0,IF(OR($BD$153="Field Sales Installer",$BD$153="Team Coach"),IF(SUM($AG$16,$AG$20,$AG$24,$AG$28,$AG$36,$AG$52,$AG$56)>=T5,SUM($AG$16,$AG$20,$AG$24,$AG$28,$AG$32,$AG$36,$AG$40,$AG$44,$AG$48,$AG$52,$AG$56)-T5,0),SUM($AG$16,$AG$20,$AG$24,$AG$28,$AG$32,$AG$36,$AG$40,$AG$44,$AG$48,$AG$52,$AG$56))) -> 0 | BB4: x
T5: =IF($BD$153="Field Sales Installer (NFS)","",VLOOKUP(V5,ValoresBonus!P:Q,2,0)) | V5: 0 | AQ5: =IF($BD$153="Field Sales Installer (NFS)",SUM($AQ$16,$AQ$20,$AQ$24,$AQ$28,$AQ$32,$AQ$36,$AQ$40,$AQ$44,$AQ$48,$AQ$52,$AQ$56),IF(OR($BD$153="Field Sales Installer",$BD$153="Team Coach"),IF(SUM($AQ$16,$AQ$20,$AQ$24,$AQ$28,$AQ$36,$AQ$52,$AQ$56)>=T5,SUM($AQ$16,$AQ$20,$AQ$24,$AQ$28,$AQ$32,$AQ$36,$AQ$40,$AQ$44,$AQ$48,$AQ$52,$AQ$56)-T5,SUM($AQ$16,$AQ$20,$AQ$24,$AQ$28,$AQ$36,$AQ$52,$AQ$56)))) -> 200 | AR5: ="+"&(SUM($AQ$16,$AQ$20,$AQ$24,$AQ$28,$AQ$32,$AQ$36,$AQ$40,$AQ$44,$AQ$48,$AQ$52,$AQ$56)-SUM($AG$16,$AG$20,$AG$24,$AG$28,$AG$32,$AG$36,$AG$40,$AG$44,$AG$48,$AG$52,$AG$56))&" €" -> +200 € | BB5: x | CC5: =IF(BD153="Field Sales Installer (NFS)","","VACACIONES SALARIO FIJO (semanas completas)")
BB6: x
C7: ="Puesto: "&$BD$150&" | "&"Seniority: "&$BD$154&" | Ventas mes anterior: "&$BD$157 -> Puesto: NFS | Seniority: M1 | Ventas mes anterior: 0 | V7: NO | W7: SI | AB7: =IF($BD$153="Field Sales Installer (NFS)"," Primer Tramo:"," Base para Abrir Comisiones:") -> Primer Tramo: | AG7: =IF($BD$153="Field Sales Installer (NFS)",BO170,T5) -> 0 | BB7: x
L8: =IF($BD$153="Field Sales Installer (NFS)","PRIMER TRAMO","") -> PRIMER TRAMO | P8: =IF($BD$153="Field Sales Installer (NFS)","SEGUNDO TRAMO","") -> SEGUNDO TRAMO | W8: NO | BB8: x
BB9: x
C10: Ventas COLD DOOR / REF: | L10: W1 | N10: W2 | P10: W3 | R10: W4 | T10: W5 | V10: Total | AB10: =IF($BD$153="Field Sales Installer (NFS)",""," Resultado:") | AF10: =IF($BD$153="Field Sales Installer (NFS)","",IF($AG$12>=$AG$7,"Abre Comisiones","No Abre Comisiones")) | AQ10: =IF($BD$153="Field Sales Installer (NFS)",Inicio!$J$2,"") -> Periodo desde: 1/12 al 14/12 | Fecha pago: 18/12 | BB10: x
BB11: x
C12: Kit Protección / Smart Business | G12: 149 € a 398 € | K12: 200 | L12: 0 | N12: 0 | P12: 0 | R12: 0 | T12: 0 | V12: =T12+R12+P12+N12+L12 -> 0 | W12: =$V12*$K12 -> 0 | X12: =$L12+$N12 -> 0 | Y12: =$X12*$K12 -> 0 | AB12: =IF($BD$153="Field Sales Installer (NFS)"," Segundo Tramo:"," Generado:") -> Segundo Tramo: | AG12: =IF($BD$153="Field Sales Installer (NFS)",($AG$4-$AG$7),(AG16+AG20+AG24+AG28+AG32+AG36+AG40+AG44+AG48+AG52+AG56)) -> 0 | BB12: x
AQ13: =IF($BD$153="Field Sales Installer (NFS)",Inicio!$J$4,"") -> Fecha pago: 31/12 | BB13: x
C14: Kit Protección / Smart Business | G14: 399 € a 698 € | K14: 300 | L14: 0 | N14: 0 | P14: 0 | R14: 0 | T14: 0 | V14: =T14+R14+P14+N14+L14 -> 0 | W14: =$V14*$K14 -> 0 | X14: =$L14+$N14 -> 0 | Y14: =$X14*$K14 -> 0 | AK14: =$AR$5 -> +200 € | BB14: x
BB15: x
C16: Kit Protección / Smart Business | G16: 699 € o más | K16: 400 | L16: 0 | N16: 0 | P16: 0 | R16: 0 | T16: 0 | V16: =T16+R16+P16+N16+L16 -> 0 | W16: =$V16*$K16 -> 0 | X16: =$L16+$N16 -> 0 | Y16: =$X16*$K16 -> 0 | AB16: =IF($C$5="SELECCIONA TU NOMBRE","",($V$12+$V$14+$V$16+$V$18+$V$20+$V$22+$V$26+$V$28+$V$30+$V$32+$V$34+$V$36)) -> 0 | AD16: Ventas Totales: | AG16: =IF($C$5="SELECCIONA TU NOMBRE","",($W$12+$W$14+$W$16+$W$18+$W$20+$W$22+$W$26+$W$28+$W$30+$W$32+$W$34+$W$36)) -> 0 | AQ16: =IF($C$5="SELECCIONA TU NOMBRE","",($W$12+$W$14+$W$16+$W$18+$W$20+$W$22+$W$26+$W$28+$W$30+$W$32+$W$34+$W$36+200)) -> 200 | BB16: x
BB17: x
C18: Kit Plus | G18: 249 € a 498 € | K18: 250 | L18: 0 | N18: 0 | P18: 0 | R18: 0 | T18: 0 | V18: =T18+R18+P18+N18+L18 -> 0 | W18: =$V18*$K18 -> 0 | X18: =$L18+$N18 -> 0 | Y18: =$X18*$K18 -> 0 | BB18: x
BB19: x
C20: Kit Plus | G20: 499 € a 798 € | K20: 350 | L20: 0 | N20: 0 | P20: 0 | R20: 0 | T20: 0 | V20: =T20+R20+P20+N20+L20 -> 0 | W20: =$V20*$K20 -> 0 | X20: =$L20+$N20 -> 0 | Y20: =$X20*$K20 -> 0 | AB20: =IF($C$5="SELECCIONA TU NOMBRE","",($V$46+$V$48+$V$50+$V$52+$V$54+$V$56+$V$58+$V$60+$V$62+$V$64+$V$66+$V$68+$V$70+$V$72+$V$74+$V$76)) -> 0 | AD20: Elementos Extra: | AG20: =IF($C$5="SELECCIONA TU NOMBRE","",($W$46+$W$48+$W$50+$W$52+$W$54+$W$56+$W$58+$W$60+$W$62+$W$64+$W$66+$W$68+$W$70+$W$72+$W$74+$W$76)) -> 0 | AQ20: =AG20 -> 0 | BB20: x
BB21: x
C22: Kit Plus | G22: 799 € o más | K22: 450 | L22: 0 | N22: 0 | P22: 0 | R22: 0 | T22: 0 | V22: =T22+R22+P22+N22+L22 -> 0 | W22: =$V22*$K22 -> 0 | X22: =$L22+$N22 -> 0 | Y22: =$X22*$K22 -> 0 | BB22: x
BB23: x
C24: Ventas LEAD: | L24: W1 | N24: W2 | P24: W3 | R24: W4 | T24: W5 | V24: Total | AB24: =IF($C$5="SELECCIONA TU NOMBRE","",($V$40+$V$42)) -> 0 | AD24: Instalaciones: | AG24: =IF($C$5="SELECCIONA TU NOMBRE","",($W$40+$W$42)) -> 0 | AQ24: =AG24 -> 0 | BB24: x
BB25: x
C26: Kit Protección / Smart Business | G26: 149 € a 398 € | K26: 150 | L26: 0 | N26: 0 | P26: 0 | R26: 0 | T26: 0 | V26: =T26+R26+P26+N26+L26 -> 0 | W26: =$V26*$K26 -> 0 | X26: =$L26+$N26 -> 0 | Y26: =$X26*$K26 -> 0 | BB26: x
BB27: x
C28: Kit Protección / Smart Business | G28: 399 € a 698 € | K28: 250 | L28: 0 | N28: 0 | P28: 0 | R28: 0 | T28: 0 | V28: =T28+R28+P28+N28+L28 -> 0 | W28: =$V28*$K28 -> 0 | X28: =$L28+$N28 -> 0 | Y28: =$X28*$K28 -> 0 | AB28: =IF($C$5="SELECCIONA TU NOMBRE","",IF($O$1=0,"",IF(AG28=0,"⚠️"," ✓"))) | AC28: Bonus Ventas Totales: | AG28: =IF($C$5="SELECCIONA TU NOMBRE","",VLOOKUP($BD$155,ValoresBonus!$B$3:$C$28,2,0)) -> 0 | AK28: =IF($C$5="SELECCIONA TU NOMBRE","",IF($O$1=0,"",IF($BD$155<5,"Faltan "&5-$BD$155&" ventas para activar bonus",""))) | AQ28: =IF($C$5="SELECCIONA TU NOMBRE",0,VLOOKUP($BD$155+1,ValoresBonus!$B$3:$C$28,2,0)) -> 0 | BB28: x
BB29: x
C30: Kit Protección / Smart Business | G30: 699 € o más | K30: 350 | L30: 0 | N30: 0 | P30: 0 | R30: 0 | T30: 0 | V30: =T30+R30+P30+N30+L30 -> 0 | W30: =$V30*$K30 -> 0 | X30: =$L30+$N30 -> 0 | Y30: =$X30*$K30 -> 0 | BB30: x
BB31: x
C32: Kit Plus | G32: 249 € a 498 € | K32: 200 | L32: 0 | N32: 0 | P32: 0 | R32: 0 | T32: 0 | V32: =T32+R32+P32+N32+L32 -> 0 | W32: =$V32*$K32 -> 0 | X32: =$L32+$N32 -> 0 | Y32: =$X32*$K32 -> 0 | AB32: =IF($C$5="SELECCIONA TU NOMBRE","",IF($O$1=0,"",IF(AG32=0,"⚠️"," ✓"))) | AC32: Bonus Ventas Propias: | AG32: =IF($C$5="SELECCIONA TU NOMBRE","",$BE$194) -> 0 | AK32: =IF($C$5="SELECCIONA TU NOMBRE","",IF($O$1=0,"",IF($BE$191="No","El minimo para desbloquear el bonus es 5 ventas min (50% propias)",IF($BE$193="No","El minimo para desbloquear el bonus es =>50% propias","")))) | AQ32: =IF($C$5="SELECCIONA TU NOMBRE",0,$BG$194) -> 0 | BB32: x
BB33: x
C34: Kit Plus | G34: 499 € a 798 € | K34: 300 | L34: 0 | N34: 0 | P34: 0 | R34: 0 | T34: 0 | V34: =T34+R34+P34+N34+L34 -> 0 | W34: =$V34*$K34 -> 0 | X34: =$L34+$N34 -> 0 | Y34: =$X34*$K34 -> 0 | BB34: x
BB35: x
C36: Kit Plus | G36: 799 € o más | K36: 400 | L36: 0 | N36: 0 | P36: 0 | R36: 0 | T36: 0 | V36: =T36+R36+P36+N36+L36 -> 0 | W36: =$V36*$K36 -> 0 | X36: =$L36+$N36 -> 0 | Y36: =$X36*$K36 -> 0 | AB36: =IF($C$5="SELECCIONA TU NOMBRE","",IF($O$1=0,"",IF(AK36="No aplica para este bonus","",IF(AG36=0,"⚠️"," ✓")))) | AC36: Bonus de Arranque: | AG36: =IF($C$5="SELECCIONA TU NOMBRE","",$BE$183) -> 0 | AK36: =IF($C$5="SELECCIONA TU NOMBRE","",IF($O$1=0,"",IF($BE$154="No aplica","No aplica para este bonus",IF($BE$181="No","Falta "&$BE$176-$BE$179&" ventas totales y "&$BE$177-$BE$180&" propias para activar bonus",IF(AND($BE$182="No",$BE$181="Si"),"Falta "&$BE$177-$BE$180&" ventas propias para activar bonus",""))))) | AQ36: =IF($C$5="SELECCIONA TU NOMBRE",0,$BG$183) -> 0 | BB36: x
BB37: x
C38: Instalaciones (propias o a compañeros): | L38: W1 | N38: W2 | P38: W3 | R38: W4 | T38: W5 | V38: Total | BB38: x
BB39: x
C40: Kit Protección / Smart Business | K40: 50 | L40: 0 | N40: 0 | P40: 0 | R40: 0 | T40: 0 | V40: =T40+R40+P40+N40+L40 -> 0 | W40: =$V40*$K40 -> 0 | X40: =$L40+$N40 -> 0 | AB40: =IF($C$5="SELECCIONA TU NOMBRE","",IF($O$1=0,"",IF(AK40="No aplica para este bonus","",IF(AG40=0,"⚠️"," ✓")))) | AC40: Bonus Ritmo: | AG40: =IF($C$5="SELECCIONA TU NOMBRE","",$BE$173) -> 0 | AK40: =IF($C$5="SELECCIONA TU NOMBRE", "", IF($O$1=0, "", IF($BD$154="M1", "No aplica para este bonus", IF($BE$166="No", IF($BE$171="Si", "El mes ant no alcanzó el mínimo requerido, este mes alcanza el mínimo requerido que habilita el bonus ritmo del próximo mes", "El mes ant no alcanzó el mínimo requerido y este mes faltan "&$BE$172&" ventas que habilita el bonus ritmo del próximo mes"), IF($BE$171="No", "El mes ant alcanzó el mínimo requerido pero este mes faltan "&$BE$172&" ventas", ""))))) | AQ40: =IF($C$5="SELECCIONA TU NOMBRE",0,$BG$173) -> 0 | BB40: x
BB41: x
C42: Kit Plus | K42: 100 | L42: 0 | N42: 0 | P42: 0 | R42: 0 | T42: 0 | V42: =T42+R42+P42+N42+L42 -> 0 | W42: =$V42*$K42 -> 0 | X42: =$L42+$N42 -> 0 | BB42: x
BB43: x
C44: Elementos Extra Cobrados: | L44: W1 | N44: W2 | P44: W3 | R44: W4 | T44: W5 | V44: Total | AB44: =IF($C$5="SELECCIONA TU NOMBRE","",IF($O$1=0,"",IF(AK44="No aplica para este reconocimiento","",IF(AG44=0,"⚠️"," ✓")))) | AC44: Reconocimiento: | AG44: =IF($C$5="SELECCIONA TU NOMBRE","",$BE$208) -> 0 | AK44: =IF($BE$205>=10,"No aplica para este reconocimiento",IF($O$1=0,"",IF($BE$205>$BE$204,"No aplica para este reconocimiento",IF($BE$207="No","Falta "&$BE$204-$BE$205-$BE$206&" ventas para alcanzar el reconocimiento"," ")))) | AQ44: =IF($C$5="SELECCIONA TU NOMBRE",0,$BG$208) -> 0 | BB44: x
BB45: x
C46: Pack 1 elemento | K46: 10 | L46: 0 | N46: 0 | P46: 0 | R46: 0 | T46: 0 | V46: =T46+R46+P46+N46+L46 -> 0 | W46: =$V46*$K46 -> 0 | X46: =($L46+$N46)*$K46 -> 0 | BB46: x
BB47: x
C48: Pack 2 elementos | K48: 20 | L48: 0 | N48: 0 | P48: 0 | R48: 0 | T48: 0 | V48: =T48+R48+P48+N48+L48 -> 0 | W48: =$V48*$K48 -> 0 | X48: =($L48+$N48)*$K48 -> 0 | AB48: =IF($C$5="SELECCIONA TU NOMBRE","",IF($O$1=0,"",IF(AK48="No aplica para esta comisión","",IF(AG48=0,"⚠️"," ✓")))) | AC48: Team Coach: | AG48: =IF($C$5="SELECCIONA TU NOMBRE","",IF($BE$200="Si",$L$80*$K$80,0)) -> 0 | AK48: =IF($C$5="SELECCIONA TU NOMBRE","",IF($O$1=0,"",IF($BE$197="No","No aplica para esta comisión",IF($BE$200="No","Falta "&$BE$198-$BE$199&" ventas para activar la comision TC de "&$L$80*$K$80&" €"," ")))) | AQ48: =IF($C$5="SELECCIONA TU NOMBRE",0,IF($BE$200="Si",$L$80*$K$80,0)) -> 0 | BB48: x
BB49: x
C50: Pack 3 elementos | K50: 30 | L50: 0 | N50: 0 | P50: 0 | R50: 0 | T50: 0 | V50: =T50+R50+P50+N50+L50 -> 0 | W50: =$V50*$K50 -> 0 | X50: =($L50+$N50)*$K50 -> 0 | BB50: x
BB51: x
C52: Camara 180º | K52: 20 | L52: 0 | N52: 0 | P52: 0 | R52: 0 | T52: 0 | V52: =T52+R52+P52+N52+L52 -> 0 | W52: =$V52*$K52 -> 0 | X52: =($L52+$N52)*$K52 -> 0 | AC52: Early Churn: | AG52: =IF($C$5="SELECCIONA TU NOMBRE","",IFERROR(IF($L$84>0,$L$84*-1,$L$84),0)) -> 0 | AK52: Si tienes EC recuerda de agregar al final de la calculadora el importe informado | AQ52: =AG52 -> 0 | BB52: x
BB53: x
C54: Camara int/ext | K54: 20 | L54: 0 | N54: 0 | P54: 0 | R54: 0 | T54: 0 | V54: =T54+R54+P54+N54+L54 -> 0 | W54: =$V54*$K54 -> 0 | X54: =($L54+$N54)*$K54 -> 0 | BB54: x
BB55: x
C56: Detector de humo | K56: 10 | L56: 0 | N56: 0 | P56: 0 | R56: 0 | T56: 0 | V56: =T56+R56+P56+N56+L56 -> 0 | W56: =$V56*$K56 -> 0 | X56: =($L56+$N56)*$K56 -> 0 | AC56: Excepciones / Bonos: | AG56: =IF($C$5="SELECCIONA TU NOMBRE","",$L$88) -> 0 | AQ56: =AG56 -> 0 | BB56: x
BB57: x
C58: Enchufe inteligente | K58: 10 | L58: 0 | N58: 0 | P58: 0 | R58: 0 | T58: 0 | V58: =T58+R58+P58+N58+L58 -> 0 | W58: =$V58*$K58 -> 0 | X58: =($L58+$N58)*$K58 -> 0 | BB58: x
BB59: x
C60: Fuga de agua | K60: 10 | L60: 0 | N60: 0 | P60: 0 | R60: 0 | T60: 0 | V60: =T60+R60+P60+N60+L60 -> 0 | W60: =$V60*$K60 -> 0 | X60: =($L60+$N60)*$K60 -> 0 | BB60: x
BB61: x
C62: Magnetico | K62: 10 | L62: 0 | N62: 0 | P62: 0 | R62: 0 | T62: 0 | V62: =T62+R62+P62+N62+L62 -> 0 | W62: =$V62*$K62 -> 0 | X62: =($L62+$N62)*$K62 -> 0 | BB62: x
BB63: x
C64: Mando distancia | K64: 10 | L64: 0 | N64: 0 | P64: 0 | R64: 0 | T64: 0 | V64: =T64+R64+P64+N64+L64 -> 0 | W64: =$V64*$K64 -> 0 | X64: =($L64+$N64)*$K64 -> 0 | BB64: x
BB65: x
C66: Pack DVGA2-6 | K66: 20 | L66: 0 | N66: 0 | P66: 0 | R66: 0 | T66: 0 | V66: =T66+R66+P66+N66+L66 -> 0 | W66: =$V66*$K66 -> 0 | X66: =($L66+$N66)*$K66 -> 0 | BB66: x
BB67: x
C68: Pircam | K68: 10 | L68: 0 | N68: 0 | P68: 0 | R68: 0 | T68: 0 | V68: =T68+R68+P68+N68+L68 -> 0 | W68: =$V68*$K68 -> 0 | X68: =($L68+$N68)*$K68 -> 0 | BB68: x
BB69: x
C70: Sirena | K70: 20 | L70: 0 | N70: 0 | P70: 0 | R70: 0 | T70: 0 | V70: =T70+R70+P70+N70+L70 -> 0 | W70: =$V70*$K70 -> 0 | X70: =($L70+$N70)*$K70 -> 0 | BB70: x
BB71: x
C72: Sirena exterior | K72: 30 | L72: 0 | N72: 0 | P72: 0 | R72: 0 | T72: 0 | V72: =T72+R72+P72+N72+L72 -> 0 | W72: =$V72*$K72 -> 0 | X72: =($L72+$N72)*$K72 -> 0 | BB72: x
BB73: x
C74: Teclado | K74: 30 | L74: 0 | N74: 0 | P74: 0 | R74: 0 | T74: 0 | V74: =T74+R74+P74+N74+L74 -> 0 | W74: =$V74*$K74 -> 0 | X74: =($L74+$N74)*$K74 -> 0 | BB74: x
BB75: x
C76: Voice unit | K76: 20 | L76: 0 | N76: 0 | P76: 0 | R76: 0 | T76: 0 | V76: =T76+R76+P76+N76+L76 -> 0 | W76: =$V76*$K76 -> 0 | X76: =($L76+$N76)*$K76 -> 0 | BB76: x
BB77: x
C78: Team Coach: | BB78: x
BB79: x
C80: Ventas Equipo | K80: 30 | L80: 0 | BB80: x
BB81: x
C82: Early Churn: | BB82: x
BB83: x
C84: En caso de tener EC ingresa el monto informado: | L84: 0 | BB84: x
BB85: x
C86: Excepciones / Bonos: | BB86: x
BB87: x
C88: Aquí puedes ingresar cualquier valor: | L88: 0 | BB88: x
BB89: x
BB90: x
BB91: x
BB92: x
BB93: x
BB94: x
BB95: x
BB96: x
BB97: x
BB98: x
BB99: x
BB100: x
...

Sheet 7
B1: 1 | C1: =Inicio!$C$10&Inicio!$C$15&'7'!$B$1 -> diciembre1 | O1: =SUM(V12:V76) -> 0 | AQ1: =IF($O$1=0,"",IF($C$5="SELECCIONA TU NOMBRE","",IF(OR($BD$153="Field Sales Installer",$BD$153="Team Coach"),IF(SUM($AQ$16,$AQ$20,$AQ$24,$AQ$28,$AQ$32,$AQ$36,$AQ$40,$AQ$44,$AQ$48,$AQ$52)<=T5,"No abre comisiones. El mínimo para abrir comisiones es "&T5&" €",""),""))) | BB1: x
AB2: =IF($O$1=0,"",IF($BD$153="Field Sales Installer (NFS)","",IF(OR($BD$153="Field Sales Installer",$BD$153="Team Coach"),IF(SUM($AG$16,$AG$20,$AG$24,$AG$28,$AG$32,$AG$36,$AG$40,$AG$44,$AG$48,$AG$52,$AG$56)<0,"No abre comisiones. Tiene ec. El mín para abrir comisiones es "&T5&" €",IF(SUM($AG$16,$AG$20,$AG$24,$AG$28,$AG$32,$AG$36,$AG$40,$AG$44,$AG$48,$AG$52,$AG$56)<=T5,"No abre comisiones. El mínimo para abrir comisiones es "&T5&"€",""))))) | AQ2: =IF($BD$153="Field Sales Installer (NFS)","comisiones total con 1 VP más",IF(OR($BD$153="Field Sales Installer",$BD$153="Team Coach"),IF(SUM($AQ$16,$AQ$20,$AQ$24,$AQ$28,$AQ$32,$AQ$36,$AQ$40,$AQ$44,$AQ$48,$AQ$52)<=T5,"generado total con 1 VP más","comisiones total con 1 VP más"),"")) -> comisiones total con 1 VP más | BB2: x
BB3: x
C4: ="¡Hola "&IFERROR(VLOOKUP(Inicio!$C$20,ListaDespelgable!$C$2:$D$11,2,0),"")&"! Selecciona el nombre del FSR:" -> ¡Hola ! Selecciona el nombre del FSR: | K4: =IF(C5="FSR NUEVO","Puedes escribir aquí su nombre:","") | AB4: =IF($BD$153="Field Sales Installer (NFS)"," Comisión Generada:"," Comisión a Cobrar:") -> Comisión Generada: | AG4: =IF(SUM($AG$16,$AG$20,$AG$24,$AG$28,$AG$32,$AG$36,$AG$40,$AG$44,$AG$48,$AG$52,$AG$56)<0,0,IF(OR($BD$153="Field Sales Installer",$BD$153="Team Coach"),IF(SUM($AG$16,$AG$20,$AG$24,$AG$28,$AG$36,$AG$52,$AG$56)>=T5,SUM($AG$16,$AG$20,$AG$24,$AG$28,$AG$32,$AG$36,$AG$40,$AG$44,$AG$48,$AG$52,$AG$56)-T5,0),SUM($AG$16,$AG$20,$AG$24,$AG$28,$AG$32,$AG$36,$AG$40,$AG$44,$AG$48,$AG$52,$AG$56))) -> 0 | BB4: x
T5: =IF($BD$153="Field Sales Installer (NFS)","",VLOOKUP(V5,ValoresBonus!P:Q,2,0)) | V5: 0 | AQ5: =IF($BD$153="Field Sales Installer (NFS)",SUM($AQ$16,$AQ$20,$AQ$24,$AQ$28,$AQ$32,$AQ$36,$AQ$40,$AQ$44,$AQ$48,$AQ$52,$AQ$56),IF(OR($BD$153="Field Sales Installer",$BD$153="Team Coach"),IF(SUM($AQ$16,$AQ$20,$AQ$24,$AQ$28,$AQ$36,$AQ$52,$AQ$56)>=T5,SUM($AQ$16,$AQ$20,$AQ$24,$AQ$28,$AQ$32,$AQ$36,$AQ$40,$AQ$44,$AQ$48,$AQ$52,$AQ$56)-T5,SUM($AQ$16,$AQ$20,$AQ$24,$AQ$28,$AQ$36,$AQ$52,$AQ$56)))) -> 200 | AR5: ="+"&(SUM($AQ$16,$AQ$20,$AQ$24,$AQ$28,$AQ$32,$AQ$36,$AQ$40,$AQ$44,$AQ$48,$AQ$52,$AQ$56)-SUM($AG$16,$AG$20,$AG$24,$AG$28,$AG$32,$AG$36,$AG$40,$AG$44,$AG$48,$AG$52,$AG$56))&" €" -> +200 € | BB5: x | CC5: =IF(BD153="Field Sales Installer (NFS)","","VACACIONES SALARIO FIJO (semanas completas)")
BB6: x
C7: ="Puesto: "&$BD$150&" | "&"Seniority: "&$BD$154&" | Ventas mes anterior: "&$BD$157 -> Puesto: NFS | Seniority: M1 | Ventas mes anterior: 0 | V7: NO | W7: SI | AB7: =IF($BD$153="Field Sales Installer (NFS)"," Primer Tramo:"," Base para Abrir Comisiones:") -> Primer Tramo: | AG7: =IF($BD$153="Field Sales Installer (NFS)",BO170,T5) -> 0 | BB7: x
L8: =IF($BD$153="Field Sales Installer (NFS)","PRIMER TRAMO","") -> PRIMER TRAMO | P8: =IF($BD$153="Field Sales Installer (NFS)","SEGUNDO TRAMO","") -> SEGUNDO TRAMO | W8: NO | BB8: x
BB9: x
C10: Ventas COLD DOOR / REF: | L10: W1 | N10: W2 | P10: W3 | R10: W4 | T10: W5 | V10: Total | AB10: =IF($BD$153="Field Sales Installer (NFS)",""," Resultado:") | AF10: =IF($BD$153="Field Sales Installer (NFS)","",IF($AG$12>=$AG$7,"Abre Comisiones","No Abre Comisiones")) | AQ10: =IF($BD$153="Field Sales Installer (NFS)",Inicio!$J$2,"") -> Periodo desde: 1/12 al 14/12 | Fecha pago: 18/12 | BB10: x
BB11: x
C12: Kit Protección / Smart Business | G12: 149 € a 398 € | K12: 200 | L12: 0 | N12: 0 | P12: 0 | R12: 0 | T12: 0 | V12: =T12+R12+P12+N12+L12 -> 0 | W12: =$V12*$K12 -> 0 | X12: =$L12+$N12 -> 0 | Y12: =$X12*$K12 -> 0 | AB12: =IF($BD$153="Field Sales Installer (NFS)"," Segundo Tramo:"," Generado:") -> Segundo Tramo: | AG12: =IF($BD$153="Field Sales Installer (NFS)",($AG$4-$AG$7),(AG16+AG20+AG24+AG28+AG32+AG36+AG40+AG44+AG48+AG52+AG56)) -> 0 | BB12: x
AQ13: =IF($BD$153="Field Sales Installer (NFS)",Inicio!$J$4,"") -> Fecha pago: 31/12 | BB13: x
C14: Kit Protección / Smart Business | G14: 399 € a 698 € | K14: 300 | L14: 0 | N14: 0 | P14: 0 | R14: 0 | T14: 0 | V14: =T14+R14+P14+N14+L14 -> 0 | W14: =$V14*$K14 -> 0 | X14: =$L14+$N14 -> 0 | Y14: =$X14*$K14 -> 0 | AK14: =$AR$5 -> +200 € | BB14: x
BB15: x
C16: Kit Protección / Smart Business | G16: 699 € o más | K16: 400 | L16: 0 | N16: 0 | P16: 0 | R16: 0 | T16: 0 | V16: =T16+R16+P16+N16+L16 -> 0 | W16: =$V16*$K16 -> 0 | X16: =$L16+$N16 -> 0 | Y16: =$X16*$K16 -> 0 | AB16: =IF($C$5="SELECCIONA TU NOMBRE","",($V$12+$V$14+$V$16+$V$18+$V$20+$V$22+$V$26+$V$28+$V$30+$V$32+$V$34+$V$36)) -> 0 | AD16: Ventas Totales: | AG16: =IF($C$5="SELECCIONA TU NOMBRE","",($W$12+$W$14+$W$16+$W$18+$W$20+$W$22+$W$26+$W$28+$W$30+$W$32+$W$34+$W$36)) -> 0 | AQ16: =IF($C$5="SELECCIONA TU NOMBRE","",($W$12+$W$14+$W$16+$W$18+$W$20+$W$22+$W$26+$W$28+$W$30+$W$32+$W$34+$W$36+200)) -> 200 | BB16: x
BB17: x
C18: Kit Plus | G18: 249 € a 498 € | K18: 250 | L18: 0 | N18: 0 | P18: 0 | R18: 0 | T18: 0 | V18: =T18+R18+P18+N18+L18 -> 0 | W18: =$V18*$K18 -> 0 | X18: =$L18+$N18 -> 0 | Y18: =$X18*$K18 -> 0 | BB18: x
BB19: x
C20: Kit Plus | G20: 499 € a 798 € | K20: 350 | L20: 0 | N20: 0 | P20: 0 | R20: 0 | T20: 0 | V20: =T20+R20+P20+N20+L20 -> 0 | W20: =$V20*$K20 -> 0 | X20: =$L20+$N20 -> 0 | Y20: =$X20*$K20 -> 0 | AB20: =IF($C$5="SELECCIONA TU NOMBRE","",($V$46+$V$48+$V$50+$V$52+$V$54+$V$56+$V$58+$V$60+$V$62+$V$64+$V$66+$V$68+$V$70+$V$72+$V$74+$V$76)) -> 0 | AD20: Elementos Extra: | AG20: =IF($C$5="SELECCIONA TU NOMBRE","",($W$46+$W$48+$W$50+$W$52+$W$54+$W$56+$W$58+$W$60+$W$62+$W$64+$W$66+$W$68+$W$70+$W$72+$W$74+$W$76)) -> 0 | AQ20: =AG20 -> 0 | BB20: x
BB21: x
C22: Kit Plus | G22: 799 € o más | K22: 450 | L22: 0 | N22: 0 | P22: 0 | R22: 0 | T22: 0 | V22: =T22+R22+P22+N22+L22 -> 0 | W22: =$V22*$K22 -> 0 | X22: =$L22+$N22 -> 0 | Y22: =$X22*$K22 -> 0 | BB22: x
BB23: x
C24: Ventas LEAD: | L24: W1 | N24: W2 | P24: W3 | R24: W4 | T24: W5 | V24: Total | AB24: =IF($C$5="SELECCIONA TU NOMBRE","",($V$40+$V$42)) -> 0 | AD24: Instalaciones: | AG24: =IF($C$5="SELECCIONA TU NOMBRE","",($W$40+$W$42)) -> 0 | AQ24: =AG24 -> 0 | BB24: x
BB25: x
C26: Kit Protección / Smart Business | G26: 149 € a 398 € | K26: 150 | L26: 0 | N26: 0 | P26: 0 | R26: 0 | T26: 0 | V26: =T26+R26+P26+N26+L26 -> 0 | W26: =$V26*$K26 -> 0 | X26: =$L26+$N26 -> 0 | Y26: =$X26*$K26 -> 0 | BB26: x
BB27: x
C28: Kit Protección / Smart Business | G28: 399 € a 698 € | K28: 250 | L28: 0 | N28: 0 | P28: 0 | R28: 0 | T28: 0 | V28: =T28+R28+P28+N28+L28 -> 0 | W28: =$V28*$K28 -> 0 | X28: =$L28+$N28 -> 0 | Y28: =$X28*$K28 -> 0 | AB28: =IF($C$5="SELECCIONA TU NOMBRE","",IF($O$1=0,"",IF(AG28=0,"⚠️"," ✓"))) | AC28: Bonus Ventas Totales: | AG28: =IF($C$5="SELECCIONA TU NOMBRE","",VLOOKUP($BD$155,ValoresBonus!$B$3:$C$28,2,0)) -> 0 | AK28: =IF($C$5="SELECCIONA TU NOMBRE","",IF($O$1=0,"",IF($BD$155<5,"Faltan "&5-$BD$155&" ventas para activar bonus",""))) | AQ28: =IF($C$5="SELECCIONA TU NOMBRE",0,VLOOKUP($BD$155+1,ValoresBonus!$B$3:$C$28,2,0)) -> 0 | BB28: x
BB29: x
C30: Kit Protección / Smart Business | G30: 699 € o más | K30: 350 | L30: 0 | N30: 0 | P30: 0 | R30: 0 | T30: 0 | V30: =T30+R30+P30+N30+L30 -> 0 | W30: =$V30*$K30 -> 0 | X30: =$L30+$N30 -> 0 | Y30: =$X30*$K30 -> 0 | BB30: x
BB31: x
C32: Kit Plus | G32: 249 € a 498 € | K32: 200 | L32: 0 | N32: 0 | P32: 0 | R32: 0 | T32: 0 | V32: =T32+R32+P32+N32+L32 -> 0 | W32: =$V32*$K32 -> 0 | X32: =$L32+$N32 -> 0 | Y32: =$X32*$K32 -> 0 | AB32: =IF($C$5="SELECCIONA TU NOMBRE","",IF($O$1=0,"",IF(AG32=0,"⚠️"," ✓"))) | AC32: Bonus Ventas Propias: | AG32: =IF($C$5="SELECCIONA TU NOMBRE","",$BE$194) -> 0 | AK32: =IF($C$5="SELECCIONA TU NOMBRE","",IF($O$1=0,"",IF($BE$191="No","El minimo para desbloquear el bonus es 5 ventas min (50% propias)",IF($BE$193="No","El minimo para desbloquear el bonus es =>50% propias","")))) | AQ32: =IF($C$5="SELECCIONA TU NOMBRE",0,$BG$194) -> 0 | BB32: x
BB33: x
C34: Kit Plus | G34: 499 € a 798 € | K34: 300 | L34: 0 | N34: 0 | P34: 0 | R34: 0 | T34: 0 | V34: =T34+R34+P34+N34+L34 -> 0 | W34: =$V34*$K34 -> 0 | X34: =$L34+$N34 -> 0 | Y34: =$X34*$K34 -> 0 | BB34: x
BB35: x
C36: Kit Plus | G36: 799 € o más | K36: 400 | L36: 0 | N36: 0 | P36: 0 | R36: 0 | T36: 0 | V36: =T36+R36+P36+N36+L36 -> 0 | W36: =$V36*$K36 -> 0 | X36: =$L36+$N36 -> 0 | Y36: =$X36*$K36 -> 0 | AB36: =IF($C$5="SELECCIONA TU NOMBRE","",IF($O$1=0,"",IF(AK36="No aplica para este bonus","",IF(AG36=0,"⚠️"," ✓")))) | AC36: Bonus de Arranque: | AG36: =IF($C$5="SELECCIONA TU NOMBRE","",$BE$183) -> 0 | AK36: =IF($C$5="SELECCIONA TU NOMBRE","",IF($O$1=0,"",IF($BE$154="No aplica","No aplica para este bonus",IF($BE$181="No","Falta "&$BE$176-$BE$179&" ventas totales y "&$BE$177-$BE$180&" propias para activar bonus",IF(AND($BE$182="No",$BE$181="Si"),"Falta "&$BE$177-$BE$180&" ventas propias para activar bonus",""))))) | AQ36: =IF($C$5="SELECCIONA TU NOMBRE",0,$BG$183) -> 0 | BB36: x
BB37: x
C38: Instalaciones (propias o a compañeros): | L38: W1 | N38: W2 | P38: W3 | R38: W4 | T38: W5 | V38: Total | BB38: x
BB39: x
C40: Kit Protección / Smart Business | K40: 50 | L40: 0 | N40: 0 | P40: 0 | R40: 0 | T40: 0 | V40: =T40+R40+P40+N40+L40 -> 0 | W40: =$V40*$K40 -> 0 | X40: =$L40+$N40 -> 0 | AB40: =IF($C$5="SELECCIONA TU NOMBRE","",IF($O$1=0,"",IF(AK40="No aplica para este bonus","",IF(AG40=0,"⚠️"," ✓")))) | AC40: Bonus Ritmo: | AG40: =IF($C$5="SELECCIONA TU NOMBRE","",$BE$173) -> 0 | AK40: =IF($C$5="SELECCIONA TU NOMBRE", "", IF($O$1=0, "", IF($BD$154="M1", "No aplica para este bonus", IF($BE$166="No", IF($BE$171="Si", "El mes ant no alcanzó el mínimo requerido, este mes alcanza el mínimo requerido que habilita el bonus ritmo del próximo mes", "El mes ant no alcanzó el mínimo requerido y este mes faltan "&$BE$172&" ventas que habilita el bonus ritmo del próximo mes"), IF($BE$171="No", "El mes ant alcanzó el mínimo requerido pero este mes faltan "&$BE$172&" ventas", ""))))) | AQ40: =IF($C$5="SELECCIONA TU NOMBRE",0,$BG$173) -> 0 | BB40: x
BB41: x
C42: Kit Plus | K42: 100 | L42: 0 | N42: 0 | P42: 0 | R42: 0 | T42: 0 | V42: =T42+R42+P42+N42+L42 -> 0 | W42: =$V42*$K42 -> 0 | X42: =$L42+$N42 -> 0 | BB42: x
BB43: x
C44: Elementos Extra Cobrados: | L44: W1 | N44: W2 | P44: W3 | R44: W4 | T44: W5 | V44: Total | AB44: =IF($C$5="SELECCIONA TU NOMBRE","",IF($O$1=0,"",IF(AK44="No aplica para este reconocimiento","",IF(AG44=0,"⚠️"," ✓")))) | AC44: Reconocimiento: | AG44: =IF($C$5="SELECCIONA TU NOMBRE","",$BE$208) -> 0 | AK44: =IF($BE$205>=10,"No aplica para este reconocimiento",IF($O$1=0,"",IF($BE$205>$BE$204,"No aplica para este reconocimiento",IF($BE$207="No","Falta "&$BE$204-$BE$205-$BE$206&" ventas para alcanzar el reconocimiento"," ")))) | AQ44: =IF($C$5="SELECCIONA TU NOMBRE",0,$BG$208) -> 0 | BB44: x
BB45: x
C46: Pack 1 elemento | K46: 10 | L46: 0 | N46: 0 | P46: 0 | R46: 0 | T46: 0 | V46: =T46+R46+P46+N46+L46 -> 0 | W46: =$V46*$K46 -> 0 | X46: =($L46+$N46)*$K46 -> 0 | BB46: x
BB47: x
C48: Pack 2 elementos | K48: 20 | L48: 0 | N48: 0 | P48: 0 | R48: 0 | T48: 0 | V48: =T48+R48+P48+N48+L48 -> 0 | W48: =$V48*$K48 -> 0 | X48: =($L48+$N48)*$K48 -> 0 | AB48: =IF($C$5="SELECCIONA TU NOMBRE","",IF($O$1=0,"",IF(AK48="No aplica para esta comisión","",IF(AG48=0,"⚠️"," ✓")))) | AC48: Team Coach: | AG48: =IF($C$5="SELECCIONA TU NOMBRE","",IF($BE$200="Si",$L$80*$K$80,0)) -> 0 | AK48: =IF($C$5="SELECCIONA TU NOMBRE","",IF($O$1=0,"",IF($BE$197="No","No aplica para esta comisión",IF($BE$200="No","Falta "&$BE$198-$BE$199&" ventas para activar la comision TC de "&$L$80*$K$80&" €"," ")))) | AQ48: =IF($C$5="SELECCIONA TU NOMBRE",0,IF($BE$200="Si",$L$80*$K$80,0)) -> 0 | BB48: x
BB49: x
C50: Pack 3 elementos | K50: 30 | L50: 0 | N50: 0 | P50: 0 | R50: 0 | T50: 0 | V50: =T50+R50+P50+N50+L50 -> 0 | W50: =$V50*$K50 -> 0 | X50: =($L50+$N50)*$K50 -> 0 | BB50: x
BB51: x
C52: Camara 180º | K52: 20 | L52: 0 | N52: 0 | P52: 0 | R52: 0 | T52: 0 | V52: =T52+R52+P52+N52+L52 -> 0 | W52: =$V52*$K52 -> 0 | X52: =($L52+$N52)*$K52 -> 0 | AC52: Early Churn: | AG52: =IF($C$5="SELECCIONA TU NOMBRE","",IFERROR(IF($L$84>0,$L$84*-1,$L$84),0)) -> 0 | AK52: Si tienes EC recuerda de agregar al final de la calculadora el importe informado | AQ52: =AG52 -> 0 | BB52: x
BB53: x
C54: Camara int/ext | K54: 20 | L54: 0 | N54: 0 | P54: 0 | R54: 0 | T54: 0 | V54: =T54+R54+P54+N54+L54 -> 0 | W54: =$V54*$K54 -> 0 | X54: =($L54+$N54)*$K54 -> 0 | BB54: x
BB55: x
C56: Detector de humo | K56: 10 | L56: 0 | N56: 0 | P56: 0 | R56: 0 | T56: 0 | V56: =T56+R56+P56+N56+L56 -> 0 | W56: =$V56*$K56 -> 0 | X56: =($L56+$N56)*$K56 -> 0 | AC56: Excepciones / Bonos: | AG56: =IF($C$5="SELECCIONA TU NOMBRE","",$L$88) -> 0 | AQ56: =AG56 -> 0 | BB56: x
BB57: x
C58: Enchufe inteligente | K58: 10 | L58: 0 | N58: 0 | P58: 0 | R58: 0 | T58: 0 | V58: =T58+R58+P58+N58+L58 -> 0 | W58: =$V58*$K58 -> 0 | X58: =($L58+$N58)*$K58 -> 0 | BB58: x
BB59: x
C60: Fuga de agua | K60: 10 | L60: 0 | N60: 0 | P60: 0 | R60: 0 | T60: 0 | V60: =T60+R60+P60+N60+L60 -> 0 | W60: =$V60*$K60 -> 0 | X60: =($L60+$N60)*$K60 -> 0 | BB60: x
BB61: x
C62: Magnetico | K62: 10 | L62: 0 | N62: 0 | P62: 0 | R62: 0 | T62: 0 | V62: =T62+R62+P62+N62+L62 -> 0 | W62: =$V62*$K62 -> 0 | X62: =($L62+$N62)*$K62 -> 0 | BB62: x
BB63: x
C64: Mando distancia | K64: 10 | L64: 0 | N64: 0 | P64: 0 | R64: 0 | T64: 0 | V64: =T64+R64+P64+N64+L64 -> 0 | W64: =$V64*$K64 -> 0 | X64: =($L64+$N64)*$K64 -> 0 | BB64: x
BB65: x
C66: Pack DVGA2-6 | K66: 20 | L66: 0 | N66: 0 | P66: 0 | R66: 0 | T66: 0 | V66: =T66+R66+P66+N66+L66 -> 0 | W66: =$V66*$K66 -> 0 | X66: =($L66+$N66)*$K66 -> 0 | BB66: x
BB67: x
C68: Pircam | K68: 10 | L68: 0 | N68: 0 | P68: 0 | R68: 0 | T68: 0 | V68: =T68+R68+P68+N68+L68 -> 0 | W68: =$V68*$K68 -> 0 | X68: =($L68+$N68)*$K68 -> 0 | BB68: x
BB69: x
C70: Sirena | K70: 20 | L70: 0 | N70: 0 | P70: 0 | R70: 0 | T70: 0 | V70: =T70+R70+P70+N70+L70 -> 0 | W70: =$V70*$K70 -> 0 | X70: =($L70+$N70)*$K70 -> 0 | BB70: x
BB71: x
C72: Sirena exterior | K72: 30 | L72: 0 | N72: 0 | P72: 0 | R72: 0 | T72: 0 | V72: =T72+R72+P72+N72+L72 -> 0 | W72: =$V72*$K72 -> 0 | X72: =($L72+$N72)*$K72 -> 0 | BB72: x
BB73: x
C74: Teclado | K74: 30 | L74: 0 | N74: 0 | P74: 0 | R74: 0 | T74: 0 | V74: =T74+R74+P74+N74+L74 -> 0 | W74: =$V74*$K74 -> 0 | X74: =($L74+$N74)*$K74 -> 0 | BB74: x
BB75: x
C76: Voice unit | K76: 20 | L76: 0 | N76: 0 | P76: 0 | R76: 0 | T76: 0 | V76: =T76+R76+P76+N76+L76 -> 0 | W76: =$V76*$K76 -> 0 | X76: =($L76+$N76)*$K76 -> 0 | BB76: x
BB77: x
C78: Team Coach: | BB78: x
BB79: x
C80: Ventas Equipo | K80: 30 | L80: 0 | BB80: x
BB81: x
C82: Early Churn: | BB82: x
BB83: x
C84: En caso de tener EC ingresa el monto informado: | L84: 0 | BB84: x
BB85: x
C86: Excepciones / Bonos: | BB86: x
BB87: x
C88: Aquí puedes ingresar cualquier valor: | L88: 0 | BB88: x
BB89: x
BB90: x
BB91: x
BB92: x
BB93: x
BB94: x
BB95: x
BB96: x
BB97: x
BB98: x
BB99: x
BB100: x
...

Sheet 8
B1: 1 | C1: =Inicio!$C$10&Inicio!$C$15&'8'!$B$1 -> diciembre1 | O1: =SUM(V12:V76) -> 0 | AQ1: =IF($O$1=0,"",IF($C$5="SELECCIONA TU NOMBRE","",IF(OR($BD$153="Field Sales Installer",$BD$153="Team Coach"),IF(SUM($AQ$16,$AQ$20,$AQ$24,$AQ$28,$AQ$32,$AQ$36,$AQ$40,$AQ$44,$AQ$48,$AQ$52)<=T5,"No abre comisiones. El mínimo para abrir comisiones es "&T5&" €",""),""))) | BB1: x
AB2: =IF($O$1=0,"",IF($BD$153="Field Sales Installer (NFS)","",IF(OR($BD$153="Field Sales Installer",$BD$153="Team Coach"),IF(SUM($AG$16,$AG$20,$AG$24,$AG$28,$AG$32,$AG$36,$AG$40,$AG$44,$AG$48,$AG$52,$AG$56)<0,"No abre comisiones. Tiene ec. El mín para abrir comisiones es "&T5&" €",IF(SUM($AG$16,$AG$20,$AG$24,$AG$28,$AG$32,$AG$36,$AG$40,$AG$44,$AG$48,$AG$52,$AG$56)<=T5,"No abre comisiones. El mínimo para abrir comisiones es "&T5&"€",""))))) | AQ2: =IF($BD$153="Field Sales Installer (NFS)","comisiones total con 1 VP más",IF(OR($BD$153="Field Sales Installer",$BD$153="Team Coach"),IF(SUM($AQ$16,$AQ$20,$AQ$24,$AQ$28,$AQ$32,$AQ$36,$AQ$40,$AQ$44,$AQ$48,$AQ$52)<=T5,"generado total con 1 VP más","comisiones total con 1 VP más"),"")) -> comisiones total con 1 VP más | BB2: x
BB3: x
C4: ="¡Hola "&IFERROR(VLOOKUP(Inicio!$C$20,ListaDespelgable!$C$2:$D$11,2,0),"")&"! Selecciona el nombre del FSR:" -> ¡Hola ! Selecciona el nombre del FSR: | K4: =IF(C5="FSR NUEVO","Puedes escribir aquí su nombre:","") | AB4: =IF($BD$153="Field Sales Installer (NFS)"," Comisión Generada:"," Comisión a Cobrar:") -> Comisión Generada: | AG4: =IF(SUM($AG$16,$AG$20,$AG$24,$AG$28,$AG$32,$AG$36,$AG$40,$AG$44,$AG$48,$AG$52,$AG$56)<0,0,IF(OR($BD$153="Field Sales Installer",$BD$153="Team Coach"),IF(SUM($AG$16,$AG$20,$AG$24,$AG$28,$AG$36,$AG$52,$AG$56)>=T5,SUM($AG$16,$AG$20,$AG$24,$AG$28,$AG$32,$AG$36,$AG$40,$AG$44,$AG$48,$AG$52,$AG$56)-T5,0),SUM($AG$16,$AG$20,$AG$24,$AG$28,$AG$32,$AG$36,$AG$40,$AG$44,$AG$48,$AG$52,$AG$56))) -> 0 | BB4: x
T5: =IF($BD$153="Field Sales Installer (NFS)","",VLOOKUP(V5,ValoresBonus!P:Q,2,0)) | V5: 0 | AQ5: =IF($BD$153="Field Sales Installer (NFS)",SUM($AQ$16,$AQ$20,$AQ$24,$AQ$28,$AQ$32,$AQ$36,$AQ$40,$AQ$44,$AQ$48,$AQ$52,$AQ$56),IF(OR($BD$153="Field Sales Installer",$BD$153="Team Coach"),IF(SUM($AQ$16,$AQ$20,$AQ$24,$AQ$28,$AQ$36,$AQ$52,$AQ$56)>=T5,SUM($AQ$16,$AQ$20,$AQ$24,$AQ$28,$AQ$32,$AQ$36,$AQ$40,$AQ$44,$AQ$48,$AQ$52,$AQ$56)-T5,SUM($AQ$16,$AQ$20,$AQ$24,$AQ$28,$AQ$36,$AQ$52,$AQ$56)))) -> 200 | AR5: ="+"&(SUM($AQ$16,$AQ$20,$AQ$24,$AQ$28,$AQ$32,$AQ$36,$AQ$40,$AQ$44,$AQ$48,$AQ$52,$AQ$56)-SUM($AG$16,$AG$20,$AG$24,$AG$28,$AG$32,$AG$36,$AG$40,$AG$44,$AG$48,$AG$52,$AG$56))&" €" -> +200 € | BB5: x | CC5: =IF(BD153="Field Sales Installer (NFS)","","VACACIONES SALARIO FIJO (semanas completas)")
BB6: x
C7: ="Puesto: "&$BD$150&" | "&"Seniority: "&$BD$154&" | Ventas mes anterior: "&$BD$157 -> Puesto: NFS | Seniority: M1 | Ventas mes anterior: 0 | V7: NO | W7: SI | AB7: =IF($BD$153="Field Sales Installer (NFS)"," Primer Tramo:"," Base para Abrir Comisiones:") -> Primer Tramo: | AG7: =IF($BD$153="Field Sales Installer (NFS)",BO170,T5) -> 0 | BB7: x
L8: =IF($BD$153="Field Sales Installer (NFS)","PRIMER TRAMO","") -> PRIMER TRAMO | P8: =IF($BD$153="Field Sales Installer (NFS)","SEGUNDO TRAMO","") -> SEGUNDO TRAMO | W8: NO | BB8: x
BB9: x
C10: Ventas COLD DOOR / REF: | L10: W1 | N10: W2 | P10: W3 | R10: W4 | T10: W5 | V10: Total | AB10: =IF($BD$153="Field Sales Installer (NFS)",""," Resultado:") | AF10: =IF($BD$153="Field Sales Installer (NFS)","",IF($AG$12>=$AG$7,"Abre Comisiones","No Abre Comisiones")) | AQ10: =IF($BD$153="Field Sales Installer (NFS)",Inicio!$J$2,"") -> Periodo desde: 1/12 al 14/12 | Fecha pago: 18/12 | BB10: x
BB11: x
C12: Kit Protección / Smart Business | G12: 149 € a 398 € | K12: 200 | L12: 0 | N12: 0 | P12: 0 | R12: 0 | T12: 0 | V12: =T12+R12+P12+N12+L12 -> 0 | W12: =$V12*$K12 -> 0 | X12: =$L12+$N12 -> 0 | Y12: =$X12*$K12 -> 0 | AB12: =IF($BD$153="Field Sales Installer (NFS)"," Segundo Tramo:"," Generado:") -> Segundo Tramo: | AG12: =IF($BD$153="Field Sales Installer (NFS)",($AG$4-$AG$7),(AG16+AG20+AG24+AG28+AG32+AG36+AG40+AG44+AG48+AG52+AG56)) -> 0 | BB12: x
AQ13: =IF($BD$153="Field Sales Installer (NFS)",Inicio!$J$4,"") -> Fecha pago: 31/12 | BB13: x
C14: Kit Protección / Smart Business | G14: 399 € a 698 € | K14: 300 | L14: 0 | N14: 0 | P14: 0 | R14: 0 | T14: 0 | V14: =T14+R14+P14+N14+L14 -> 0 | W14: =$V14*$K14 -> 0 | X14: =$L14+$N14 -> 0 | Y14: =$X14*$K14 -> 0 | AK14: =$AR$5 -> +200 € | BB14: x
BB15: x
C16: Kit Protección / Smart Business | G16: 699 € o más | K16: 400 | L16: 0 | N16: 0 | P16: 0 | R16: 0 | T16: 0 | V16: =T16+R16+P16+N16+L16 -> 0 | W16: =$V16*$K16 -> 0 | X16: =$L16+$N16 -> 0 | Y16: =$X16*$K16 -> 0 | AB16: =IF($C$5="SELECCIONA TU NOMBRE","",($V$12+$V$14+$V$16+$V$18+$V$20+$V$22+$V$26+$V$28+$V$30+$V$32+$V$34+$V$36)) -> 0 | AD16: Ventas Totales: | AG16: =IF($C$5="SELECCIONA TU NOMBRE","",($W$12+$W$14+$W$16+$W$18+$W$20+$W$22+$W$26+$W$28+$W$30+$W$32+$W$34+$W$36)) -> 0 | AQ16: =IF($C$5="SELECCIONA TU NOMBRE","",($W$12+$W$14+$W$16+$W$18+$W$20+$W$22+$W$26+$W$28+$W$30+$W$32+$W$34+$W$36+200)) -> 200 | BB16: x
BB17: x
C18: Kit Plus | G18: 249 € a 498 € | K18: 250 | L18: 0 | N18: 0 | P18: 0 | R18: 0 | T18: 0 | V18: =T18+R18+P18+N18+L18 -> 0 | W18: =$V18*$K18 -> 0 | X18: =$L18+$N18 -> 0 | Y18: =$X18*$K18 -> 0 | BB18: x
BB19: x
C20: Kit Plus | G20: 499 € a 798 € | K20: 350 | L20: 0 | N20: 0 | P20: 0 | R20: 0 | T20: 0 | V20: =T20+R20+P20+N20+L20 -> 0 | W20: =$V20*$K20 -> 0 | X20: =$L20+$N20 -> 0 | Y20: =$X20*$K20 -> 0 | AB20: =IF($C$5="SELECCIONA TU NOMBRE","",($V$46+$V$48+$V$50+$V$52+$V$54+$V$56+$V$58+$V$60+$V$62+$V$64+$V$66+$V$68+$V$70+$V$72+$V$74+$V$76)) -> 0 | AD20: Elementos Extra: | AG20: =IF($C$5="SELECCIONA TU NOMBRE","",($W$46+$W$48+$W$50+$W$52+$W$54+$W$56+$W$58+$W$60+$W$62+$W$64+$W$66+$W$68+$W$70+$W$72+$W$74+$W$76)) -> 0 | AQ20: =AG20 -> 0 | BB20: x
BB21: x
C22: Kit Plus | G22: 799 € o más | K22: 450 | L22: 0 | N22: 0 | P22: 0 | R22: 0 | T22: 0 | V22: =T22+R22+P22+N22+L22 -> 0 | W22: =$V22*$K22 -> 0 | X22: =$L22+$N22 -> 0 | Y22: =$X22*$K22 -> 0 | BB22: x
BB23: x
C24: Ventas LEAD: | L24: W1 | N24: W2 | P24: W3 | R24: W4 | T24: W5 | V24: Total | AB24: =IF($C$5="SELECCIONA TU NOMBRE","",($V$40+$V$42)) -> 0 | AD24: Instalaciones: | AG24: =IF($C$5="SELECCIONA TU NOMBRE","",($W$40+$W$42)) -> 0 | AQ24: =AG24 -> 0 | BB24: x
BB25: x
C26: Kit Protección / Smart Business | G26: 149 € a 398 € | K26: 150 | L26: 0 | N26: 0 | P26: 0 | R26: 0 | T26: 0 | V26: =T26+R26+P26+N26+L26 -> 0 | W26: =$V26*$K26 -> 0 | X26: =$L26+$N26 -> 0 | Y26: =$X26*$K26 -> 0 | BB26: x
BB27: x
C28: Kit Protección / Smart Business | G28: 399 € a 698 € | K28: 250 | L28: 0 | N28: 0 | P28: 0 | R28: 0 | T28: 0 | V28: =T28+R28+P28+N28+L28 -> 0 | W28: =$V28*$K28 -> 0 | X28: =$L28+$N28 -> 0 | Y28: =$X28*$K28 -> 0 | AB28: =IF($C$5="SELECCIONA TU NOMBRE","",IF($O$1=0,"",IF(AG28=0,"⚠️"," ✓"))) | AC28: Bonus Ventas Totales: | AG28: =IF($C$5="SELECCIONA TU NOMBRE","",VLOOKUP($BD$155,ValoresBonus!$B$3:$C$28,2,0)) -> 0 | AK28: =IF($C$5="SELECCIONA TU NOMBRE","",IF($O$1=0,"",IF($BD$155<5,"Faltan "&5-$BD$155&" ventas para activar bonus",""))) | AQ28: =IF($C$5="SELECCIONA TU NOMBRE",0,VLOOKUP($BD$155+1,ValoresBonus!$B$3:$C$28,2,0)) -> 0 | BB28: x
BB29: x
C30: Kit Protección / Smart Business | G30: 699 € o más | K30: 350 | L30: 0 | N30: 0 | P30: 0 | R30: 0 | T30: 0 | V30: =T30+R30+P30+N30+L30 -> 0 | W30: =$V30*$K30 -> 0 | X30: =$L30+$N30 -> 0 | Y30: =$X30*$K30 -> 0 | BB30: x
BB31: x
C32: Kit Plus | G32: 249 € a 498 € | K32: 200 | L32: 0 | N32: 0 | P32: 0 | R32: 0 | T32: 0 | V32: =T32+R32+P32+N32+L32 -> 0 | W32: =$V32*$K32 -> 0 | X32: =$L32+$N32 -> 0 | Y32: =$X32*$K32 -> 0 | AB32: =IF($C$5="SELECCIONA TU NOMBRE","",IF($O$1=0,"",IF(AG32=0,"⚠️"," ✓"))) | AC32: Bonus Ventas Propias: | AG32: =IF($C$5="SELECCIONA TU NOMBRE","",$BE$194) -> 0 | AK32: =IF($C$5="SELECCIONA TU NOMBRE","",IF($O$1=0,"",IF($BE$191="No","El minimo para desbloquear el bonus es 5 ventas min (50% propias)",IF($BE$193="No","El minimo para desbloquear el bonus es =>50% propias","")))) | AQ32: =IF($C$5="SELECCIONA TU NOMBRE",0,$BG$194) -> 0 | BB32: x
BB33: x
C34: Kit Plus | G34: 499 € a 798 € | K34: 300 | L34: 0 | N34: 0 | P34: 0 | R34: 0 | T34: 0 | V34: =T34+R34+P34+N34+L34 -> 0 | W34: =$V34*$K34 -> 0 | X34: =$L34+$N34 -> 0 | Y34: =$X34*$K34 -> 0 | BB34: x
BB35: x
C36: Kit Plus | G36: 799 € o más | K36: 400 | L36: 0 | N36: 0 | P36: 0 | R36: 0 | T36: 0 | V36: =T36+R36+P36+N36+L36 -> 0 | W36: =$V36*$K36 -> 0 | X36: =$L36+$N36 -> 0 | Y36: =$X36*$K36 -> 0 | AB36: =IF($C$5="SELECCIONA TU NOMBRE","",IF($O$1=0,"",IF(AK36="No aplica para este bonus","",IF(AG36=0,"⚠️"," ✓")))) | AC36: Bonus de Arranque: | AG36: =IF($C$5="SELECCIONA TU NOMBRE","",$BE$183) -> 0 | AK36: =IF($C$5="SELECCIONA TU NOMBRE","",IF($O$1=0,"",IF($BE$154="No aplica","No aplica para este bonus",IF($BE$181="No","Falta "&$BE$176-$BE$179&" ventas totales y "&$BE$177-$BE$180&" propias para activar bonus",IF(AND($BE$182="No",$BE$181="Si"),"Falta "&$BE$177-$BE$180&" ventas propias para activar bonus",""))))) | AQ36: =IF($C$5="SELECCIONA TU NOMBRE",0,$BG$183) -> 0 | BB36: x
BB37: x
C38: Instalaciones (propias o a compañeros): | L38: W1 | N38: W2 | P38: W3 | R38: W4 | T38: W5 | V38: Total | BB38: x
BB39: x
C40: Kit Protección / Smart Business | K40: 50 | L40: 0 | N40: 0 | P40: 0 | R40: 0 | T40: 0 | V40: =T40+R40+P40+N40+L40 -> 0 | W40: =$V40*$K40 -> 0 | X40: =$L40+$N40 -> 0 | AB40: =IF($C$5="SELECCIONA TU NOMBRE","",IF($O$1=0,"",IF(AK40="No aplica para este bonus","",IF(AG40=0,"⚠️"," ✓")))) | AC40: Bonus Ritmo: | AG40: =IF($C$5="SELECCIONA TU NOMBRE","",$BE$173) -> 0 | AK40: =IF($C$5="SELECCIONA TU NOMBRE", "", IF($O$1=0, "", IF($BD$154="M1", "No aplica para este bonus", IF($BE$166="No", IF($BE$171="Si", "El mes ant no alcanzó el mínimo requerido, este mes alcanza el mínimo requerido que habilita el bonus ritmo del próximo mes", "El mes ant no alcanzó el mínimo requerido y este mes faltan "&$BE$172&" ventas que habilita el bonus ritmo del próximo mes"), IF($BE$171="No", "El mes ant alcanzó el mínimo requerido pero este mes faltan "&$BE$172&" ventas", ""))))) | AQ40: =IF($C$5="SELECCIONA TU NOMBRE",0,$BG$173) -> 0 | BB40: x
BB41: x
C42: Kit Plus | K42: 100 | L42: 0 | N42: 0 | P42: 0 | R42: 0 | T42: 0 | V42: =T42+R42+P42+N42+L42 -> 0 | W42: =$V42*$K42 -> 0 | X42: =$L42+$N42 -> 0 | BB42: x
BB43: x
C44: Elementos Extra Cobrados: | L44: W1 | N44: W2 | P44: W3 | R44: W4 | T44: W5 | V44: Total | AB44: =IF($C$5="SELECCIONA TU NOMBRE","",IF($O$1=0,"",IF(AK44="No aplica para este reconocimiento","",IF(AG44=0,"⚠️"," ✓")))) | AC44: Reconocimiento: | AG44: =IF($C$5="SELECCIONA TU NOMBRE","",$BE$208) -> 0 | AK44: =IF($BE$205>=10,"No aplica para este reconocimiento",IF($O$1=0,"",IF($BE$205>$BE$204,"No aplica para este reconocimiento",IF($BE$207="No","Falta "&$BE$204-$BE$205-$BE$206&" ventas para alcanzar el reconocimiento"," ")))) | AQ44: =IF($C$5="SELECCIONA TU NOMBRE",0,$BG$208) -> 0 | BB44: x
BB45: x
C46: Pack 1 elemento | K46: 10 | L46: 0 | N46: 0 | P46: 0 | R46: 0 | T46: 0 | V46: =T46+R46+P46+N46+L46 -> 0 | W46: =$V46*$K46 -> 0 | X46: =($L46+$N46)*$K46 -> 0 | BB46: x
BB47: x
C48: Pack 2 elementos | K48: 20 | L48: 0 | N48: 0 | P48: 0 | R48: 0 | T48: 0 | V48: =T48+R48+P48+N48+L48 -> 0 | W48: =$V48*$K48 -> 0 | X48: =($L48+$N48)*$K48 -> 0 | AB48: =IF($C$5="SELECCIONA TU NOMBRE","",IF($O$1=0,"",IF(AK48="No aplica para esta comisión","",IF(AG48=0,"⚠️"," ✓")))) | AC48: Team Coach: | AG48: =IF($C$5="SELECCIONA TU NOMBRE","",IF($BE$200="Si",$L$80*$K$80,0)) -> 0 | AK48: =IF($C$5="SELECCIONA TU NOMBRE","",IF($O$1=0,"",IF($BE$197="No","No aplica para esta comisión",IF($BE$200="No","Falta "&$BE$198-$BE$199&" ventas para activar la comision TC de "&$L$80*$K$80&" €"," ")))) | AQ48: =IF($C$5="SELECCIONA TU NOMBRE",0,IF($BE$200="Si",$L$80*$K$80,0)) -> 0 | BB48: x
BB49: x
C50: Pack 3 elementos | K50: 30 | L50: 0 | N50: 0 | P50: 0 | R50: 0 | T50: 0 | V50: =T50+R50+P50+N50+L50 -> 0 | W50: =$V50*$K50 -> 0 | X50: =($L50+$N50)*$K50 -> 0 | BB50: x
BB51: x
C52: Camara 180º | K52: 20 | L52: 0 | N52: 0 | P52: 0 | R52: 0 | T52: 0 | V52: =T52+R52+P52+N52+L52 -> 0 | W52: =$V52*$K52 -> 0 | X52: =($L52+$N52)*$K52 -> 0 | AC52: Early Churn: | AG52: =IF($C$5="SELECCIONA TU NOMBRE","",IFERROR(IF($L$84>0,$L$84*-1,$L$84),0)) -> 0 | AK52: Si tienes EC recuerda de agregar al final de la calculadora el importe informado | AQ52: =AG52 -> 0 | BB52: x
BB53: x
C54: Camara int/ext | K54: 20 | L54: 0 | N54: 0 | P54: 0 | R54: 0 | T54: 0 | V54: =T54+R54+P54+N54+L54 -> 0 | W54: =$V54*$K54 -> 0 | X54: =($L54+$N54)*$K54 -> 0 | BB54: x
BB55: x
C56: Detector de humo | K56: 10 | L56: 0 | N56: 0 | P56: 0 | R56: 0 | T56: 0 | V56: =T56+R56+P56+N56+L56 -> 0 | W56: =$V56*$K56 -> 0 | X56: =($L56+$N56)*$K56 -> 0 | AC56: Excepciones / Bonos: | AG56: =IF($C$5="SELECCIONA TU NOMBRE","",$L$88) -> 0 | AQ56: =AG56 -> 0 | BB56: x
BB57: x
C58: Enchufe inteligente | K58: 10 | L58: 0 | N58: 0 | P58: 0 | R58: 0 | T58: 0 | V58: =T58+R58+P58+N58+L58 -> 0 | W58: =$V58*$K58 -> 0 | X58: =($L58+$N58)*$K58 -> 0 | BB58: x
BB59: x
C60: Fuga de agua | K60: 10 | L60: 0 | N60: 0 | P60: 0 | R60: 0 | T60: 0 | V60: =T60+R60+P60+N60+L60 -> 0 | W60: =$V60*$K60 -> 0 | X60: =($L60+$N60)*$K60 -> 0 | BB60: x
BB61: x
C62: Magnetico | K62: 10 | L62: 0 | N62: 0 | P62: 0 | R62: 0 | T62: 0 | V62: =T62+R62+P62+N62+L62 -> 0 | W62: =$V62*$K62 -> 0 | X62: =($L62+$N62)*$K62 -> 0 | BB62: x
BB63: x
C64: Mando distancia | K64: 10 | L64: 0 | N64: 0 | P64: 0 | R64: 0 | T64: 0 | V64: =T64+R64+P64+N64+L64 -> 0 | W64: =$V64*$K64 -> 0 | X64: =($L64+$N64)*$K64 -> 0 | BB64: x
BB65: x
C66: Pack DVGA2-6 | K66: 20 | L66: 0 | N66: 0 | P66: 0 | R66: 0 | T66: 0 | V66: =T66+R66+P66+N66+L66 -> 0 | W66: =$V66*$K66 -> 0 | X66: =($L66+$N66)*$K66 -> 0 | BB66: x
BB67: x
C68: Pircam | K68: 10 | L68: 0 | N68: 0 | P68: 0 | R68: 0 | T68: 0 | V68: =T68+R68+P68+N68+L68 -> 0 | W68: =$V68*$K68 -> 0 | X68: =($L68+$N68)*$K68 -> 0 | BB68: x
BB69: x
C70: Sirena | K70: 20 | L70: 0 | N70: 0 | P70: 0 | R70: 0 | T70: 0 | V70: =T70+R70+P70+N70+L70 -> 0 | W70: =$V70*$K70 -> 0 | X70: =($L70+$N70)*$K70 -> 0 | BB70: x
BB71: x
C72: Sirena exterior | K72: 30 | L72: 0 | N72: 0 | P72: 0 | R72: 0 | T72: 0 | V72: =T72+R72+P72+N72+L72 -> 0 | W72: =$V72*$K72 -> 0 | X72: =($L72+$N72)*$K72 -> 0 | BB72: x
BB73: x
C74: Teclado | K74: 30 | L74: 0 | N74: 0 | P74: 0 | R74: 0 | T74: 0 | V74: =T74+R74+P74+N74+L74 -> 0 | W74: =$V74*$K74 -> 0 | X74: =($L74+$N74)*$K74 -> 0 | BB74: x
BB75: x
C76: Voice unit | K76: 20 | L76: 0 | N76: 0 | P76: 0 | R76: 0 | T76: 0 | V76: =T76+R76+P76+N76+L76 -> 0 | W76: =$V76*$K76 -> 0 | X76: =($L76+$N76)*$K76 -> 0 | BB76: x
BB77: x
C78: Team Coach: | BB78: x
BB79: x
C80: Ventas Equipo | K80: 30 | L80: 0 | BB80: x
BB81: x
C82: Early Churn: | BB82: x
BB83: x
C84: En caso de tener EC ingresa el monto informado: | L84: 0 | BB84: x
BB85: x
C86: Excepciones / Bonos: | BB86: x
BB87: x
C88: Aquí puedes ingresar cualquier valor: | L88: 0 | BB88: x
BB89: x
BB90: x
BB91: x
BB92: x
BB93: x
BB94: x
BB95: x
BB96: x
BB97: x
BB98: x
BB99: x
BB100: x
...

Sheet 9
B1: 1 | C1: =Inicio!$C$10&Inicio!$C$15&'9'!$B$1 -> diciembre1 | O1: =SUM(V12:V76) -> 0 | AQ1: =IF($O$1=0,"",IF($C$5="SELECCIONA TU NOMBRE","",IF(OR($BD$153="Field Sales Installer",$BD$153="Team Coach"),IF(SUM($AQ$16,$AQ$20,$AQ$24,$AQ$28,$AQ$32,$AQ$36,$AQ$40,$AQ$44,$AQ$48,$AQ$52)<=T5,"No abre comisiones. El mínimo para abrir comisiones es "&T5&" €",""),""))) | BB1: x
AB2: =IF($O$1=0,"",IF($BD$153="Field Sales Installer (NFS)","",IF(OR($BD$153="Field Sales Installer",$BD$153="Team Coach"),IF(SUM($AG$16,$AG$20,$AG$24,$AG$28,$AG$32,$AG$36,$AG$40,$AG$44,$AG$48,$AG$52,$AG$56)<0,"No abre comisiones. Tiene ec. El mín para abrir comisiones es "&T5&" €",IF(SUM($AG$16,$AG$20,$AG$24,$AG$28,$AG$32,$AG$36,$AG$40,$AG$44,$AG$48,$AG$52,$AG$56)<=T5,"No abre comisiones. El mínimo para abrir comisiones es "&T5&"€",""))))) | AQ2: =IF($BD$153="Field Sales Installer (NFS)","comisiones total con 1 VP más",IF(OR($BD$153="Field Sales Installer",$BD$153="Team Coach"),IF(SUM($AQ$16,$AQ$20,$AQ$24,$AQ$28,$AQ$32,$AQ$36,$AQ$40,$AQ$44,$AQ$48,$AQ$52)<=T5,"generado total con 1 VP más","comisiones total con 1 VP más"),"")) -> comisiones total con 1 VP más | BB2: x
BB3: x
C4: ="¡Hola "&IFERROR(VLOOKUP(Inicio!$C$20,ListaDespelgable!$C$2:$D$11,2,0),"")&"! Selecciona el nombre del FSR:" -> ¡Hola ! Selecciona el nombre del FSR: | K4: =IF(C5="FSR NUEVO","Puedes escribir aquí su nombre:","") | AB4: =IF($BD$153="Field Sales Installer (NFS)"," Comisión Generada:"," Comisión a Cobrar:") -> Comisión Generada: | AG4: =IF(SUM($AG$16,$AG$20,$AG$24,$AG$28,$AG$32,$AG$36,$AG$40,$AG$44,$AG$48,$AG$52,$AG$56)<0,0,IF(OR($BD$153="Field Sales Installer",$BD$153="Team Coach"),IF(SUM($AG$16,$AG$20,$AG$24,$AG$28,$AG$36,$AG$52,$AG$56)>=T5,SUM($AG$16,$AG$20,$AG$24,$AG$28,$AG$32,$AG$36,$AG$40,$AG$44,$AG$48,$AG$52,$AG$56)-T5,0),SUM($AG$16,$AG$20,$AG$24,$AG$28,$AG$32,$AG$36,$AG$40,$AG$44,$AG$48,$AG$52,$AG$56))) -> 0 | BB4: x
T5: =IF($BD$153="Field Sales Installer (NFS)","",VLOOKUP(V5,ValoresBonus!P:Q,2,0)) | V5: 0 | AQ5: =IF($BD$153="Field Sales Installer (NFS)",SUM($AQ$16,$AQ$20,$AQ$24,$AQ$28,$AQ$32,$AQ$36,$AQ$40,$AQ$44,$AQ$48,$AQ$52,$AQ$56),IF(OR($BD$153="Field Sales Installer",$BD$153="Team Coach"),IF(SUM($AQ$16,$AQ$20,$AQ$24,$AQ$28,$AQ$36,$AQ$52,$AQ$56)>=T5,SUM($AQ$16,$AQ$20,$AQ$24,$AQ$28,$AQ$32,$AQ$36,$AQ$40,$AQ$44,$AQ$48,$AQ$52,$AQ$56)-T5,SUM($AQ$16,$AQ$20,$AQ$24,$AQ$28,$AQ$36,$AQ$52,$AQ$56)))) -> 200 | AR5: ="+"&(SUM($AQ$16,$AQ$20,$AQ$24,$AQ$28,$AQ$32,$AQ$36,$AQ$40,$AQ$44,$AQ$48,$AQ$52,$AQ$56)-SUM($AG$16,$AG$20,$AG$24,$AG$28,$AG$32,$AG$36,$AG$40,$AG$44,$AG$48,$AG$52,$AG$56))&" €" -> +200 € | BB5: x | CC5: =IF(BD153="Field Sales Installer (NFS)","","VACACIONES SALARIO FIJO (semanas completas)")
BB6: x
C7: ="Puesto: "&$BD$150&" | "&"Seniority: "&$BD$154&" | Ventas mes anterior: "&$BD$157 -> Puesto: NFS | Seniority: M1 | Ventas mes anterior: 0 | V7: NO | W7: SI | AB7: =IF($BD$153="Field Sales Installer (NFS)"," Primer Tramo:"," Base para Abrir Comisiones:") -> Primer Tramo: | AG7: =IF($BD$153="Field Sales Installer (NFS)",BO170,T5) -> 0 | BB7: x
L8: =IF($BD$153="Field Sales Installer (NFS)","PRIMER TRAMO","") -> PRIMER TRAMO | P8: =IF($BD$153="Field Sales Installer (NFS)","SEGUNDO TRAMO","") -> SEGUNDO TRAMO | W8: NO | BB8: x
BB9: x
C10: Ventas COLD DOOR / REF: | L10: W1 | N10: W2 | P10: W3 | R10: W4 | T10: W5 | V10: Total | AB10: =IF($BD$153="Field Sales Installer (NFS)",""," Resultado:") | AF10: =IF($BD$153="Field Sales Installer (NFS)","",IF($AG$12>=$AG$7,"Abre Comisiones","No Abre Comisiones")) | AQ10: =IF($BD$153="Field Sales Installer (NFS)",Inicio!$J$2,"") -> Periodo desde: 1/12 al 14/12 | Fecha pago: 18/12 | BB10: x
BB11: x
C12: Kit Protección / Smart Business | G12: 149 € a 398 € | K12: 200 | L12: 0 | N12: 0 | P12: 0 | R12: 0 | T12: 0 | V12: =T12+R12+P12+N12+L12 -> 0 | W12: =$V12*$K12 -> 0 | X12: =$L12+$N12 -> 0 | Y12: =$X12*$K12 -> 0 | AB12: =IF($BD$153="Field Sales Installer (NFS)"," Segundo Tramo:"," Generado:") -> Segundo Tramo: | AG12: =IF($BD$153="Field Sales Installer (NFS)",($AG$4-$AG$7),(AG16+AG20+AG24+AG28+AG32+AG36+AG40+AG44+AG48+AG52+AG56)) -> 0 | BB12: x
AQ13: =IF($BD$153="Field Sales Installer (NFS)",Inicio!$J$4,"") -> Fecha pago: 31/12 | BB13: x
C14: Kit Protección / Smart Business | G14: 399 € a 698 € | K14: 300 | L14: 0 | N14: 0 | P14: 0 | R14: 0 | T14: 0 | V14: =T14+R14+P14+N14+L14 -> 0 | W14: =$V14*$K14 -> 0 | X14: =$L14+$N14 -> 0 | Y14: =$X14*$K14 -> 0 | AK14: =$AR$5 -> +200 € | BB14: x
BB15: x
C16: Kit Protección / Smart Business | G16: 699 € o más | K16: 400 | L16: 0 | N16: 0 | P16: 0 | R16: 0 | T16: 0 | V16: =T16+R16+P16+N16+L16 -> 0 | W16: =$V16*$K16 -> 0 | X16: =$L16+$N16 -> 0 | Y16: =$X16*$K16 -> 0 | AB16: =IF($C$5="SELECCIONA TU NOMBRE","",($V$12+$V$14+$V$16+$V$18+$V$20+$V$22+$V$26+$V$28+$V$30+$V$32+$V$34+$V$36)) -> 0 | AD16: Ventas Totales: | AG16: =IF($C$5="SELECCIONA TU NOMBRE","",($W$12+$W$14+$W$16+$W$18+$W$20+$W$22+$W$26+$W$28+$W$30+$W$32+$W$34+$W$36)) -> 0 | AQ16: =IF($C$5="SELECCIONA TU NOMBRE","",($W$12+$W$14+$W$16+$W$18+$W$20+$W$22+$W$26+$W$28+$W$30+$W$32+$W$34+$W$36+200)) -> 200 | BB16: x
BB17: x
C18: Kit Plus | G18: 249 € a 498 € | K18: 250 | L18: 0 | N18: 0 | P18: 0 | R18: 0 | T18: 0 | V18: =T18+R18+P18+N18+L18 -> 0 | W18: =$V18*$K18 -> 0 | X18: =$L18+$N18 -> 0 | Y18: =$X18*$K18 -> 0 | BB18: x
BB19: x
C20: Kit Plus | G20: 499 € a 798 € | K20: 350 | L20: 0 | N20: 0 | P20: 0 | R20: 0 | T20: 0 | V20: =T20+R20+P20+N20+L20 -> 0 | W20: =$V20*$K20 -> 0 | X20: =$L20+$N20 -> 0 | Y20: =$X20*$K20 -> 0 | AB20: =IF($C$5="SELECCIONA TU NOMBRE","",($V$46+$V$48+$V$50+$V$52+$V$54+$V$56+$V$58+$V$60+$V$62+$V$64+$V$66+$V$68+$V$70+$V$72+$V$74+$V$76)) -> 0 | AD20: Elementos Extra: | AG20: =IF($C$5="SELECCIONA TU NOMBRE","",($W$46+$W$48+$W$50+$W$52+$W$54+$W$56+$W$58+$W$60+$W$62+$W$64+$W$66+$W$68+$W$70+$W$72+$W$74+$W$76)) -> 0 | AQ20: =AG20 -> 0 | BB20: x
BB21: x
C22: Kit Plus | G22: 799 € o más | K22: 450 | L22: 0 | N22: 0 | P22: 0 | R22: 0 | T22: 0 | V22: =T22+R22+P22+N22+L22 -> 0 | W22: =$V22*$K22 -> 0 | X22: =$L22+$N22 -> 0 | Y22: =$X22*$K22 -> 0 | BB22: x
BB23: x
C24: Ventas LEAD: | L24: W1 | N24: W2 | P24: W3 | R24: W4 | T24: W5 | V24: Total | AB24: =IF($C$5="SELECCIONA TU NOMBRE","",($V$40+$V$42)) -> 0 | AD24: Instalaciones: | AG24: =IF($C$5="SELECCIONA TU NOMBRE","",($W$40+$W$42)) -> 0 | AQ24: =AG24 -> 0 | BB24: x
BB25: x
C26: Kit Protección / Smart Business | G26: 149 € a 398 € | K26: 150 | L26: 0 | N26: 0 | P26: 0 | R26: 0 | T26: 0 | V26: =T26+R26+P26+N26+L26 -> 0 | W26: =$V26*$K26 -> 0 | X26: =$L26+$N26 -> 0 | Y26: =$X26*$K26 -> 0 | BB26: x
BB27: x
C28: Kit Protección / Smart Business | G28: 399 € a 698 € | K28: 250 | L28: 0 | N28: 0 | P28: 0 | R28: 0 | T28: 0 | V28: =T28+R28+P28+N28+L28 -> 0 | W28: =$V28*$K28 -> 0 | X28: =$L28+$N28 -> 0 | Y28: =$X28*$K28 -> 0 | AB28: =IF($C$5="SELECCIONA TU NOMBRE","",IF($O$1=0,"",IF(AG28=0,"⚠️"," ✓"))) | AC28: Bonus Ventas Totales: | AG28: =IF($C$5="SELECCIONA TU NOMBRE","",VLOOKUP($BD$155,ValoresBonus!$B$3:$C$28,2,0)) -> 0 | AK28: =IF($C$5="SELECCIONA TU NOMBRE","",IF($O$1=0,"",IF($BD$155<5,"Faltan "&5-$BD$155&" ventas para activar bonus",""))) | AQ28: =IF($C$5="SELECCIONA TU NOMBRE",0,VLOOKUP($BD$155+1,ValoresBonus!$B$3:$C$28,2,0)) -> 0 | BB28: x
BB29: x
C30: Kit Protección / Smart Business | G30: 699 € o más | K30: 350 | L30: 0 | N30: 0 | P30: 0 | R30: 0 | T30: 0 | V30: =T30+R30+P30+N30+L30 -> 0 | W30: =$V30*$K30 -> 0 | X30: =$L30+$N30 -> 0 | Y30: =$X30*$K30 -> 0 | BB30: x
BB31: x
C32: Kit Plus | G32: 249 € a 498 € | K32: 200 | L32: 0 | N32: 0 | P32: 0 | R32: 0 | T32: 0 | V32: =T32+R32+P32+N32+L32 -> 0 | W32: =$V32*$K32 -> 0 | X32: =$L32+$N32 -> 0 | Y32: =$X32*$K32 -> 0 | AB32: =IF($C$5="SELECCIONA TU NOMBRE","",IF($O$1=0,"",IF(AG32=0,"⚠️"," ✓"))) | AC32: Bonus Ventas Propias: | AG32: =IF($C$5="SELECCIONA TU NOMBRE","",$BE$194) -> 0 | AK32: =IF($C$5="SELECCIONA TU NOMBRE","",IF($O$1=0,"",IF($BE$191="No","El minimo para desbloquear el bonus es 5 ventas min (50% propias)",IF($BE$193="No","El minimo para desbloquear el bonus es =>50% propias","")))) | AQ32: =IF($C$5="SELECCIONA TU NOMBRE",0,$BG$194) -> 0 | BB32: x
BB33: x
C34: Kit Plus | G34: 499 € a 798 € | K34: 300 | L34: 0 | N34: 0 | P34: 0 | R34: 0 | T34: 0 | V34: =T34+R34+P34+N34+L34 -> 0 | W34: =$V34*$K34 -> 0 | X34: =$L34+$N34 -> 0 | Y34: =$X34*$K34 -> 0 | BB34: x
BB35: x
C36: Kit Plus | G36: 799 € o más | K36: 400 | L36: 0 | N36: 0 | P36: 0 | R36: 0 | T36: 0 | V36: =T36+R36+P36+N36+L36 -> 0 | W36: =$V36*$K36 -> 0 | X36: =$L36+$N36 -> 0 | Y36: =$X36*$K36 -> 0 | AB36: =IF($C$5="SELECCIONA TU NOMBRE","",IF($O$1=0,"",IF(AK36="No aplica para este bonus","",IF(AG36=0,"⚠️"," ✓")))) | AC36: Bonus de Arranque: | AG36: =IF($C$5="SELECCIONA TU NOMBRE","",$BE$183) -> 0 | AK36: =IF($C$5="SELECCIONA TU NOMBRE","",IF($O$1=0,"",IF($BE$154="No aplica","No aplica para este bonus",IF($BE$181="No","Falta "&$BE$176-$BE$179&" ventas totales y "&$BE$177-$BE$180&" propias para activar bonus",IF(AND($BE$182="No",$BE$181="Si"),"Falta "&$BE$177-$BE$180&" ventas propias para activar bonus",""))))) | AQ36: =IF($C$5="SELECCIONA TU NOMBRE",0,$BG$183) -> 0 | BB36: x
BB37: x
C38: Instalaciones (propias o a compañeros): | L38: W1 | N38: W2 | P38: W3 | R38: W4 | T38: W5 | V38: Total | BB38: x
BB39: x
C40: Kit Protección / Smart Business | K40: 50 | L40: 0 | N40: 0 | P40: 0 | R40: 0 | T40: 0 | V40: =T40+R40+P40+N40+L40 -> 0 | W40: =$V40*$K40 -> 0 | X40: =$L40+$N40 -> 0 | AB40: =IF($C$5="SELECCIONA TU NOMBRE","",IF($O$1=0,"",IF(AK40="No aplica para este bonus","",IF(AG40=0,"⚠️"," ✓")))) | AC40: Bonus Ritmo: | AG40: =IF($C$5="SELECCIONA TU NOMBRE","",$BE$173) -> 0 | AK40: =IF($C$5="SELECCIONA TU NOMBRE", "", IF($O$1=0, "", IF($BD$154="M1", "No aplica para este bonus", IF($BE$166="No", IF($BE$171="Si", "El mes ant no alcanzó el mínimo requerido, este mes alcanza el mínimo requerido que habilita el bonus ritmo del próximo mes", "El mes ant no alcanzó el mínimo requerido y este mes faltan "&$BE$172&" ventas que habilita el bonus ritmo del próximo mes"), IF($BE$171="No", "El mes ant alcanzó el mínimo requerido pero este mes faltan "&$BE$172&" ventas", ""))))) | AQ40: =IF($C$5="SELECCIONA TU NOMBRE",0,$BG$173) -> 0 | BB40: x
BB41: x
C42: Kit Plus | K42: 100 | L42: 0 | N42: 0 | P42: 0 | R42: 0 | T42: 0 | V42: =T42+R42+P42+N42+L42 -> 0 | W42: =$V42*$K42 -> 0 | X42: =$L42+$N42 -> 0 | BB42: x
BB43: x
C44: Elementos Extra Cobrados: | L44: W1 | N44: W2 | P44: W3 | R44: W4 | T44: W5 | V44: Total | AB44: =IF($C$5="SELECCIONA TU NOMBRE","",IF($O$1=0,"",IF(AK44="No aplica para este reconocimiento","",IF(AG44=0,"⚠️"," ✓")))) | AC44: Reconocimiento: | AG44: =IF($C$5="SELECCIONA TU NOMBRE","",$BE$208) -> 0 | AK44: =IF($BE$205>=10,"No aplica para este reconocimiento",IF($O$1=0,"",IF($BE$205>$BE$204,"No aplica para este reconocimiento",IF($BE$207="No","Falta "&$BE$204-$BE$205-$BE$206&" ventas para alcanzar el reconocimiento"," ")))) | AQ44: =IF($C$5="SELECCIONA TU NOMBRE",0,$BG$208) -> 0 | BB44: x
BB45: x
C46: Pack 1 elemento | K46: 10 | L46: 0 | N46: 0 | P46: 0 | R46: 0 | T46: 0 | V46: =T46+R46+P46+N46+L46 -> 0 | W46: =$V46*$K46 -> 0 | X46: =($L46+$N46)*$K46 -> 0 | BB46: x
BB47: x
C48: Pack 2 elementos | K48: 20 | L48: 0 | N48: 0 | P48: 0 | R48: 0 | T48: 0 | V48: =T48+R48+P48+N48+L48 -> 0 | W48: =$V48*$K48 -> 0 | X48: =($L48+$N48)*$K48 -> 0 | AB48: =IF($C$5="SELECCIONA TU NOMBRE","",IF($O$1=0,"",IF(AK48="No aplica para esta comisión","",IF(AG48=0,"⚠️"," ✓")))) | AC48: Team Coach: | AG48: =IF($C$5="SELECCIONA TU NOMBRE","",IF($BE$200="Si",$L$80*$K$80,0)) -> 0 | AK48: =IF($C$5="SELECCIONA TU NOMBRE","",IF($O$1=0,"",IF($BE$197="No","No aplica para esta comisión",IF($BE$200="No","Falta "&$BE$198-$BE$199&" ventas para activar la comision TC de "&$L$80*$K$80&" €"," ")))) | AQ48: =IF($C$5="SELECCIONA TU NOMBRE",0,IF($BE$200="Si",$L$80*$K$80,0)) -> 0 | BB48: x
BB49: x
C50: Pack 3 elementos | K50: 30 | L50: 0 | N50: 0 | P50: 0 | R50: 0 | T50: 0 | V50: =T50+R50+P50+N50+L50 -> 0 | W50: =$V50*$K50 -> 0 | X50: =($L50+$N50)*$K50 -> 0 | BB50: x
BB51: x
C52: Camara 180º | K52: 20 | L52: 0 | N52: 0 | P52: 0 | R52: 0 | T52: 0 | V52: =T52+R52+P52+N52+L52 -> 0 | W52: =$V52*$K52 -> 0 | X52: =($L52+$N52)*$K52 -> 0 | AC52: Early Churn: | AG52: =IF($C$5="SELECCIONA TU NOMBRE","",IFERROR(IF($L$84>0,$L$84*-1,$L$84),0)) -> 0 | AK52: Si tienes EC recuerda de agregar al final de la calculadora el importe informado | AQ52: =AG52 -> 0 | BB52: x
BB53: x
C54: Camara int/ext | K54: 20 | L54: 0 | N54: 0 | P54: 0 | R54: 0 | T54: 0 | V54: =T54+R54+P54+N54+L54 -> 0 | W54: =$V54*$K54 -> 0 | X54: =($L54+$N54)*$K54 -> 0 | BB54: x
BB55: x
C56: Detector de humo | K56: 10 | L56: 0 | N56: 0 | P56: 0 | R56: 0 | T56: 0 | V56: =T56+R56+P56+N56+L56 -> 0 | W56: =$V56*$K56 -> 0 | X56: =($L56+$N56)*$K56 -> 0 | AC56: Excepciones / Bonos: | AG56: =IF($C$5="SELECCIONA TU NOMBRE","",$L$88) -> 0 | AQ56: =AG56 -> 0 | BB56: x
BB57: x
C58: Enchufe inteligente | K58: 10 | L58: 0 | N58: 0 | P58: 0 | R58: 0 | T58: 0 | V58: =T58+R58+P58+N58+L58 -> 0 | W58: =$V58*$K58 -> 0 | X58: =($L58+$N58)*$K58 -> 0 | BB58: x
BB59: x
C60: Fuga de agua | K60: 10 | L60: 0 | N60: 0 | P60: 0 | R60: 0 | T60: 0 | V60: =T60+R60+P60+N60+L60 -> 0 | W60: =$V60*$K60 -> 0 | X60: =($L60+$N60)*$K60 -> 0 | BB60: x
BB61: x
C62: Magnetico | K62: 10 | L62: 0 | N62: 0 | P62: 0 | R62: 0 | T62: 0 | V62: =T62+R62+P62+N62+L62 -> 0 | W62: =$V62*$K62 -> 0 | X62: =($L62+$N62)*$K62 -> 0 | BB62: x
BB63: x
C64: Mando distancia | K64: 10 | L64: 0 | N64: 0 | P64: 0 | R64: 0 | T64: 0 | V64: =T64+R64+P64+N64+L64 -> 0 | W64: =$V64*$K64 -> 0 | X64: =($L64+$N64)*$K64 -> 0 | BB64: x
BB65: x
C66: Pack DVGA2-6 | K66: 20 | L66: 0 | N66: 0 | P66: 0 | R66: 0 | T66: 0 | V66: =T66+R66+P66+N66+L66 -> 0 | W66: =$V66*$K66 -> 0 | X66: =($L66+$N66)*$K66 -> 0 | BB66: x
BB67: x
C68: Pircam | K68: 10 | L68: 0 | N68: 0 | P68: 0 | R68: 0 | T68: 0 | V68: =T68+R68+P68+N68+L68 -> 0 | W68: =$V68*$K68 -> 0 | X68: =($L68+$N68)*$K68 -> 0 | BB68: x
BB69: x
C70: Sirena | K70: 20 | L70: 0 | N70: 0 | P70: 0 | R70: 0 | T70: 0 | V70: =T70+R70+P70+N70+L70 -> 0 | W70: =$V70*$K70 -> 0 | X70: =($L70+$N70)*$K70 -> 0 | BB70: x
BB71: x
C72: Sirena exterior | K72: 30 | L72: 0 | N72: 0 | P72: 0 | R72: 0 | T72: 0 | V72: =T72+R72+P72+N72+L72 -> 0 | W72: =$V72*$K72 -> 0 | X72: =($L72+$N72)*$K72 -> 0 | BB72: x
BB73: x
C74: Teclado | K74: 30 | L74: 0 | N74: 0 | P74: 0 | R74: 0 | T74: 0 | V74: =T74+R74+P74+N74+L74 -> 0 | W74: =$V74*$K74 -> 0 | X74: =($L74+$N74)*$K74 -> 0 | BB74: x
BB75: x
C76: Voice unit | K76: 20 | L76: 0 | N76: 0 | P76: 0 | R76: 0 | T76: 0 | V76: =T76+R76+P76+N76+L76 -> 0 | W76: =$V76*$K76 -> 0 | X76: =($L76+$N76)*$K76 -> 0 | BB76: x
BB77: x
C78: Team Coach: | BB78: x
BB79: x
C80: Ventas Equipo | K80: 30 | L80: 0 | BB80: x
BB81: x
C82: Early Churn: | BB82: x
BB83: x
C84: En caso de tener EC ingresa el monto informado: | L84: 0 | BB84: x
BB85: x
C86: Excepciones / Bonos: | BB86: x
BB87: x
C88: Aquí puedes ingresar cualquier valor: | L88: 0 | BB88: x
BB89: x
BB90: x
BB91: x
BB92: x
BB93: x
BB94: x
BB95: x
BB96: x
BB97: x
BB98: x
BB99: x
BB100: x
...

Sheet 10
B1: 1 | C1: =Inicio!$C$10&Inicio!$C$15&'10'!$B$1 -> diciembre1 | O1: =SUM(V12:V76) -> 0 | AQ1: =IF($O$1=0,"",IF($C$5="SELECCIONA TU NOMBRE","",IF(OR($BD$153="Field Sales Installer",$BD$153="Team Coach"),IF(SUM($AQ$16,$AQ$20,$AQ$24,$AQ$28,$AQ$32,$AQ$36,$AQ$40,$AQ$44,$AQ$48,$AQ$52)<=T5,"No abre comisiones. El mínimo para abrir comisiones es "&T5&" €",""),""))) | BB1: x
AB2: =IF($O$1=0,"",IF($BD$153="Field Sales Installer (NFS)","",IF(OR($BD$153="Field Sales Installer",$BD$153="Team Coach"),IF(SUM($AG$16,$AG$20,$AG$24,$AG$28,$AG$32,$AG$36,$AG$40,$AG$44,$AG$48,$AG$52,$AG$56)<0,"No abre comisiones. Tiene ec. El mín para abrir comisiones es "&T5&" €",IF(SUM($AG$16,$AG$20,$AG$24,$AG$28,$AG$32,$AG$36,$AG$40,$AG$44,$AG$48,$AG$52,$AG$56)<=T5,"No abre comisiones. El mínimo para abrir comisiones es "&T5&"€",""))))) | AQ2: =IF($BD$153="Field Sales Installer (NFS)","comisiones total con 1 VP más",IF(OR($BD$153="Field Sales Installer",$BD$153="Team Coach"),IF(SUM($AQ$16,$AQ$20,$AQ$24,$AQ$28,$AQ$32,$AQ$36,$AQ$40,$AQ$44,$AQ$48,$AQ$52)<=T5,"generado total con 1 VP más","comisiones total con 1 VP más"),"")) -> comisiones total con 1 VP más | BB2: x
BB3: x
C4: ="¡Hola "&IFERROR(VLOOKUP(Inicio!$C$20,ListaDespelgable!$C$2:$D$11,2,0),"")&"! Selecciona el nombre del FSR:" -> ¡Hola ! Selecciona el nombre del FSR: | K4: =IF(C5="FSR NUEVO","Puedes escribir aquí su nombre:","") | AB4: =IF($BD$153="Field Sales Installer (NFS)"," Comisión Generada:"," Comisión a Cobrar:") -> Comisión Generada: | AG4: =IF(SUM($AG$16,$AG$20,$AG$24,$AG$28,$AG$32,$AG$36,$AG$40,$AG$44,$AG$48,$AG$52,$AG$56)<0,0,IF(OR($BD$153="Field Sales Installer",$BD$153="Team Coach"),IF(SUM($AG$16,$AG$20,$AG$24,$AG$28,$AG$36,$AG$52,$AG$56)>=T5,SUM($AG$16,$AG$20,$AG$24,$AG$28,$AG$32,$AG$36,$AG$40,$AG$44,$AG$48,$AG$52,$AG$56)-T5,0),SUM($AG$16,$AG$20,$AG$24,$AG$28,$AG$32,$AG$36,$AG$40,$AG$44,$AG$48,$AG$52,$AG$56))) -> 0 | BB4: x
T5: =IF($BD$153="Field Sales Installer (NFS)","",VLOOKUP(V5,ValoresBonus!P:Q,2,0)) | V5: 0 | AQ5: =IF($BD$153="Field Sales Installer (NFS)",SUM($AQ$16,$AQ$20,$AQ$24,$AQ$28,$AQ$32,$AQ$36,$AQ$40,$AQ$44,$AQ$48,$AQ$52,$AQ$56),IF(OR($BD$153="Field Sales Installer",$BD$153="Team Coach"),IF(SUM($AQ$16,$AQ$20,$AQ$24,$AQ$28,$AQ$36,$AQ$52,$AQ$56)>=T5,SUM($AQ$16,$AQ$20,$AQ$24,$AQ$28,$AQ$32,$AQ$36,$AQ$40,$AQ$44,$AQ$48,$AQ$52,$AQ$56)-T5,SUM($AQ$16,$AQ$20,$AQ$24,$AQ$28,$AQ$36,$AQ$52,$AQ$56)))) -> 200 | AR5: ="+"&(SUM($AQ$16,$AQ$20,$AQ$24,$AQ$28,$AQ$32,$AQ$36,$AQ$40,$AQ$44,$AQ$48,$AQ$52,$AQ$56)-SUM($AG$16,$AG$20,$AG$24,$AG$28,$AG$32,$AG$36,$AG$40,$AG$44,$AG$48,$AG$52,$AG$56))&" €" -> +200 € | BB5: x | CC5: =IF(BD153="Field Sales Installer (NFS)","","VACACIONES SALARIO FIJO (semanas completas)")
BB6: x
C7: ="Puesto: "&$BD$150&" | "&"Seniority: "&$BD$154&" | Ventas mes anterior: "&$BD$157 -> Puesto: NFS | Seniority: M1 | Ventas mes anterior: 0 | V7: NO | W7: SI | AB7: =IF($BD$153="Field Sales Installer (NFS)"," Primer Tramo:"," Base para Abrir Comisiones:") -> Primer Tramo: | AG7: =IF($BD$153="Field Sales Installer (NFS)",BO170,T5) -> 0 | BB7: x
L8: =IF($BD$153="Field Sales Installer (NFS)","PRIMER TRAMO","") -> PRIMER TRAMO | P8: =IF($BD$153="Field Sales Installer (NFS)","SEGUNDO TRAMO","") -> SEGUNDO TRAMO | W8: NO | BB8: x
BB9: x
C10: Ventas COLD DOOR / REF: | L10: W1 | N10: W2 | P10: W3 | R10: W4 | T10: W5 | V10: Total | AB10: =IF($BD$153="Field Sales Installer (NFS)",""," Resultado:") | AF10: =IF($BD$153="Field Sales Installer (NFS)","",IF($AG$12>=$AG$7,"Abre Comisiones","No Abre Comisiones")) | AQ10: =IF($BD$153="Field Sales Installer (NFS)",Inicio!$J$2,"") -> Periodo desde: 1/12 al 14/12 | Fecha pago: 18/12 | BB10: x
BB11: x
C12: Kit Protección / Smart Business | G12: 149 € a 398 € | K12: 200 | L12: 0 | N12: 0 | P12: 0 | R12: 0 | T12: 0 | V12: =T12+R12+P12+N12+L12 -> 0 | W12: =$V12*$K12 -> 0 | X12: =$L12+$N12 -> 0 | Y12: =$X12*$K12 -> 0 | AB12: =IF($BD$153="Field Sales Installer (NFS)"," Segundo Tramo:"," Generado:") -> Segundo Tramo: | AG12: =IF($BD$153="Field Sales Installer (NFS)",($AG$4-$AG$7),(AG16+AG20+AG24+AG28+AG32+AG36+AG40+AG44+AG48+AG52+AG56)) -> 0 | BB12: x
AQ13: =IF($BD$153="Field Sales Installer (NFS)",Inicio!$J$4,"") -> Fecha pago: 31/12 | BB13: x
C14: Kit Protección / Smart Business | G14: 399 € a 698 € | K14: 300 | L14: 0 | N14: 0 | P14: 0 | R14: 0 | T14: 0 | V14: =T14+R14+P14+N14+L14 -> 0 | W14: =$V14*$K14 -> 0 | X14: =$L14+$N14 -> 0 | Y14: =$X14*$K14 -> 0 | AK14: =$AR$5 -> +200 € | BB14: x
BB15: x
C16: Kit Protección / Smart Business | G16: 699 € o más | K16: 400 | L16: 0 | N16: 0 | P16: 0 | R16: 0 | T16: 0 | V16: =T16+R16+P16+N16+L16 -> 0 | W16: =$V16*$K16 -> 0 | X16: =$L16+$N16 -> 0 | Y16: =$X16*$K16 -> 0 | AB16: =IF($C$5="SELECCIONA TU NOMBRE","",($V$12+$V$14+$V$16+$V$18+$V$20+$V$22+$V$26+$V$28+$V$30+$V$32+$V$34+$V$36)) -> 0 | AD16: Ventas Totales: | AG16: =IF($C$5="SELECCIONA TU NOMBRE","",($W$12+$W$14+$W$16+$W$18+$W$20+$W$22+$W$26+$W$28+$W$30+$W$32+$W$34+$W$36)) -> 0 | AQ16: =IF($C$5="SELECCIONA TU NOMBRE","",($W$12+$W$14+$W$16+$W$18+$W$20+$W$22+$W$26+$W$28+$W$30+$W$32+$W$34+$W$36+200)) -> 200 | BB16: x
BB17: x
C18: Kit Plus | G18: 249 € a 498 € | K18: 250 | L18: 0 | N18: 0 | P18: 0 | R18: 0 | T18: 0 | V18: =T18+R18+P18+N18+L18 -> 0 | W18: =$V18*$K18 -> 0 | X18: =$L18+$N18 -> 0 | Y18: =$X18*$K18 -> 0 | BB18: x
BB19: x
C20: Kit Plus | G20: 499 € a 798 € | K20: 350 | L20: 0 | N20: 0 | P20: 0 | R20: 0 | T20: 0 | V20: =T20+R20+P20+N20+L20 -> 0 | W20: =$V20*$K20 -> 0 | X20: =$L20+$N20 -> 0 | Y20: =$X20*$K20 -> 0 | AB20: =IF($C$5="SELECCIONA TU NOMBRE","",($V$46+$V$48+$V$50+$V$52+$V$54+$V$56+$V$58+$V$60+$V$62+$V$64+$V$66+$V$68+$V$70+$V$72+$V$74+$V$76)) -> 0 | AD20: Elementos Extra: | AG20: =IF($C$5="SELECCIONA TU NOMBRE","",($W$46+$W$48+$W$50+$W$52+$W$54+$W$56+$W$58+$W$60+$W$62+$W$64+$W$66+$W$68+$W$70+$W$72+$W$74+$W$76)) -> 0 | AQ20: =AG20 -> 0 | BB20: x
BB21: x
C22: Kit Plus | G22: 799 € o más | K22: 450 | L22: 0 | N22: 0 | P22: 0 | R22: 0 | T22: 0 | V22: =T22+R22+P22+N22+L22 -> 0 | W22: =$V22*$K22 -> 0 | X22: =$L22+$N22 -> 0 | Y22: =$X22*$K22 -> 0 | BB22: x
BB23: x
C24: Ventas LEAD: | L24: W1 | N24: W2 | P24: W3 | R24: W4 | T24: W5 | V24: Total | AB24: =IF($C$5="SELECCIONA TU NOMBRE","",($V$40+$V$42)) -> 0 | AD24: Instalaciones: | AG24: =IF($C$5="SELECCIONA TU NOMBRE","",($W$40+$W$42)) -> 0 | AQ24: =AG24 -> 0 | BB24: x
BB25: x
C26: Kit Protección / Smart Business | G26: 149 € a 398 € | K26: 150 | L26: 0 | N26: 0 | P26: 0 | R26: 0 | T26: 0 | V26: =T26+R26+P26+N26+L26 -> 0 | W26: =$V26*$K26 -> 0 | X26: =$L26+$N26 -> 0 | Y26: =$X26*$K26 -> 0 | BB26: x
BB27: x
C28: Kit Protección / Smart Business | G28: 399 € a 698 € | K28: 250 | L28: 0 | N28: 0 | P28: 0 | R28: 0 | T28: 0 | V28: =T28+R28+P28+N28+L28 -> 0 | W28: =$V28*$K28 -> 0 | X28: =$L28+$N28 -> 0 | Y28: =$X28*$K28 -> 0 | AB28: =IF($C$5="SELECCIONA TU NOMBRE","",IF($O$1=0,"",IF(AG28=0,"⚠️"," ✓"))) | AC28: Bonus Ventas Totales: | AG28: =IF($C$5="SELECCIONA TU NOMBRE","",VLOOKUP($BD$155,ValoresBonus!$B$3:$C$28,2,0)) -> 0 | AK28: =IF($C$5="SELECCIONA TU NOMBRE","",IF($O$1=0,"",IF($BD$155<5,"Faltan "&5-$BD$155&" ventas para activar bonus",""))) | AQ28: =IF($C$5="SELECCIONA TU NOMBRE",0,VLOOKUP($BD$155+1,ValoresBonus!$B$3:$C$28,2,0)) -> 0 | BB28: x
BB29: x
C30: Kit Protección / Smart Business | G30: 699 € o más | K30: 350 | L30: 0 | N30: 0 | P30: 0 | R30: 0 | T30: 0 | V30: =T30+R30+P30+N30+L30 -> 0 | W30: =$V30*$K30 -> 0 | X30: =$L30+$N30 -> 0 | Y30: =$X30*$K30 -> 0 | BB30: x
BB31: x
C32: Kit Plus | G32: 249 € a 498 € | K32: 200 | L32: 0 | N32: 0 | P32: 0 | R32: 0 | T32: 0 | V32: =T32+R32+P32+N32+L32 -> 0 | W32: =$V32*$K32 -> 0 | X32: =$L32+$N32 -> 0 | Y32: =$X32*$K32 -> 0 | AB32: =IF($C$5="SELECCIONA TU NOMBRE","",IF($O$1=0,"",IF(AG32=0,"⚠️"," ✓"))) | AC32: Bonus Ventas Propias: | AG32: =IF($C$5="SELECCIONA TU NOMBRE","",$BE$194) -> 0 | AK32: =IF($C$5="SELECCIONA TU NOMBRE","",IF($O$1=0,"",IF($BE$191="No","El minimo para desbloquear el bonus es 5 ventas min (50% propias)",IF($BE$193="No","El minimo para desbloquear el bonus es =>50% propias","")))) | AQ32: =IF($C$5="SELECCIONA TU NOMBRE",0,$BG$194) -> 0 | BB32: x
BB33: x
C34: Kit Plus | G34: 499 € a 798 € | K34: 300 | L34: 0 | N34: 0 | P34: 0 | R34: 0 | T34: 0 | V34: =T34+R34+P34+N34+L34 -> 0 | W34: =$V34*$K34 -> 0 | X34: =$L34+$N34 -> 0 | Y34: =$X34*$K34 -> 0 | BB34: x
BB35: x
C36: Kit Plus | G36: 799 € o más | K36: 400 | L36: 0 | N36: 0 | P36: 0 | R36: 0 | T36: 0 | V36: =T36+R36+P36+N36+L36 -> 0 | W36: =$V36*$K36 -> 0 | X36: =$L36+$N36 -> 0 | Y36: =$X36*$K36 -> 0 | AB36: =IF($C$5="SELECCIONA TU NOMBRE","",IF($O$1=0,"",IF(AK36="No aplica para este bonus","",IF(AG36=0,"⚠️"," ✓")))) | AC36: Bonus de Arranque: | AG36: =IF($C$5="SELECCIONA TU NOMBRE","",$BE$183) -> 0 | AK36: =IF($C$5="SELECCIONA TU NOMBRE","",IF($O$1=0,"",IF($BE$154="No aplica","No aplica para este bonus",IF($BE$181="No","Falta "&$BE$176-$BE$179&" ventas totales y "&$BE$177-$BE$180&" propias para activar bonus",IF(AND($BE$182="No",$BE$181="Si"),"Falta "&$BE$177-$BE$180&" ventas propias para activar bonus",""))))) | AQ36: =IF($C$5="SELECCIONA TU NOMBRE",0,$BG$183) -> 0 | BB36: x
BB37: x
C38: Instalaciones (propias o a compañeros): | L38: W1 | N38: W2 | P38: W3 | R38: W4 | T38: W5 | V38: Total | BB38: x
BB39: x
C40: Kit Protección / Smart Business | K40: 50 | L40: 0 | N40: 0 | P40: 0 | R40: 0 | T40: 0 | V40: =T40+R40+P40+N40+L40 -> 0 | W40: =$V40*$K40 -> 0 | X40: =$L40+$N40 -> 0 | AB40: =IF($C$5="SELECCIONA TU NOMBRE","",IF($O$1=0,"",IF(AK40="No aplica para este bonus","",IF(AG40=0,"⚠️"," ✓")))) | AC40: Bonus Ritmo: | AG40: =IF($C$5="SELECCIONA TU NOMBRE","",$BE$173) -> 0 | AK40: =IF($C$5="SELECCIONA TU NOMBRE", "", IF($O$1=0, "", IF($BD$154="M1", "No aplica para este bonus", IF($BE$166="No", IF($BE$171="Si", "El mes ant no alcanzó el mínimo requerido, este mes alcanza el mínimo requerido que habilita el bonus ritmo del próximo mes", "El mes ant no alcanzó el mínimo requerido y este mes faltan "&$BE$172&" ventas que habilita el bonus ritmo del próximo mes"), IF($BE$171="No", "El mes ant alcanzó el mínimo requerido pero este mes faltan "&$BE$172&" ventas", ""))))) | AQ40: =IF($C$5="SELECCIONA TU NOMBRE",0,$BG$173) -> 0 | BB40: x
BB41: x
C42: Kit Plus | K42: 100 | L42: 0 | N42: 0 | P42: 0 | R42: 0 | T42: 0 | V42: =T42+R42+P42+N42+L42 -> 0 | W42: =$V42*$K42 -> 0 | X42: =$L42+$N42 -> 0 | BB42: x
BB43: x
C44: Elementos Extra Cobrados: | L44: W1 | N44: W2 | P44: W3 | R44: W4 | T44: W5 | V44: Total | AB44: =IF($C$5="SELECCIONA TU NOMBRE","",IF($O$1=0,"",IF(AK44="No aplica para este reconocimiento","",IF(AG44=0,"⚠️"," ✓")))) | AC44: Reconocimiento: | AG44: =IF($C$5="SELECCIONA TU NOMBRE","",$BE$208) -> 0 | AK44: =IF($BE$205>=10,"No aplica para este reconocimiento",IF($O$1=0,"",IF($BE$205>$BE$204,"No aplica para este reconocimiento",IF($BE$207="No","Falta "&$BE$204-$BE$205-$BE$206&" ventas para alcanzar el reconocimiento"," ")))) | AQ44: =IF($C$5="SELECCIONA TU NOMBRE",0,$BG$208) -> 0 | BB44: x
BB45: x
C46: Pack 1 elemento | K46: 10 | L46: 0 | N46: 0 | P46: 0 | R46: 0 | T46: 0 | V46: =T46+R46+P46+N46+L46 -> 0 | W46: =$V46*$K46 -> 0 | X46: =($L46+$N46)*$K46 -> 0 | BB46: x
BB47: x
C48: Pack 2 elementos | K48: 20 | L48: 0 | N48: 0 | P48: 0 | R48: 0 | T48: 0 | V48: =T48+R48+P48+N48+L48 -> 0 | W48: =$V48*$K48 -> 0 | X48: =($L48+$N48)*$K48 -> 0 | AB48: =IF($C$5="SELECCIONA TU NOMBRE","",IF($O$1=0,"",IF(AK48="No aplica para esta comisión","",IF(AG48=0,"⚠️"," ✓")))) | AC48: Team Coach: | AG48: =IF($C$5="SELECCIONA TU NOMBRE","",IF($BE$200="Si",$L$80*$K$80,0)) -> 0 | AK48: =IF($C$5="SELECCIONA TU NOMBRE","",IF($O$1=0,"",IF($BE$197="No","No aplica para esta comisión",IF($BE$200="No","Falta "&$BE$198-$BE$199&" ventas para activar la comision TC de "&$L$80*$K$80&" €"," ")))) | AQ48: =IF($C$5="SELECCIONA TU NOMBRE",0,IF($BE$200="Si",$L$80*$K$80,0)) -> 0 | BB48: x
BB49: x
C50: Pack 3 elementos | K50: 30 | L50: 0 | N50: 0 | P50: 0 | R50: 0 | T50: 0 | V50: =T50+R50+P50+N50+L50 -> 0 | W50: =$V50*$K50 -> 0 | X50: =($L50+$N50)*$K50 -> 0 | BB50: x
BB51: x
C52: Camara 180º | K52: 20 | L52: 0 | N52: 0 | P52: 0 | R52: 0 | T52: 0 | V52: =T52+R52+P52+N52+L52 -> 0 | W52: =$V52*$K52 -> 0 | X52: =($L52+$N52)*$K52 -> 0 | AC52: Early Churn: | AG52: =IF($C$5="SELECCIONA TU NOMBRE","",IFERROR(IF($L$84>0,$L$84*-1,$L$84),0)) -> 0 | AK52: Si tienes EC recuerda de agregar al final de la calculadora el importe informado | AQ52: =AG52 -> 0 | BB52: x
BB53: x
C54: Camara int/ext | K54: 20 | L54: 0 | N54: 0 | P54: 0 | R54: 0 | T54: 0 | V54: =T54+R54+P54+N54+L54 -> 0 | W54: =$V54*$K54 -> 0 | X54: =($L54+$N54)*$K54 -> 0 | BB54: x
BB55: x
C56: Detector de humo | K56: 10 | L56: 0 | N56: 0 | P56: 0 | R56: 0 | T56: 0 | V56: =T56+R56+P56+N56+L56 -> 0 | W56: =$V56*$K56 -> 0 | X56: =($L56+$N56)*$K56 -> 0 | AC56: Excepciones / Bonos: | AG56: =IF($C$5="SELECCIONA TU NOMBRE","",$L$88) -> 0 | AQ56: =AG56 -> 0 | BB56: x
BB57: x
C58: Enchufe inteligente | K58: 10 | L58: 0 | N58: 0 | P58: 0 | R58: 0 | T58: 0 | V58: =T58+R58+P58+N58+L58 -> 0 | W58: =$V58*$K58 -> 0 | X58: =($L58+$N58)*$K58 -> 0 | BB58: x
BB59: x
C60: Fuga de agua | K60: 10 | L60: 0 | N60: 0 | P60: 0 | R60: 0 | T60: 0 | V60: =T60+R60+P60+N60+L60 -> 0 | W60: =$V60*$K60 -> 0 | X60: =($L60+$N60)*$K60 -> 0 | BB60: x
BB61: x
C62: Magnetico | K62: 10 | L62: 0 | N62: 0 | P62: 0 | R62: 0 | T62: 0 | V62: =T62+R62+P62+N62+L62 -> 0 | W62: =$V62*$K62 -> 0 | X62: =($L62+$N62)*$K62 -> 0 | BB62: x
BB63: x
C64: Mando distancia | K64: 10 | L64: 0 | N64: 0 | P64: 0 | R64: 0 | T64: 0 | V64: =T64+R64+P64+N64+L64 -> 0 | W64: =$V64*$K64 -> 0 | X64: =($L64+$N64)*$K64 -> 0 | BB64: x
BB65: x
C66: Pack DVGA2-6 | K66: 20 | L66: 0 | N66: 0 | P66: 0 | R66: 0 | T66: 0 | V66: =T66+R66+P66+N66+L66 -> 0 | W66: =$V66*$K66 -> 0 | X66: =($L66+$N66)*$K66 -> 0 | BB66: x
BB67: x
C68: Pircam | K68: 10 | L68: 0 | N68: 0 | P68: 0 | R68: 0 | T68: 0 | V68: =T68+R68+P68+N68+L68 -> 0 | W68: =$V68*$K68 -> 0 | X68: =($L68+$N68)*$K68 -> 0 | BB68: x
BB69: x
C70: Sirena | K70: 20 | L70: 0 | N70: 0 | P70: 0 | R70: 0 | T70: 0 | V70: =T70+R70+P70+N70+L70 -> 0 | W70: =$V70*$K70 -> 0 | X70: =($L70+$N70)*$K70 -> 0 | BB70: x
BB71: x
C72: Sirena exterior | K72: 30 | L72: 0 | N72: 0 | P72: 0 | R72: 0 | T72: 0 | V72: =T72+R72+P72+N72+L72 -> 0 | W72: =$V72*$K72 -> 0 | X72: =($L72+$N72)*$K72 -> 0 | BB72: x
BB73: x
C74: Teclado | K74: 30 | L74: 0 | N74: 0 | P74: 0 | R74: 0 | T74: 0 | V74: =T74+R74+P74+N74+L74 -> 0 | W74: =$V74*$K74 -> 0 | X74: =($L74+$N74)*$K74 -> 0 | BB74: x
BB75: x
C76: Voice unit | K76: 20 | L76: 0 | N76: 0 | P76: 0 | R76: 0 | T76: 0 | V76: =T76+R76+P76+N76+L76 -> 0 | W76: =$V76*$K76 -> 0 | X76: =($L76+$N76)*$K76 -> 0 | BB76: x
BB77: x
C78: Team Coach: | BB78: x
BB79: x
C80: Ventas Equipo | K80: 30 | L80: 0 | BB80: x
BB81: x
C82: Early Churn: | BB82: x
BB83: x
C84: En caso de tener EC ingresa el monto informado: | L84: 0 | BB84: x
BB85: x
C86: Excepciones / Bonos: | BB86: x
BB87: x
C88: Aquí puedes ingresar cualquier valor: | L88: 0 | BB88: x
BB89: x
BB90: x
BB91: x
BB92: x
BB93: x
BB94: x
BB95: x
BB96: x
BB97: x
BB98: x
BB99: x
BB100: x
...

Sheet 11
B1: 1 | C1: =Inicio!$C$10&Inicio!$C$15&'11'!$B$1 -> diciembre1 | O1: =SUM(V12:V76) -> 0 | AQ1: =IF($O$1=0,"",IF($C$5="SELECCIONA TU NOMBRE","",IF(OR($BD$153="Field Sales Installer",$BD$153="Team Coach"),IF(SUM($AQ$16,$AQ$20,$AQ$24,$AQ$28,$AQ$32,$AQ$36,$AQ$40,$AQ$44,$AQ$48,$AQ$52)<=T5,"No abre comisiones. El mínimo para abrir comisiones es "&T5&" €",""),""))) | BB1: x
AB2: =IF($O$1=0,"",IF($BD$153="Field Sales Installer (NFS)","",IF(OR($BD$153="Field Sales Installer",$BD$153="Team Coach"),IF(SUM($AG$16,$AG$20,$AG$24,$AG$28,$AG$32,$AG$36,$AG$40,$AG$44,$AG$48,$AG$52,$AG$56)<0,"No abre comisiones. Tiene ec. El mín para abrir comisiones es "&T5&" €",IF(SUM($AG$16,$AG$20,$AG$24,$AG$28,$AG$32,$AG$36,$AG$40,$AG$44,$AG$48,$AG$52,$AG$56)<=T5,"No abre comisiones. El mínimo para abrir comisiones es "&T5&"€",""))))) | AQ2: =IF($BD$153="Field Sales Installer (NFS)","comisiones total con 1 VP más",IF(OR($BD$153="Field Sales Installer",$BD$153="Team Coach"),IF(SUM($AQ$16,$AQ$20,$AQ$24,$AQ$28,$AQ$32,$AQ$36,$AQ$40,$AQ$44,$AQ$48,$AQ$52)<=T5,"generado total con 1 VP más","comisiones total con 1 VP más"),"")) -> comisiones total con 1 VP más | BB2: x
BB3: x
C4: ="¡Hola "&IFERROR(VLOOKUP(Inicio!$C$20,ListaDespelgable!$C$2:$D$11,2,0),"")&"! Selecciona el nombre del FSR:" -> ¡Hola ! Selecciona el nombre del FSR: | K4: =IF(C5="FSR NUEVO","Puedes escribir aquí su nombre:","") | AB4: =IF($BD$153="Field Sales Installer (NFS)"," Comisión Generada:"," Comisión a Cobrar:") -> Comisión Generada: | AG4: =IF(SUM($AG$16,$AG$20,$AG$24,$AG$28,$AG$32,$AG$36,$AG$40,$AG$44,$AG$48,$AG$52,$AG$56)<0,0,IF(OR($BD$153="Field Sales Installer",$BD$153="Team Coach"),IF(SUM($AG$16,$AG$20,$AG$24,$AG$28,$AG$36,$AG$52,$AG$56)>=T5,SUM($AG$16,$AG$20,$AG$24,$AG$28,$AG$32,$AG$36,$AG$40,$AG$44,$AG$48,$AG$52,$AG$56)-T5,0),SUM($AG$16,$AG$20,$AG$24,$AG$28,$AG$32,$AG$36,$AG$40,$AG$44,$AG$48,$AG$52,$AG$56))) -> 0 | BB4: x
T5: =IF($BD$153="Field Sales Installer (NFS)","",VLOOKUP(V5,ValoresBonus!P:Q,2,0)) | V5: 0 | AQ5: =IF($BD$153="Field Sales Installer (NFS)",SUM($AQ$16,$AQ$20,$AQ$24,$AQ$28,$AQ$32,$AQ$36,$AQ$40,$AQ$44,$AQ$48,$AQ$52,$AQ$56),IF(OR($BD$153="Field Sales Installer",$BD$153="Team Coach"),IF(SUM($AQ$16,$AQ$20,$AQ$24,$AQ$28,$AQ$36,$AQ$52,$AQ$56)>=T5,SUM($AQ$16,$AQ$20,$AQ$24,$AQ$28,$AQ$32,$AQ$36,$AQ$40,$AQ$44,$AQ$48,$AQ$52,$AQ$56)-T5,SUM($AQ$16,$AQ$20,$AQ$24,$AQ$28,$AQ$36,$AQ$52,$AQ$56)))) -> 200 | AR5: ="+"&(SUM($AQ$16,$AQ$20,$AQ$24,$AQ$28,$AQ$32,$AQ$36,$AQ$40,$AQ$44,$AQ$48,$AQ$52,$AQ$56)-SUM($AG$16,$AG$20,$AG$24,$AG$28,$AG$32,$AG$36,$AG$40,$AG$44,$AG$48,$AG$52,$AG$56))&" €" -> +200 € | BB5: x | CC5: =IF(BD153="Field Sales Installer (NFS)","","VACACIONES SALARIO FIJO (semanas completas)")
BB6: x
C7: ="Puesto: "&$BD$150&" | "&"Seniority: "&$BD$154&" | Ventas mes anterior: "&$BD$157 -> Puesto: NFS | Seniority: M1 | Ventas mes anterior: 0 | V7: NO | W7: SI | AB7: =IF($BD$153="Field Sales Installer (NFS)"," Primer Tramo:"," Base para Abrir Comisiones:") -> Primer Tramo: | AG7: =IF($BD$153="Field Sales Installer (NFS)",BO170,T5) -> 0 | BB7: x
L8: =IF($BD$153="Field Sales Installer (NFS)","PRIMER TRAMO","") -> PRIMER TRAMO | P8: =IF($BD$153="Field Sales Installer (NFS)","SEGUNDO TRAMO","") -> SEGUNDO TRAMO | W8: NO | BB8: x
BB9: x
C10: Ventas COLD DOOR / REF: | L10: W1 | N10: W2 | P10: W3 | R10: W4 | T10: W5 | V10: Total | AB10: =IF($BD$153="Field Sales Installer (NFS)",""," Resultado:") | AF10: =IF($BD$153="Field Sales Installer (NFS)","",IF($AG$12>=$AG$7,"Abre Comisiones","No Abre Comisiones")) | AQ10: =IF($BD$153="Field Sales Installer (NFS)",Inicio!$J$2,"") -> Periodo desde: 1/12 al 14/12 | Fecha pago: 18/12 | BB10: x
BB11: x
C12: Kit Protección / Smart Business | G12: 149 € a 398 € | K12: 200 | L12: 0 | N12: 0 | P12: 0 | R12: 0 | T12: 0 | V12: =T12+R12+P12+N12+L12 -> 0 | W12: =$V12*$K12 -> 0 | X12: =$L12+$N12 -> 0 | Y12: =$X12*$K12 -> 0 | AB12: =IF($BD$153="Field Sales Installer (NFS)"," Segundo Tramo:"," Generado:") -> Segundo Tramo: | AG12: =IF($BD$153="Field Sales Installer (NFS)",($AG$4-$AG$7),(AG16+AG20+AG24+AG28+AG32+AG36+AG40+AG44+AG48+AG52+AG56)) -> 0 | BB12: x
AQ13: =IF($BD$153="Field Sales Installer (NFS)",Inicio!$J$4,"") -> Fecha pago: 31/12 | BB13: x
C14: Kit Protección / Smart Business | G14: 399 € a 698 € | K14: 300 | L14: 0 | N14: 0 | P14: 0 | R14: 0 | T14: 0 | V14: =T14+R14+P14+N14+L14 -> 0 | W14: =$V14*$K14 -> 0 | X14: =$L14+$N14 -> 0 | Y14: =$X14*$K14 -> 0 | AK14: =$AR$5 -> +200 € | BB14: x
BB15: x
C16: Kit Protección / Smart Business | G16: 699 € o más | K16: 400 | L16: 0 | N16: 0 | P16: 0 | R16: 0 | T16: 0 | V16: =T16+R16+P16+N16+L16 -> 0 | W16: =$V16*$K16 -> 0 | X16: =$L16+$N16 -> 0 | Y16: =$X16*$K16 -> 0 | AB16: =IF($C$5="SELECCIONA TU NOMBRE","",($V$12+$V$14+$V$16+$V$18+$V$20+$V$22+$V$26+$V$28+$V$30+$V$32+$V$34+$V$36)) -> 0 | AD16: Ventas Totales: | AG16: =IF($C$5="SELECCIONA TU NOMBRE","",($W$12+$W$14+$W$16+$W$18+$W$20+$W$22+$W$26+$W$28+$W$30+$W$32+$W$34+$W$36)) -> 0 | AQ16: =IF($C$5="SELECCIONA TU NOMBRE","",($W$12+$W$14+$W$16+$W$18+$W$20+$W$22+$W$26+$W$28+$W$30+$W$32+$W$34+$W$36+200)) -> 200 | BB16: x
BB17: x
C18: Kit Plus | G18: 249 € a 498 € | K18: 250 | L18: 0 | N18: 0 | P18: 0 | R18: 0 | T18: 0 | V18: =T18+R18+P18+N18+L18 -> 0 | W18: =$V18*$K18 -> 0 | X18: =$L18+$N18 -> 0 | Y18: =$X18*$K18 -> 0 | BB18: x
BB19: x
C20: Kit Plus | G20: 499 € a 798 € | K20: 350 | L20: 0 | N20: 0 | P20: 0 | R20: 0 | T20: 0 | V20: =T20+R20+P20+N20+L20 -> 0 | W20: =$V20*$K20 -> 0 | X20: =$L20+$N20 -> 0 | Y20: =$X20*$K20 -> 0 | AB20: =IF($C$5="SELECCIONA TU NOMBRE","",($V$46+$V$48+$V$50+$V$52+$V$54+$V$56+$V$58+$V$60+$V$62+$V$64+$V$66+$V$68+$V$70+$V$72+$V$74+$V$76)) -> 0 | AD20: Elementos Extra: | AG20: =IF($C$5="SELECCIONA TU NOMBRE","",($W$46+$W$48+$W$50+$W$52+$W$54+$W$56+$W$58+$W$60+$W$62+$W$64+$W$66+$W$68+$W$70+$W$72+$W$74+$W$76)) -> 0 | AQ20: =AG20 -> 0 | BB20: x
BB21: x
C22: Kit Plus | G22: 799 € o más | K22: 450 | L22: 0 | N22: 0 | P22: 0 | R22: 0 | T22: 0 | V22: =T22+R22+P22+N22+L22 -> 0 | W22: =$V22*$K22 -> 0 | X22: =$L22+$N22 -> 0 | Y22: =$X22*$K22 -> 0 | BB22: x
BB23: x
C24: Ventas LEAD: | L24: W1 | N24: W2 | P24: W3 | R24: W4 | T24: W5 | V24: Total | AB24: =IF($C$5="SELECCIONA TU NOMBRE","",($V$40+$V$42)) -> 0 | AD24: Instalaciones: | AG24: =IF($C$5="SELECCIONA TU NOMBRE","",($W$40+$W$42)) -> 0 | AQ24: =AG24 -> 0 | BB24: x
BB25: x
C26: Kit Protección / Smart Business | G26: 149 € a 398 € | K26: 150 | L26: 0 | N26: 0 | P26: 0 | R26: 0 | T26: 0 | V26: =T26+R26+P26+N26+L26 -> 0 | W26: =$V26*$K26 -> 0 | X26: =$L26+$N26 -> 0 | Y26: =$X26*$K26 -> 0 | BB26: x
BB27: x
C28: Kit Protección / Smart Business | G28: 399 € a 698 € | K28: 250 | L28: 0 | N28: 0 | P28: 0 | R28: 0 | T28: 0 | V28: =T28+R28+P28+N28+L28 -> 0 | W28: =$V28*$K28 -> 0 | X28: =$L28+$N28 -> 0 | Y28: =$X28*$K28 -> 0 | AB28: =IF($C$5="SELECCIONA TU NOMBRE","",IF($O$1=0,"",IF(AG28=0,"⚠️"," ✓"))) | AC28: Bonus Ventas Totales: | AG28: =IF($C$5="SELECCIONA TU NOMBRE","",VLOOKUP($BD$155,ValoresBonus!$B$3:$C$28,2,0)) -> 0 | AK28: =IF($C$5="SELECCIONA TU NOMBRE","",IF($O$1=0,"",IF($BD$155<5,"Faltan "&5-$BD$155&" ventas para activar bonus",""))) | AQ28: =IF($C$5="SELECCIONA TU NOMBRE",0,VLOOKUP($BD$155+1,ValoresBonus!$B$3:$C$28,2,0)) -> 0 | BB28: x
BB29: x
C30: Kit Protección / Smart Business | G30: 699 € o más | K30: 350 | L30: 0 | N30: 0 | P30: 0 | R30: 0 | T30: 0 | V30: =T30+R30+P30+N30+L30 -> 0 | W30: =$V30*$K30 -> 0 | X30: =$L30+$N30 -> 0 | Y30: =$X30*$K30 -> 0 | BB30: x
BB31: x
C32: Kit Plus | G32: 249 € a 498 € | K32: 200 | L32: 0 | N32: 0 | P32: 0 | R32: 0 | T32: 0 | V32: =T32+R32+P32+N32+L32 -> 0 | W32: =$V32*$K32 -> 0 | X32: =$L32+$N32 -> 0 | Y32: =$X32*$K32 -> 0 | AB32: =IF($C$5="SELECCIONA TU NOMBRE","",IF($O$1=0,"",IF(AG32=0,"⚠️"," ✓"))) | AC32: Bonus Ventas Propias: | AG32: =IF($C$5="SELECCIONA TU NOMBRE","",$BE$194) -> 0 | AK32: =IF($C$5="SELECCIONA TU NOMBRE","",IF($O$1=0,"",IF($BE$191="No","El minimo para desbloquear el bonus es 5 ventas min (50% propias)",IF($BE$193="No","El minimo para desbloquear el bonus es =>50% propias","")))) | AQ32: =IF($C$5="SELECCIONA TU NOMBRE",0,$BG$194) -> 0 | BB32: x
BB33: x
C34: Kit Plus | G34: 499 € a 798 € | K34: 300 | L34: 0 | N34: 0 | P34: 0 | R34: 0 | T34: 0 | V34: =T34+R34+P34+N34+L34 -> 0 | W34: =$V34*$K34 -> 0 | X34: =$L34+$N34 -> 0 | Y34: =$X34*$K34 -> 0 | BB34: x
BB35: x
C36: Kit Plus | G36: 799 € o más | K36: 400 | L36: 0 | N36: 0 | P36: 0 | R36: 0 | T36: 0 | V36: =T36+R36+P36+N36+L36 -> 0 | W36: =$V36*$K36 -> 0 | X36: =$L36+$N36 -> 0 | Y36: =$X36*$K36 -> 0 | AB36: =IF($C$5="SELECCIONA TU NOMBRE","",IF($O$1=0,"",IF(AK36="No aplica para este bonus","",IF(AG36=0,"⚠️"," ✓")))) | AC36: Bonus de Arranque: | AG36: =IF($C$5="SELECCIONA TU NOMBRE","",$BE$183) -> 0 | AK36: =IF($C$5="SELECCIONA TU NOMBRE","",IF($O$1=0,"",IF($BE$154="No aplica","No aplica para este bonus",IF($BE$181="No","Falta "&$BE$176-$BE$179&" ventas totales y "&$BE$177-$BE$180&" propias para activar bonus",IF(AND($BE$182="No",$BE$181="Si"),"Falta "&$BE$177-$BE$180&" ventas propias para activar bonus",""))))) | AQ36: =IF($C$5="SELECCIONA TU NOMBRE",0,$BG$183) -> 0 | BB36: x
BB37: x
C38: Instalaciones (propias o a compañeros): | L38: W1 | N38: W2 | P38: W3 | R38: W4 | T38: W5 | V38: Total | BB38: x
BB39: x
C40: Kit Protección / Smart Business | K40: 50 | L40: 0 | N40: 0 | P40: 0 | R40: 0 | T40: 0 | V40: =T40+R40+P40+N40+L40 -> 0 | W40: =$V40*$K40 -> 0 | X40: =$L40+$N40 -> 0 | AB40: =IF($C$5="SELECCIONA TU NOMBRE","",IF($O$1=0,"",IF(AK40="No aplica para este bonus","",IF(AG40=0,"⚠️"," ✓")))) | AC40: Bonus Ritmo: | AG40: =IF($C$5="SELECCIONA TU NOMBRE","",$BE$173) -> 0 | AK40: =IF($C$5="SELECCIONA TU NOMBRE", "", IF($O$1=0, "", IF($BD$154="M1", "No aplica para este bonus", IF($BE$166="No", IF($BE$171="Si", "El mes ant no alcanzó el mínimo requerido, este mes alcanza el mínimo requerido que habilita el bonus ritmo del próximo mes", "El mes ant no alcanzó el mínimo requerido y este mes faltan "&$BE$172&" ventas que habilita el bonus ritmo del próximo mes"), IF($BE$171="No", "El mes ant alcanzó el mínimo requerido pero este mes faltan "&$BE$172&" ventas", ""))))) | AQ40: =IF($C$5="SELECCIONA TU NOMBRE",0,$BG$173) -> 0 | BB40: x
BB41: x
C42: Kit Plus | K42: 100 | L42: 0 | N42: 0 | P42: 0 | R42: 0 | T42: 0 | V42: =T42+R42+P42+N42+L42 -> 0 | W42: =$V42*$K42 -> 0 | X42: =$L42+$N42 -> 0 | BB42: x
BB43: x
C44: Elementos Extra Cobrados: | L44: W1 | N44: W2 | P44: W3 | R44: W4 | T44: W5 | V44: Total | AB44: =IF($C$5="SELECCIONA TU NOMBRE","",IF($O$1=0,"",IF(AK44="No aplica para este reconocimiento","",IF(AG44=0,"⚠️"," ✓")))) | AC44: Reconocimiento: | AG44: =IF($C$5="SELECCIONA TU NOMBRE","",$BE$208) -> 0 | AK44: =IF($BE$205>=10,"No aplica para este reconocimiento",IF($O$1=0,"",IF($BE$205>$BE$204,"No aplica para este reconocimiento",IF($BE$207="No","Falta "&$BE$204-$BE$205-$BE$206&" ventas para alcanzar el reconocimiento"," ")))) | AQ44: =IF($C$5="SELECCIONA TU NOMBRE",0,$BG$208) -> 0 | BB44: x
BB45: x
C46: Pack 1 elemento | K46: 10 | L46: 0 | N46: 0 | P46: 0 | R46: 0 | T46: 0 | V46: =T46+R46+P46+N46+L46 -> 0 | W46: =$V46*$K46 -> 0 | X46: =($L46+$N46)*$K46 -> 0 | BB46: x
BB47: x
C48: Pack 2 elementos | K48: 20 | L48: 0 | N48: 0 | P48: 0 | R48: 0 | T48: 0 | V48: =T48+R48+P48+N48+L48 -> 0 | W48: =$V48*$K48 -> 0 | X48: =($L48+$N48)*$K48 -> 0 | AB48: =IF($C$5="SELECCIONA TU NOMBRE","",IF($O$1=0,"",IF(AK48="No aplica para esta comisión","",IF(AG48=0,"⚠️"," ✓")))) | AC48: Team Coach: | AG48: =IF($C$5="SELECCIONA TU NOMBRE","",IF($BE$200="Si",$L$80*$K$80,0)) -> 0 | AK48: =IF($C$5="SELECCIONA TU NOMBRE","",IF($O$1=0,"",IF($BE$197="No","No aplica para esta comisión",IF($BE$200="No","Falta "&$BE$198-$BE$199&" ventas para activar la comision TC de "&$L$80*$K$80&" €"," ")))) | AQ48: =IF($C$5="SELECCIONA TU NOMBRE",0,IF($BE$200="Si",$L$80*$K$80,0)) -> 0 | BB48: x
BB49: x
C50: Pack 3 elementos | K50: 30 | L50: 0 | N50: 0 | P50: 0 | R50: 0 | T50: 0 | V50: =T50+R50+P50+N50+L50 -> 0 | W50: =$V50*$K50 -> 0 | X50: =($L50+$N50)*$K50 -> 0 | BB50: x
BB51: x
C52: Camara 180º | K52: 20 | L52: 0 | N52: 0 | P52: 0 | R52: 0 | T52: 0 | V52: =T52+R52+P52+N52+L52 -> 0 | W52: =$V52*$K52 -> 0 | X52: =($L52+$N52)*$K52 -> 0 | AC52: Early Churn: | AG52: =IF($C$5="SELECCIONA TU NOMBRE","",IFERROR(IF($L$84>0,$L$84*-1,$L$84),0)) -> 0 | AK52: Si tienes EC recuerda de agregar al final de la calculadora el importe informado | AQ52: =AG52 -> 0 | BB52: x
BB53: x
C54: Camara int/ext | K54: 20 | L54: 0 | N54: 0 | P54: 0 | R54: 0 | T54: 0 | V54: =T54+R54+P54+N54+L54 -> 0 | W54: =$V54*$K54 -> 0 | X54: =($L54+$N54)*$K54 -> 0 | BB54: x
BB55: x
